BEGIN:VCALENDAR
VERSION:2.0
PRODID:-//The New York Society for Ethical Culture - ECPv6.15.18//NONSGML v1.0//EN
CALSCALE:GREGORIAN
METHOD:PUBLISH
X-ORIGINAL-URL:https://ethical.nyc
X-WR-CALDESC:Events for The New York Society for Ethical Culture
REFRESH-INTERVAL;VALUE=DURATION:PT1H
X-Robots-Tag:noindex
X-PUBLISHED-TTL:PT1H
BEGIN:VTIMEZONE
TZID:America/New_York
BEGIN:DAYLIGHT
TZOFFSETFROM:-0500
TZOFFSETTO:-0400
TZNAME:EDT
DTSTART:20210314T070000
END:DAYLIGHT
BEGIN:STANDARD
TZOFFSETFROM:-0400
TZOFFSETTO:-0500
TZNAME:EST
DTSTART:20211107T060000
END:STANDARD
BEGIN:DAYLIGHT
TZOFFSETFROM:-0500
TZOFFSETTO:-0400
TZNAME:EDT
DTSTART:20220313T070000
END:DAYLIGHT
BEGIN:STANDARD
TZOFFSETFROM:-0400
TZOFFSETTO:-0500
TZNAME:EST
DTSTART:20221106T060000
END:STANDARD
BEGIN:DAYLIGHT
TZOFFSETFROM:-0500
TZOFFSETTO:-0400
TZNAME:EDT
DTSTART:20230312T070000
END:DAYLIGHT
BEGIN:STANDARD
TZOFFSETFROM:-0400
TZOFFSETTO:-0500
TZNAME:EST
DTSTART:20231105T060000
END:STANDARD
END:VTIMEZONE
BEGIN:VEVENT
DTSTART;TZID=America/New_York:20220103T110000
DTEND;TZID=America/New_York:20220103T120000
DTSTAMP:20260420T224859
CREATED:20211213T185630Z
LAST-MODIFIED:20220102T220647Z
UID:10005175-1641207600-1641211200@ethical.nyc
SUMMARY:Share and Learn: Topics in Medicine\, Mental Health\, Science\, and Ethics w/ Dr. Carol Portlock (Online)
DESCRIPTION:Thanks to vaccines and medical innovation\, we are gradually moving away from the Covid pandemic. Retired oncologist Carol Portlock will discuss the new and intriguing science that lies ahead\, including Covid. Clinical psychologist Frank Corigliano will continue to address your concerns about managing day-to-day during this trying time. \nSuggested readings: \nOmicronVirus genotype and immunity implicationshttps://www.nytimes.com/2021/12/28/health/covid-omicron-antibodies-delta.htmlLung involvement may be limitedhttps://www.nytimes.com/2021/12/31/health/covid-omicron-lung-cells.htmlNew antiviral pills approvedhttps://www.npr.org/sections/health-shots/2021/12/31/1069323181/covid-antivirals-paxlovid-molnupiravirCRISPR gene editing may have long-lasting benefits in sickle cell anemiahttps://www.npr.org/sections/health-shots/2021/12/31/1067400512/first-sickle-cell-patient-treated-with-crispr-gene-editing-still-thriving \nClick here to join at start time | ID 814 7073 5630 | Passcode 158119\n \n\nYou can download Zoom at https://zoom.us/download\, although it’s not necessary to do ahead of time. Zoom is available for tablets and smartphones in both main app stores\, Apple and Google Android. Attendees don’t need to register for a Zoom account although it’s free and helpful. To join a meeting\, simply click the event’s invitation link above.
URL:https://ethical.nyc/events/share-and-learn/
CATEGORIES:Share and Learn
ATTACH;FMTTYPE=image/jpeg:https://ethical.nyc/wp-content/uploads/2020/03/mosaic.jpg
END:VEVENT
END:VCALENDAR