BEGIN:VCALENDAR
VERSION:2.0
PRODID:-//The New York Society for Ethical Culture - ECPv6.15.18//NONSGML v1.0//EN
CALSCALE:GREGORIAN
METHOD:PUBLISH
X-WR-CALNAME:The New York Society for Ethical Culture
X-ORIGINAL-URL:https://ethical.nyc
X-WR-CALDESC:Events for The New York Society for Ethical Culture
REFRESH-INTERVAL;VALUE=DURATION:PT1H
X-Robots-Tag:noindex
X-PUBLISHED-TTL:PT1H
BEGIN:VTIMEZONE
TZID:America/New_York
BEGIN:DAYLIGHT
TZOFFSETFROM:-0500
TZOFFSETTO:-0400
TZNAME:EDT
DTSTART:20210314T070000
END:DAYLIGHT
BEGIN:STANDARD
TZOFFSETFROM:-0400
TZOFFSETTO:-0500
TZNAME:EST
DTSTART:20211107T060000
END:STANDARD
BEGIN:DAYLIGHT
TZOFFSETFROM:-0500
TZOFFSETTO:-0400
TZNAME:EDT
DTSTART:20220313T070000
END:DAYLIGHT
BEGIN:STANDARD
TZOFFSETFROM:-0400
TZOFFSETTO:-0500
TZNAME:EST
DTSTART:20221106T060000
END:STANDARD
BEGIN:DAYLIGHT
TZOFFSETFROM:-0500
TZOFFSETTO:-0400
TZNAME:EDT
DTSTART:20230312T070000
END:DAYLIGHT
BEGIN:STANDARD
TZOFFSETFROM:-0400
TZOFFSETTO:-0500
TZNAME:EST
DTSTART:20231105T060000
END:STANDARD
END:VTIMEZONE
BEGIN:VEVENT
DTSTART;TZID=America/New_York:20220127T120000
DTEND;TZID=America/New_York:20220127T133000
DTSTAMP:20260423T173954
CREATED:20211213T185357Z
LAST-MODIFIED:20220126T200627Z
UID:10005161-1643284800-1643290200@ethical.nyc
SUMMARY:Leader’s Roundtable: What to Do with The Criminal (In)Justice System? (Hybrid)
DESCRIPTION:Bring your lunch and join Leader Dr. Nori Rost and members for an engaging round-table discussion on the issues of the day and recommended readings. \nIn a nod to our banner’s theme for January\, these articles explore biases implicit in the CJS and ideas on how to change things. \nDeath penalty can express society’s outrage – but biases often taint the verdict (theconversation.com) \nFormerly incarcerated teens share their research and ideas on how to improve the juvenile justice system (theconversation.com) \nOn 50th anniversary of Attica uprising\, 4 essential reads on prisoners’ rights today (theconversation.com) \nClick to join at start time | Zoom ID 861 1417 5760 | Passcode 347145 \nCOVID-19 NOTICE: Only fully-vaccinated Society members are invited to attend in-person. All others are invited to join us via Zoom. We hope to open up to the public again as soon as possible. \n\nYou can download Zoom at https://zoom.us/download\, although it’s not necessary to do ahead of time. Zoom is available for tablets and smartphones in both main app stores\, Apple and Google Android. Attendees don’t need to register for a Zoom account although it’s free and helpful. To join a meeting\, simply click the event’s invitation link above.
URL:https://ethical.nyc/events/leaders-roundtable-3-2022-01-27/
LOCATION:Adler Study (514)\, 2 W 64th St.\, New York\, NY\, 10023\, United States
ATTACH;FMTTYPE=image/jpeg:https://ethical.nyc/wp-content/uploads/2020/03/mosaic.jpg
END:VEVENT
BEGIN:VEVENT
DTSTART;TZID=America/New_York:20220127T170000
DTEND;TZID=America/New_York:20220127T180000
DTSTAMP:20260423T173954
CREATED:20220104T223139Z
LAST-MODIFIED:20220104T223304Z
UID:10004227-1643302800-1643306400@ethical.nyc
SUMMARY:Getting to Know You (Online)
DESCRIPTION:In this session\, two members dialogue with one another (or with one of the moderators). The “dialogue partners” respond to 4 or 5 questions they themselves have chosen (about growing up\, career\, interests\, adventures\, etc.; plus one about being a member of NYSEC). It’s all part of getting to know our Ethical Culture family in a comfortable\, casual way. Larry Hurst & Elinore Kaplan moderate. 4th Thursdays. \nThis month’s dialogue partners are Vince Brancato and Howard Rose. \nNotice: This session is limited to Society Members. The session’s join link will be provided to Members via email. \nIf you’d like to be a dialogue partner at one of our programs\, Email editor Elinore Kaplan at Outlook at: ethicaloutlook@gmail.com
URL:https://ethical.nyc/events/getting-to-know-you-online-9/
LOCATION:NY
CATEGORIES:Getting to Know You
ATTACH;FMTTYPE=image/jpeg:https://ethical.nyc/wp-content/uploads/2020/03/mosaic.jpg
END:VEVENT
END:VCALENDAR