BEGIN:VCALENDAR
VERSION:2.0
PRODID:-//The New York Society for Ethical Culture - ECPv6.15.18//NONSGML v1.0//EN
CALSCALE:GREGORIAN
METHOD:PUBLISH
X-WR-CALNAME:The New York Society for Ethical Culture
X-ORIGINAL-URL:https://ethical.nyc
X-WR-CALDESC:Events for The New York Society for Ethical Culture
REFRESH-INTERVAL;VALUE=DURATION:PT1H
X-Robots-Tag:noindex
X-PUBLISHED-TTL:PT1H
BEGIN:VTIMEZONE
TZID:America/New_York
BEGIN:DAYLIGHT
TZOFFSETFROM:-0500
TZOFFSETTO:-0400
TZNAME:EDT
DTSTART:20210314T070000
END:DAYLIGHT
BEGIN:STANDARD
TZOFFSETFROM:-0400
TZOFFSETTO:-0500
TZNAME:EST
DTSTART:20211107T060000
END:STANDARD
BEGIN:DAYLIGHT
TZOFFSETFROM:-0500
TZOFFSETTO:-0400
TZNAME:EDT
DTSTART:20220313T070000
END:DAYLIGHT
BEGIN:STANDARD
TZOFFSETFROM:-0400
TZOFFSETTO:-0500
TZNAME:EST
DTSTART:20221106T060000
END:STANDARD
BEGIN:DAYLIGHT
TZOFFSETFROM:-0500
TZOFFSETTO:-0400
TZNAME:EDT
DTSTART:20230312T070000
END:DAYLIGHT
BEGIN:STANDARD
TZOFFSETFROM:-0400
TZOFFSETTO:-0500
TZNAME:EST
DTSTART:20231105T060000
END:STANDARD
END:VTIMEZONE
BEGIN:VEVENT
DTSTART;TZID=America/New_York:20220202T190000
DTEND;TZID=America/New_York:20220202T200000
DTSTAMP:20260421T115020
CREATED:20210901T195637Z
LAST-MODIFIED:20220113T025151Z
UID:10005037-1643828400-1643832000@ethical.nyc
SUMMARY:Exploring Ethical Humanism w/ Leader Joe Chuman: "Ethical Culture: The Religion of Duty" (Online)
DESCRIPTION:Felix Adler referred to Ethical Culture as ‘The Religion of Duty\,’ What are our thoughts about our responsibility others? \n*** \nThese discussions of Ethical Culture beliefs and practices explore the history\, ideals\, and current interests of the Ethical Society community and our place in the philosophical/ religious firmament. Moderated by Leader Dr. Richard Koral. \nCOVID-19 NOTICE: Only fully-vaccinated Society members are invited to attend in-person. We hope to open up to the public again as soon as possible. All others are invited to join us online via Zoom. \nClick here to join at start time | ID 814 7073 5630 | Passcode 158119 \n\nYou can download Zoom at https://zoom.us/download\, although it’s not necessary to do ahead of time. Zoom is available for tablets and smartphones in both main app stores\, Apple and Google Android. Attendees don’t need to register for a Zoom account although it’s free and helpful. To join a meeting\, simply click the event’s invitation link above.
URL:https://ethical.nyc/events/exploring-ethical-humanism-hybrid-2022-01-12-2022-02-09/
ATTACH;FMTTYPE=image/jpeg:https://ethical.nyc/wp-content/uploads/2020/03/mosaic.jpg
END:VEVENT
BEGIN:VEVENT
DTSTART;TZID=America/New_York:20220202T190000
DTEND;TZID=America/New_York:20220202T210000
DTSTAMP:20260421T115020
CREATED:20211220T221929Z
LAST-MODIFIED:20220126T052833Z
UID:10004158-1643828400-1643835600@ethical.nyc
SUMMARY:Great Literature Discussion: The Boat by Nam Le\, Stories 1-4 (Online)
DESCRIPTION:With a jaw-dropping versatility of voice and point of view\, The Boat is an extraordinary work of fiction that guides us to the heart of what it means to be human. The seven stories take us across the globe\, from the slums of Colombia to Iowa City; from the streets of Tehran to a foundering vessel in the South China Sea. \nAmong many accolades this book won Australian author Nam Le the 2008 Dylan Thomas Prize\, the world’s top cash prize for young writers. Michiko Kakutani (New York Times) called the opening story “a singular masterpiece.” \nAbout GLD \nLiterary works will be discussed based on what can be found in the text in order to enrich each other’s interpretation of the novel/novella. All are welcome to join and any edition or translation of the book under discussion can be used. Read the work in advance and be prepared to discuss the aspects of interest to you by referring to specific related text and reading it to the group. Moderated by Ethical NYC member Gunther Tielemans. \nFor access information\, please contact Gunther.
URL:https://ethical.nyc/events/great-literature-discussion-2022-02-02/
CATEGORIES:Great Literature Discussions
ATTACH;FMTTYPE=image/jpeg:https://ethical.nyc/wp-content/uploads/2020/03/mosaic.jpg
END:VEVENT
END:VCALENDAR