BEGIN:VCALENDAR
VERSION:2.0
PRODID:-//The New York Society for Ethical Culture - ECPv6.15.18//NONSGML v1.0//EN
CALSCALE:GREGORIAN
METHOD:PUBLISH
X-WR-CALNAME:The New York Society for Ethical Culture
X-ORIGINAL-URL:https://ethical.nyc
X-WR-CALDESC:Events for The New York Society for Ethical Culture
REFRESH-INTERVAL;VALUE=DURATION:PT1H
X-Robots-Tag:noindex
X-PUBLISHED-TTL:PT1H
BEGIN:VTIMEZONE
TZID:America/New_York
BEGIN:DAYLIGHT
TZOFFSETFROM:-0500
TZOFFSETTO:-0400
TZNAME:EDT
DTSTART:20210314T070000
END:DAYLIGHT
BEGIN:STANDARD
TZOFFSETFROM:-0400
TZOFFSETTO:-0500
TZNAME:EST
DTSTART:20211107T060000
END:STANDARD
BEGIN:DAYLIGHT
TZOFFSETFROM:-0500
TZOFFSETTO:-0400
TZNAME:EDT
DTSTART:20220313T070000
END:DAYLIGHT
BEGIN:STANDARD
TZOFFSETFROM:-0400
TZOFFSETTO:-0500
TZNAME:EST
DTSTART:20221106T060000
END:STANDARD
BEGIN:DAYLIGHT
TZOFFSETFROM:-0500
TZOFFSETTO:-0400
TZNAME:EDT
DTSTART:20230312T070000
END:DAYLIGHT
BEGIN:STANDARD
TZOFFSETFROM:-0400
TZOFFSETTO:-0500
TZNAME:EST
DTSTART:20231105T060000
END:STANDARD
END:VTIMEZONE
BEGIN:VEVENT
DTSTART;TZID=America/New_York:20220203T120000
DTEND;TZID=America/New_York:20220203T133000
DTSTAMP:20260423T060513
CREATED:20211213T185357Z
LAST-MODIFIED:20220106T141754Z
UID:10004063-1643889600-1643895000@ethical.nyc
SUMMARY:Leader’s Roundtable: It's the Economy\, Silly (Hybrid)
DESCRIPTION:Bring your lunch and join Leader Dr. Nori Rost and members for an engaging round-table discussion on the issues of the day and recommended readings. \nOkay\, the original word was a little stronger during the Bill Clinton presidential campaign\, but it’s always about the economy! These two articles give insight into how our economy has been affected during the COVID-19 siege\, as well as how inflation (shocking\, not shocking) can disproportionately impact those with the least resources. \nThis week’s readings: \nWhat We Learned About the Economy in 2021 – The New York Times (nytimes.com)\nOpinion | The Missing Data in the Inflation Debate – The New York Times (nytimes.com) \nClick to join at start time | Zoom ID 861 1417 5760 | Passcode 347145 \nCOVID-19 NOTICE: Only fully-vaccinated Society members are invited to attend in-person. All others are invited to join us via Zoom. We hope to open up to the public again as soon as possible. \n\nYou can download Zoom at https://zoom.us/download\, although it’s not necessary to do ahead of time. Zoom is available for tablets and smartphones in both main app stores\, Apple and Google Android. Attendees don’t need to register for a Zoom account although it’s free and helpful. To join a meeting\, simply click the event’s invitation link above.
URL:https://ethical.nyc/events/leaders-roundtable-3-2022-02-03/
LOCATION:Adler Study (514)\, 2 W 64th St.\, New York\, NY\, 10023\, United States
ATTACH;FMTTYPE=image/jpeg:https://ethical.nyc/wp-content/uploads/2020/03/mosaic.jpg
END:VEVENT
END:VCALENDAR