BEGIN:VCALENDAR
VERSION:2.0
PRODID:-//The New York Society for Ethical Culture - ECPv6.15.18//NONSGML v1.0//EN
CALSCALE:GREGORIAN
METHOD:PUBLISH
X-WR-CALNAME:The New York Society for Ethical Culture
X-ORIGINAL-URL:https://ethical.nyc
X-WR-CALDESC:Events for The New York Society for Ethical Culture
REFRESH-INTERVAL;VALUE=DURATION:PT1H
X-Robots-Tag:noindex
X-PUBLISHED-TTL:PT1H
BEGIN:VTIMEZONE
TZID:America/New_York
BEGIN:DAYLIGHT
TZOFFSETFROM:-0500
TZOFFSETTO:-0400
TZNAME:EDT
DTSTART:20210314T070000
END:DAYLIGHT
BEGIN:STANDARD
TZOFFSETFROM:-0400
TZOFFSETTO:-0500
TZNAME:EST
DTSTART:20211107T060000
END:STANDARD
BEGIN:DAYLIGHT
TZOFFSETFROM:-0500
TZOFFSETTO:-0400
TZNAME:EDT
DTSTART:20220313T070000
END:DAYLIGHT
BEGIN:STANDARD
TZOFFSETFROM:-0400
TZOFFSETTO:-0500
TZNAME:EST
DTSTART:20221106T060000
END:STANDARD
BEGIN:DAYLIGHT
TZOFFSETFROM:-0500
TZOFFSETTO:-0400
TZNAME:EDT
DTSTART:20230312T070000
END:DAYLIGHT
BEGIN:STANDARD
TZOFFSETFROM:-0400
TZOFFSETTO:-0500
TZNAME:EST
DTSTART:20231105T060000
END:STANDARD
END:VTIMEZONE
BEGIN:VEVENT
DTSTART;TZID=America/New_York:20220215T110000
DTEND;TZID=America/New_York:20220215T120000
DTSTAMP:20260424T012830
CREATED:20211221T025805Z
LAST-MODIFIED:20220214T065557Z
UID:10005219-1644922800-1644926400@ethical.nyc
SUMMARY:Ethics in the News (Online)
DESCRIPTION:Join in the lively give-and-take on compelling issues and current events and bring your own ideas. Member Joe Fashing moderates. \nTopic and suggested readings TBA! \nClick to join at start | Zoom ID 838 1778 1084 | Passcode 675527 \n\nYou can download Zoom at https://zoom.us/download\, although it’s not necessary to do ahead of time. Zoom is available for tablets and smartphones in both main app stores\, Apple and Google Android. Attendees don’t need to register for a Zoom account although it’s free and helpful. To join a meeting\, simply click the event’s invitation link above.
URL:https://ethical.nyc/events/ethics-in-the-news-online-2022-02-15/
LOCATION:NY
CATEGORIES:Ethics in the News
ATTACH;FMTTYPE=image/jpeg:https://ethical.nyc/wp-content/uploads/2020/03/mosaic.jpg
END:VEVENT
BEGIN:VEVENT
DTSTART;TZID=America/New_York:20220215T170000
DTEND;TZID=America/New_York:20220215T174500
DTSTAMP:20260424T012830
CREATED:20211220T220106Z
LAST-MODIFIED:20230622T183450Z
UID:10004081-1644944400-1644947100@ethical.nyc
SUMMARY:Midweek Meditation (Online)
DESCRIPTION:A midweek meditation for relaxing body and mind. Begins promptly at 5:00pm. Larry Hurst and Sondra Stein moderate. \nClick to join at start | Zoom ID 838 1778 1084 | Passcode 675527 \n\nYou can download Zoom at https://zoom.us/download\, although it’s not necessary to do ahead of time. Zoom is available for tablets and smartphones in both main app stores\, Apple and Google Android. Attendees don’t need to register for a Zoom account although it’s free and helpful. To join a meeting\, simply click the event’s invitation link above. \n(Photo by Nicollazzi Xiong)
URL:https://ethical.nyc/events/midweek-meditation-online/2022-02-15/
LOCATION:2 W 64th St\, New York\, NY\, 10023\, United States
CATEGORIES:Midweek Meditation
ATTACH;FMTTYPE=image/jpeg:https://ethical.nyc/wp-content/uploads/2021/12/meditation_pxl.jpg
END:VEVENT
BEGIN:VEVENT
DTSTART;TZID=America/New_York:20220215T170000
DTEND;TZID=America/New_York:20220215T180000
DTSTAMP:20260424T012830
CREATED:20220126T200422Z
LAST-MODIFIED:20220206T063223Z
UID:10005266-1644944400-1644948000@ethical.nyc
SUMMARY:At Home with the League of Women Voters - Deborah Archer: "Critical Race Theory: What It Is\, What It Isn’t\, and Why It's So Controversial" (Online)
DESCRIPTION:Professor Deborah Archer of NYU and the ACLU will discuss the newfound controversies surrounding Critical Race Theory. \nAbout this event \nIs Critical Race Theory (CRT) a way of understanding how American racism has shaped public policy\, or a divisive discourse that pits people of color against white people\, as some conservatives are espousing? Professor Deborah Archer\, President of the ACLU National Board\, will discuss these controversies and what critical race theory actually is. Plus: an appearance by Regina Tillman\, Chair of the NYS League’s Diversity Equality and Inclusion Task Force. \nSpeakers: \nProfessor Deborah N. Archer is an American civil rights lawyer and law professor. She is the Jacob K. Javits Professor at New York University and professor of clinical law at New York University School of Law. She is also the President of the American Civil Liberties Union National Board. \nRegina Tillman\, Chair of the NY State League’s Diversity\, Equality\, and Inclusion Task Force will discuss the program\, which identifies groups that are socially and politically excluded from political and social interests\, and how it is offering the League insight into bias and discrimination. \nClick here to RSVP on Eventbrite!
URL:https://ethical.nyc/events/at-home-with-the-league-of-women-voters-deborah-archer-critical-race-theory-what-it-is-what-it-isnt-and-why-its-so-controversial-online/
LOCATION:NY
CATEGORIES:League of Women Voters
ATTACH;FMTTYPE=image/jpeg:https://ethical.nyc/wp-content/uploads/2022/01/archer_lwv.jpeg
END:VEVENT
BEGIN:VEVENT
DTSTART;TZID=America/New_York:20220215T183000
DTEND;TZID=America/New_York:20220215T183000
DTSTAMP:20260424T012830
CREATED:20211222T204154Z
LAST-MODIFIED:20240125T204247Z
UID:10004177-1644949800-1644949800@ethical.nyc
SUMMARY:Amnesty International NYC Groups 9 & 280 Monthly Meeting
DESCRIPTION:Amnesty International NYC Groups 9 and 280\, a Society Affinity Group that has been working with our Ethical Action committee for several years\, will be holding their meetings on the third Tuesday of every month. Until further notice\, all sessions will now be online. \nFor years Amnesty group members and Society members have worked in our meeting house and elsewhere to hold educational events\, letter-writing campaigns\, and other activities related to advancing Human Rights.  If you are interested in attending\, please contact Amnesty coordinator Paul Pavese at PPAVESE@jhmc.org to make sure we have sufficient seating for all.
URL:https://ethical.nyc/events/amnesty-international-nyc-groups-9-280-monthly-meeting-2022-02-15/2022-02-15/
LOCATION:Room 508\, 2 West 64th Street\, New York\, NY\, 10023\, United States
ATTACH;FMTTYPE=image/jpeg:https://ethical.nyc/wp-content/uploads/2021/11/amnesty-rm507.jpeg
END:VEVENT
BEGIN:VEVENT
DTSTART;TZID=America/New_York:20220215T190000
DTEND;TZID=America/New_York:20220215T200000
DTSTAMP:20260424T012830
CREATED:20211222T215553Z
LAST-MODIFIED:20220214T064240Z
UID:10004190-1644951600-1644955200@ethical.nyc
SUMMARY:Camaraderie and Good Conversation with Leader Joe Chuman: "Whoopi Goldberg's American Idea of Race" (Online)
DESCRIPTION:Leader Dr. Joe Chuman leads this monthly discussion group focusing on contemporary issues and occasionally classical writings relating to Ethical Culture and Humanism. We will primarily make use of articles from journals of opinion and book chapters when relevant. Rather than taking a merely journalistic approach\, the discussions will aim to illuminate the philosophical concepts and values which underlie the issues being discussed. 3rd Tuesdays. \nSuggested readings: \nWhoopi Goldberg’s American Idea of Race – by Adam Serwer – The Atlantic \nClick here to join at start time | ID 853 3773 6864 | Passcode 708211\n \n\nYou can download Zoom at https://zoom.us/download\, although it’s not necessary to do ahead of time. Zoom is available for tablets and smartphones in both main app stores\, Apple and Google Android. Attendees don’t need to register for a Zoom account although it’s free and helpful. To join a meeting\, simply click the event’s invitation link above.
URL:https://ethical.nyc/events/camaraderie-and-good-conversation-with-leader-joe-chuman-online-2022-02-15/
LOCATION:NY
ATTACH;FMTTYPE=image/jpeg:https://ethical.nyc/wp-content/uploads/2019/05/joechuman2-e1635222778648.jpeg
END:VEVENT
END:VCALENDAR