BEGIN:VCALENDAR
VERSION:2.0
PRODID:-//The New York Society for Ethical Culture - ECPv6.15.18//NONSGML v1.0//EN
CALSCALE:GREGORIAN
METHOD:PUBLISH
X-ORIGINAL-URL:https://ethical.nyc
X-WR-CALDESC:Events for The New York Society for Ethical Culture
REFRESH-INTERVAL;VALUE=DURATION:PT1H
X-Robots-Tag:noindex
X-PUBLISHED-TTL:PT1H
BEGIN:VTIMEZONE
TZID:America/New_York
BEGIN:DAYLIGHT
TZOFFSETFROM:-0500
TZOFFSETTO:-0400
TZNAME:EDT
DTSTART:20210314T070000
END:DAYLIGHT
BEGIN:STANDARD
TZOFFSETFROM:-0400
TZOFFSETTO:-0500
TZNAME:EST
DTSTART:20211107T060000
END:STANDARD
BEGIN:DAYLIGHT
TZOFFSETFROM:-0500
TZOFFSETTO:-0400
TZNAME:EDT
DTSTART:20220313T070000
END:DAYLIGHT
BEGIN:STANDARD
TZOFFSETFROM:-0400
TZOFFSETTO:-0500
TZNAME:EST
DTSTART:20221106T060000
END:STANDARD
BEGIN:DAYLIGHT
TZOFFSETFROM:-0500
TZOFFSETTO:-0400
TZNAME:EDT
DTSTART:20230312T070000
END:DAYLIGHT
BEGIN:STANDARD
TZOFFSETFROM:-0400
TZOFFSETTO:-0500
TZNAME:EST
DTSTART:20231105T060000
END:STANDARD
END:VTIMEZONE
BEGIN:VEVENT
DTSTART;TZID=America/New_York:20220623T120000
DTEND;TZID=America/New_York:20220623T130000
DTSTAMP:20260419T153151
CREATED:20211213T185357Z
LAST-MODIFIED:20220616T174732Z
UID:10005173-1655985600-1655989200@ethical.nyc
SUMMARY:Leader’s Roundtable: Pride Week (Hybrid)
DESCRIPTION:Bring your lunch and join Leader Dr. Nori Rost and members for an engaging round-table discussion on the issues of the day and recommended readings. \nHeading up to Pride Sunday\, a look at gender and feminism. What is gender? Gender and Feminism? How are they changing the world? Is it a good thing? \nGender: A Melee – Liberties (libertiesjournal.com) \nHow the gender identity revolution impacts society | Temple Now \nClick to join at start time | Zoom ID 861 1417 5760 | Passcode 347145 \nCOVID-19 NOTICE: Only fully-vaccinated Society members are invited to attend in-person. All others are invited to join us via Zoom. We hope to open up to the public again as soon as possible. \n\nYou can download Zoom at https://zoom.us/download\, although it’s not necessary to do ahead of time. Zoom is available for tablets and smartphones in both main app stores\, Apple and Google Android. Attendees don’t need to register for a Zoom account although it’s free and helpful. To join a meeting\, simply click the event’s invitation link above.
URL:https://ethical.nyc/events/leaders-roundtable-3-2022-03-31-2022-06-23/
LOCATION:Adler Study (514)\, 2 W 64th St.\, New York\, NY\, 10023\, United States
ATTACH;FMTTYPE=image/jpeg:https://ethical.nyc/wp-content/uploads/2021/12/roundtable-nori-sm.jpg
END:VEVENT
BEGIN:VEVENT
DTSTART;TZID=America/New_York:20220623T190000
DTEND;TZID=America/New_York:20220623T210000
DTSTAMP:20260419T153151
CREATED:20220425T221334Z
LAST-MODIFIED:20220615T204302Z
UID:10005320-1656010800-1656018000@ethical.nyc
SUMMARY:Ethics and the Theater Extra: "One With The Current" by Daniel Damiano
DESCRIPTION:Our long-running staged reading and discussion series continues with a special session featuring One With The Current by Daniel Damiano: \nA North Carolina husband and father accompanies his childhood friend on a fishing trip during the pandemic\, but the events that ensue will change his life forever… \nPerformed by Daniel Damiano and Judy Alvarez. Directed by Leslie Kincaid Burby. \nFollowing the reading\, Leslie Kincaid Burby will lead a discussion about the ethical issues raised by the play\, including the choices that people make\, and the power of those things that influence us for good or evil. \nSuggested Donation: Members $5\, Guests $10 (at door) \nCOVID-19 Notice: Proof of COVID-19 vaccination\, photo ID\, and mask are required to attend. \n*** \nDaniel Damiano is an Award-winning Playwright\, Screenwriter\, Actor\, Poet and Novelist based in Brooklyn\, NY. He has been the recipient of the Christopher Brian Wolk Award\, as well as a nominee for the Pushcart Poetry Prize and a Finalist for the Arts & Letters Prize for Drama. His acclaimed play\, DAY OF THE DOG\, was published in 2018 by Broadway Play Publishing\, while one of his latest plays\, THE WILD BOAR\, is a Current Finalist for Dayton Playhouse’s Futurefest 2022\, and was a previous Finalist for both the Woodward/Newman Drama Award and the Janet & Bruce Bunch Award. He was last seen on stage in his solo play AMERICAN TRANQUILITY\, which had two successful runs at the East Village Playhouse\, in addition to the Pit Loft\, Downtown Urban Arts Festival (all in NYC)\, as well as the Capital Fringe Festival in DC In 2021\, fandango 4 Art House published his debut novel\, THE WOMAN IN THE SUN HAT (Seattle Book Review Recommendation)\, and subsequently his debut poetry book\, 104 DAYS OF THE PANDEMIC. Visit him online at danieldamiano.com.
URL:https://ethical.nyc/events/ethics-and-the-theater-one-with-the-current-by-daniel-damiano-2/
LOCATION:Ceremonial Hall (4th Floor)\, 2 W 64th St\, New York\, NY\, 10023\, United States
CATEGORIES:Theater
ATTACH;FMTTYPE=image/jpeg:https://ethical.nyc/wp-content/uploads/2022/04/current-damiano-final4.jpg
END:VEVENT
END:VCALENDAR