BEGIN:VCALENDAR
VERSION:2.0
PRODID:-//The New York Society for Ethical Culture - ECPv6.15.18//NONSGML v1.0//EN
CALSCALE:GREGORIAN
METHOD:PUBLISH
X-WR-CALNAME:The New York Society for Ethical Culture
X-ORIGINAL-URL:https://ethical.nyc
X-WR-CALDESC:Events for The New York Society for Ethical Culture
REFRESH-INTERVAL;VALUE=DURATION:PT1H
X-Robots-Tag:noindex
X-PUBLISHED-TTL:PT1H
BEGIN:VTIMEZONE
TZID:America/New_York
BEGIN:DAYLIGHT
TZOFFSETFROM:-0500
TZOFFSETTO:-0400
TZNAME:EDT
DTSTART:20210314T070000
END:DAYLIGHT
BEGIN:STANDARD
TZOFFSETFROM:-0400
TZOFFSETTO:-0500
TZNAME:EST
DTSTART:20211107T060000
END:STANDARD
BEGIN:DAYLIGHT
TZOFFSETFROM:-0500
TZOFFSETTO:-0400
TZNAME:EDT
DTSTART:20220313T070000
END:DAYLIGHT
BEGIN:STANDARD
TZOFFSETFROM:-0400
TZOFFSETTO:-0500
TZNAME:EST
DTSTART:20221106T060000
END:STANDARD
BEGIN:DAYLIGHT
TZOFFSETFROM:-0500
TZOFFSETTO:-0400
TZNAME:EDT
DTSTART:20230312T070000
END:DAYLIGHT
BEGIN:STANDARD
TZOFFSETFROM:-0400
TZOFFSETTO:-0500
TZNAME:EST
DTSTART:20231105T060000
END:STANDARD
END:VTIMEZONE
BEGIN:VEVENT
DTSTART;TZID=America/New_York:20220811T120000
DTEND;TZID=America/New_York:20220811T133000
DTSTAMP:20260421T090538
CREATED:20220615T185500Z
LAST-MODIFIED:20220731T075513Z
UID:10005421-1660219200-1660224600@ethical.nyc
SUMMARY:Leader's Roundtable: Stranger Danger?
DESCRIPTION:Bring your lunch and join Leader Dr. Nori Rost and members for an engaging round-table discussion on the issues of the day and recommended readings. This week: \nDo you like it when strangers talk to you? \nReadings: \nOpinion | Why Strangers Are Good for Us – The New York Times (nytimes.com) \nClick to join at start | Zoom ID 861 1417 5760 | Passcode 347145 \nCOVID-19 NOTICE: Only fully-vaccinated Society members are invited to attend in-person. All others are invited to join us via Zoom. We hope to open up to the public again as soon as possible. \n\nYou can download Zoom at https://zoom.us/download\, although it’s not necessary to do ahead of time. Zoom is available for tablets and smartphones in both main app stores\, Apple and Google Android. Attendees don’t need to register for a Zoom account although it’s free and helpful. To join a meeting\, simply click the event’s invitation link above.
URL:https://ethical.nyc/events/leaders-roundtable-4-2022-08-11/
LOCATION:Adler Study (514)\, 2 W 64th St.\, New York\, NY\, 10023\, United States
ATTACH;FMTTYPE=image/jpeg:https://ethical.nyc/wp-content/uploads/2021/12/roundtable-nori-sm.jpg
END:VEVENT
BEGIN:VEVENT
DTSTART;TZID=America/New_York:20220811T170000
DTEND;TZID=America/New_York:20220811T180000
DTSTAMP:20260421T090538
CREATED:20220615T190624Z
LAST-MODIFIED:20220811T143819Z
UID:10004384-1660237200-1660240800@ethical.nyc
SUMMARY:Cancelled - Colloquy
DESCRIPTION:Notice: Today’s session has been cancelled. \n*** \nShare your reflections on the topic based on quotes\, parables\, poems\, etc. presented by the moderator. There are no right or wrong answers\, just your individual response shared in a contemplative atmosphere. \nTopic: TBA \nClick to join at start | Zoom ID 838 1778 1084 | Passcode 675527 \n\nYou can download Zoom at https://zoom.us/download\, although it’s not necessary to do ahead of time. Zoom is available for tablets and smartphones in both main app stores\, Apple and Google Android. Attendees don’t need to register for a Zoom account although it’s free and helpful. To join a meeting\, simply click the event’s invitation link above.
URL:https://ethical.nyc/events/colloquy-5-2022-08-11/
CATEGORIES:Colloquy
ATTACH;FMTTYPE=image/jpeg:https://ethical.nyc/wp-content/uploads/2021/11/mosaic-1024x497.jpg
END:VEVENT
BEGIN:VEVENT
DTSTART;TZID=America/New_York:20220811T190000
DTEND;TZID=America/New_York:20220811T200000
DTSTAMP:20260421T090538
CREATED:20220807T023247Z
LAST-MODIFIED:20220807T225601Z
UID:10005454-1660244400-1660248000@ethical.nyc
SUMMARY:Share and Learn: Arts\, Hobbies\, and Handiwork with Richard Koral
DESCRIPTION:Join us to learn about a panoply of creative activities brought to you by members\, friends\, relatives\, and neighbors. Two moderators will share the hour\, presenting their pleasurable pastimes. There will be time for Q&A for each. Learn about and enjoy something new! 2nd and 4th Thursdays in July and August. \nThis week: \nRichard Koral will share…tba! \nClick to join at start | Zoom ID 884 1105 5819 | Passcode 140176
URL:https://ethical.nyc/events/share-and-learn-arts-hobbies-and-handiwork-with-richard-koral/
CATEGORIES:Share and Learn
ATTACH;FMTTYPE=image/jpeg:https://ethical.nyc/wp-content/uploads/2022/08/hobbies_2022aug.jpg
END:VEVENT
END:VCALENDAR