BEGIN:VCALENDAR
VERSION:2.0
PRODID:-//The New York Society for Ethical Culture - ECPv6.15.18//NONSGML v1.0//EN
CALSCALE:GREGORIAN
METHOD:PUBLISH
X-ORIGINAL-URL:https://ethical.nyc
X-WR-CALDESC:Events for The New York Society for Ethical Culture
REFRESH-INTERVAL;VALUE=DURATION:PT1H
X-Robots-Tag:noindex
X-PUBLISHED-TTL:PT1H
BEGIN:VTIMEZONE
TZID:America/New_York
BEGIN:DAYLIGHT
TZOFFSETFROM:-0500
TZOFFSETTO:-0400
TZNAME:EDT
DTSTART:20210314T070000
END:DAYLIGHT
BEGIN:STANDARD
TZOFFSETFROM:-0400
TZOFFSETTO:-0500
TZNAME:EST
DTSTART:20211107T060000
END:STANDARD
BEGIN:DAYLIGHT
TZOFFSETFROM:-0500
TZOFFSETTO:-0400
TZNAME:EDT
DTSTART:20220313T070000
END:DAYLIGHT
BEGIN:STANDARD
TZOFFSETFROM:-0400
TZOFFSETTO:-0500
TZNAME:EST
DTSTART:20221106T060000
END:STANDARD
BEGIN:DAYLIGHT
TZOFFSETFROM:-0500
TZOFFSETTO:-0400
TZNAME:EDT
DTSTART:20230312T070000
END:DAYLIGHT
BEGIN:STANDARD
TZOFFSETFROM:-0400
TZOFFSETTO:-0500
TZNAME:EST
DTSTART:20231105T060000
END:STANDARD
END:VTIMEZONE
BEGIN:VEVENT
DTSTART;TZID=America/New_York:20221111T190000
DTEND;TZID=America/New_York:20221111T210000
DTSTAMP:20260419T100620
CREATED:20220615T190058Z
LAST-MODIFIED:20221110T204707Z
UID:10004373-1668193200-1668200400@ethical.nyc
SUMMARY:Ethics and the Theater: 'Hillary and Clinton' by Lucas Hnath
DESCRIPTION:Our long-running staged reading and talkback series continues! \nA woman named Hillary is running for the Democratic presidential nomination. Losing ground to her charismatic young opponent\, she turns to her husband\, Bill\, for help. Lucas Hnath has set this story in an alternate universe. That means all bets are off. \nStarring C.K. Allen\, Daniel Damiano\, Susanna Frazer\, and Mark Hofmaier. Directed by Katrin Hilbe. \nAfter the play\, we’ll moderate an open discussion about the ethical issues raised and explored in the work. Produced by Patricia Bruder Debrovner. \nMatinee encore on the following Sunday\, 1:30-3:30pm. \nSuggested Donation: Members $10\, Guests $15 (at door)
URL:https://ethical.nyc/events/ethics-and-the-theater-3-2022-11-11/
LOCATION:Ceremonial Hall (4th Floor)\, 2 W 64th St\, New York\, NY\, 10023\, United States
CATEGORIES:Theater
ATTACH;FMTTYPE=image/jpeg:https://ethical.nyc/wp-content/uploads/2022/06/theater_2022nov.jpg
END:VEVENT
END:VCALENDAR