BEGIN:VCALENDAR
VERSION:2.0
PRODID:-//The New York Society for Ethical Culture - ECPv6.15.18//NONSGML v1.0//EN
CALSCALE:GREGORIAN
METHOD:PUBLISH
X-ORIGINAL-URL:https://ethical.nyc
X-WR-CALDESC:Events for The New York Society for Ethical Culture
REFRESH-INTERVAL;VALUE=DURATION:PT1H
X-Robots-Tag:noindex
X-PUBLISHED-TTL:PT1H
BEGIN:VTIMEZONE
TZID:America/New_York
BEGIN:DAYLIGHT
TZOFFSETFROM:-0500
TZOFFSETTO:-0400
TZNAME:EDT
DTSTART:20210314T070000
END:DAYLIGHT
BEGIN:STANDARD
TZOFFSETFROM:-0400
TZOFFSETTO:-0500
TZNAME:EST
DTSTART:20211107T060000
END:STANDARD
BEGIN:DAYLIGHT
TZOFFSETFROM:-0500
TZOFFSETTO:-0400
TZNAME:EDT
DTSTART:20220313T070000
END:DAYLIGHT
BEGIN:STANDARD
TZOFFSETFROM:-0400
TZOFFSETTO:-0500
TZNAME:EST
DTSTART:20221106T060000
END:STANDARD
BEGIN:DAYLIGHT
TZOFFSETFROM:-0500
TZOFFSETTO:-0400
TZNAME:EDT
DTSTART:20230312T070000
END:DAYLIGHT
BEGIN:STANDARD
TZOFFSETFROM:-0400
TZOFFSETTO:-0500
TZNAME:EST
DTSTART:20231105T060000
END:STANDARD
END:VTIMEZONE
BEGIN:VEVENT
DTSTART;TZID=America/New_York:20221120T110000
DTEND;TZID=America/New_York:20221120T121500
DTSTAMP:20260423T073303
CREATED:20220615T183918Z
LAST-MODIFIED:20221115T140207Z
UID:10005370-1668942000-1668946500@ethical.nyc
SUMMARY:Douglas Rushkoff: 'Leaving Us Behind: The Silicon Valley Mindset'
DESCRIPTION:In-person and online! \nJoin us Sunday as Leader Dr. Joe Chuman sits down with author\, professor\, and documentarian Douglas Rushkoff to discuss his latest book\, Survival of the Richest: Escape Fantasies of the Tech Billionaires: \nFive billionaires summoned Douglas Rushkoff to a desert resort for a private talk. The topic? How to survive The Event: the societal catastrophe they know is coming. Rushkoff came to understand that these men were under the influence of The Mindset: a Silicon Valley-style certainty that they can break the laws of physics\, economics\, and morality to escape a disaster of their own making—with enough money and the right technology. \nRushkoff will share how we can transcend the landscape the Mindset created—a world alive with algorithms and intelligences actively rewarding our most selfish tendencies—and rediscover community\, mutual aid\, and human interdependency. Instead of changing the people\, we can change the program. \nRushkoff will also be signing his new book\, Survival of the Richest: Escape Fantasies of the Tech Billionaires\, immediately following the program. \nDouglas Rushkoff is rofessor of Media Theory and Digital Economics at Queens/CUNY\, and an author and documentarian who studies human autonomy in a digital age. Named one of the world’s ten most influential intellectuals by MIT\, his twenty books include the upcoming Survival of the Richest: Escape Fantasies of the Tech Billionaires\, as well as the recent Team Human\, based on his podcast\, and the bestsellers Present Shock\, Throwing Rocks and the Google Bus\, Program or Be Programmed\, Life Inc\, and Media Virus. He also made the PBS Frontline documentaries Generation Like\, The Persuaders\, and Merchants of Cool. His book Coercion won the Marshall McLuhan Award\, and the Media Ecology Association honored him with the first Neil Postman Award for Career Achievement in Public Intellectual Activity. He writes a weekly column on Medium\, and lives with his family in Hastings-on-Hudson\, New York. \nNotice: Only fully-vaccinated individuals are invited to attend in-person at this time. Proof of vaccination\, photo ID\, and mask are required. \nWatch Online: Click to join at start | ID 863 0430 0961 | Passcode 609424\nTo join by phone (audio only)\, dial (929) 205-6099 and enter the Zoom ID above. \nPresider: Leader Dr. Joe Chuman \nMonthly Collection: My Own Book Fund \n\nSunday Platform is our most important and long-standing community event. These gatherings educate\, stimulate personal growth\, inspire reflection and action\, and strengthen our community. Sunday meetings begin with music\, followed by greetings and a talk given by a Society Leader\, member\, or guest.  Platforms cover a variety of topics that reflect current events\, pressing social issues\, and Humanist philosophy. Each Sunday meeting is followed by a luncheon and social hour. \nTo watch previous Sunday Platforms\, visit our Videos page and YouTube channel.
URL:https://ethical.nyc/events/sunday-platform-8-2022-11-20/
LOCATION:Ceremonial Hall (4th Floor)\, 2 W 64th St\, New York\, NY\, 10023\, United States
CATEGORIES:Sunday Platform
ATTACH;FMTTYPE=image/jpeg:https://ethical.nyc/wp-content/uploads/2022/06/rushkoff_banner_2022nov.jpg
END:VEVENT
BEGIN:VEVENT
DTSTART;TZID=America/New_York:20221120T110000
DTEND;TZID=America/New_York:20221120T123000
DTSTAMP:20260423T073303
CREATED:20201218T212822Z
LAST-MODIFIED:20221103T211525Z
UID:10005359-1668942000-1668947400@ethical.nyc
SUMMARY:Young Ethical Explorers: Eco-Activism Session
DESCRIPTION:Join us for some eco-activism! \nNewcomers are always welcome! To join\, please RSVP to Youth Programs Director Audrey Kindred at youngethicalexplorers@gmail.com. For more information about our youth and family programming\, please visit www.ethical.nyc/youth. \n\nYoung Ethical Explorers is our Humanist Sunday school\, designed for youngsters from ages 4 to 13\, and takes place concurrent with our Sunday Platform meetings. Sessions raise issues of personal identity and integrity\, appreciation and respect for others\, and knowledge of religions\, philosophies\, and social concerns. Topics are explored in an age-appropriate way through discussion\, storytelling\, dramatization\, music\, art\, games\, and field trips. \nRSVP is essential to guarantee your place and for planning purposes. If you are enrolled for the season or are members of Ethical NYC your spot is guaranteed. To RSVP as a guest\, become a member\, or enroll in season\, please contact Audrey at YoungEthicalExplorers@gmail.com. Newcomers and visitors are always welcome!
URL:https://ethical.nyc/events/young-ethical-explorers-2-2022-09-11-2022-11-20/
LOCATION:2 W 64th St\, New York\, NY\, 10023\, United States
CATEGORIES:Youth and Families
ATTACH;FMTTYPE=image/jpeg:https://ethical.nyc/wp-content/uploads/2020/12/yee-roof.jpeg
END:VEVENT
END:VCALENDAR