BEGIN:VCALENDAR
VERSION:2.0
PRODID:-//The New York Society for Ethical Culture - ECPv6.15.18//NONSGML v1.0//EN
CALSCALE:GREGORIAN
METHOD:PUBLISH
X-WR-CALNAME:The New York Society for Ethical Culture
X-ORIGINAL-URL:https://ethical.nyc
X-WR-CALDESC:Events for The New York Society for Ethical Culture
REFRESH-INTERVAL;VALUE=DURATION:PT1H
X-Robots-Tag:noindex
X-PUBLISHED-TTL:PT1H
BEGIN:VTIMEZONE
TZID:America/New_York
BEGIN:DAYLIGHT
TZOFFSETFROM:-0500
TZOFFSETTO:-0400
TZNAME:EDT
DTSTART:20220313T070000
END:DAYLIGHT
BEGIN:STANDARD
TZOFFSETFROM:-0400
TZOFFSETTO:-0500
TZNAME:EST
DTSTART:20221106T060000
END:STANDARD
BEGIN:DAYLIGHT
TZOFFSETFROM:-0500
TZOFFSETTO:-0400
TZNAME:EDT
DTSTART:20230312T070000
END:DAYLIGHT
BEGIN:STANDARD
TZOFFSETFROM:-0400
TZOFFSETTO:-0500
TZNAME:EST
DTSTART:20231105T060000
END:STANDARD
BEGIN:DAYLIGHT
TZOFFSETFROM:-0500
TZOFFSETTO:-0400
TZNAME:EDT
DTSTART:20240310T070000
END:DAYLIGHT
BEGIN:STANDARD
TZOFFSETFROM:-0400
TZOFFSETTO:-0500
TZNAME:EST
DTSTART:20241103T060000
END:STANDARD
END:VTIMEZONE
BEGIN:VEVENT
DTSTART;TZID=America/New_York:20230427T120000
DTEND;TZID=America/New_York:20230427T133000
DTSTAMP:20260421T062849
CREATED:20230130T145329Z
LAST-MODIFIED:20230424T142323Z
UID:10005608-1682596800-1682602200@ethical.nyc
SUMMARY:Leader’s Lunchtime Roundtable: Poverty in America (Hybrid)
DESCRIPTION:Bring your lunch and join Leader Dr. Nori Rost and members for an engaging round-table discussion on the issues of the day and recommended readings. \nThis week: Increasingly the rate of poverty in the United States has grown\, while resources are in danger of being diminished. How should we address this pressing issue? Thanks to Sondra Stein for this important topic. \nOpinion | America Is in a Disgraced Class of Its Own – The New York Times (nytimes.com) \nhttps://www.pbs.org/newshour/health/why-the-u-s-is-rethinking-its-approach-to-poverty \nFree and open to the public!\nCOVID-19 NOTICE: Masks are optional but strongly encouraged. \nClick to join at start time | Zoom ID 861 1417 5760 | Passcode 347145
URL:https://ethical.nyc/events/leaders-lunchtime-roundtable-hybrid-2023-04-06-2023-04-27/
LOCATION:Adler Study (514)\, 2 W 64th St.\, New York\, NY\, 10023\, United States
ATTACH;FMTTYPE=image/jpeg:https://ethical.nyc/wp-content/uploads/2021/12/roundtable-nori-sm.jpg
END:VEVENT
BEGIN:VEVENT
DTSTART;TZID=America/New_York:20230427T190000
DTEND;TZID=America/New_York:20230427T200000
DTSTAMP:20260421T062849
CREATED:20230402T152947Z
LAST-MODIFIED:20230427T180429Z
UID:10005626-1682622000-1682625600@ethical.nyc
SUMMARY:Unplug Yourself: Flash Tattoo and Piercing Session (Temporary or Permanent!) with Red Ink Tattoo
DESCRIPTION:As promised\, this will be an opportunity to get permanent or temporary flash tattoos for yourself! There will be licensed tattoo artists and a piercer. Tattoos will be selected from flash sheets with accompanying prices. The same goes for piercings. Once again\, in you attend all four Wednesday Ethics Unplugged IN PERSON\, you are eligible to receive one free flash tattoo or piercing! What stories will your body tell? \nEvery 4th Thursday of the month is a special event reflecting the month’s theme in a more embodied\, fun way. This month we will provide the opportunity for people to get a flash tattoo from Red Ink Tattoo. There will be two licensed tattoo artists available to do flash tattoos\, and one licensed piercer.  A flash tattoo is only done on arms or legs and can only be selected from the flash sheet available. A flash piercing can only be ears\, septum\, or eyebrow. There will a price sheet available in advance. As an incentive for attending all four Ethics Unplugged\, people will be eligible to get one free flash tattoo. We will also have temporary tattoo designs available for folx who aren’t quite ready to make a more permanent commitment. \nClick here to view available flash tattoo designs and prices! \nApril Theme: Stories Our Bodies Tell \nThis month we will be exploring the stories our bodies tell through choice and chance. For many of us tattoos are an important way to tell the stories of our lives. For some\, scars derived from accidents or surgeries have equally profound stories to share. Join us as we explore these mediums of life. \nFree and open to the public!\nCOVID-19 Notice: Masks are optional but strongly encouraged.
URL:https://ethical.nyc/events/ethics-unplugged-unplug-yourself/
LOCATION:Ceremonial Hall (4th Floor)\, 2 W 64th St\, New York\, NY\, 10023\, United States
ATTACH;FMTTYPE=image/jpeg:https://ethical.nyc/wp-content/uploads/2023/04/tatimage.jpeg
END:VEVENT
END:VCALENDAR