BEGIN:VCALENDAR
VERSION:2.0
PRODID:-//The New York Society for Ethical Culture - ECPv6.15.18//NONSGML v1.0//EN
CALSCALE:GREGORIAN
METHOD:PUBLISH
X-ORIGINAL-URL:https://ethical.nyc
X-WR-CALDESC:Events for The New York Society for Ethical Culture
REFRESH-INTERVAL;VALUE=DURATION:PT1H
X-Robots-Tag:noindex
X-PUBLISHED-TTL:PT1H
BEGIN:VTIMEZONE
TZID:America/New_York
BEGIN:DAYLIGHT
TZOFFSETFROM:-0500
TZOFFSETTO:-0400
TZNAME:EDT
DTSTART:20220313T070000
END:DAYLIGHT
BEGIN:STANDARD
TZOFFSETFROM:-0400
TZOFFSETTO:-0500
TZNAME:EST
DTSTART:20221106T060000
END:STANDARD
BEGIN:DAYLIGHT
TZOFFSETFROM:-0500
TZOFFSETTO:-0400
TZNAME:EDT
DTSTART:20230312T070000
END:DAYLIGHT
BEGIN:STANDARD
TZOFFSETFROM:-0400
TZOFFSETTO:-0500
TZNAME:EST
DTSTART:20231105T060000
END:STANDARD
BEGIN:DAYLIGHT
TZOFFSETFROM:-0500
TZOFFSETTO:-0400
TZNAME:EDT
DTSTART:20240310T070000
END:DAYLIGHT
BEGIN:STANDARD
TZOFFSETFROM:-0400
TZOFFSETTO:-0500
TZNAME:EST
DTSTART:20241103T060000
END:STANDARD
END:VTIMEZONE
BEGIN:VEVENT
DTSTART;TZID=America/New_York:20230909T160000
DTEND;TZID=America/New_York:20230910T130000
DTSTAMP:20260419T122021
CREATED:20230901T160431Z
LAST-MODIFIED:20230901T193258Z
UID:10005676-1694275200-1694350800@ethical.nyc
SUMMARY:Young Ethical Explorers Rooftop Sleepover
DESCRIPTION:Let’s start the season with a Saturday night rooftop family sleep-over for families from the metro-area (Quick! before we get too much homework!). \nNewcomers are always welcome! To join\, please RSVP to Youth Programs Director Audrey Kindred at youngethicalexplorers@gmail.com. For more information about our youth and family programming\, please visit www.ethical.nyc/youth. \n\nYoung Ethical Explorers is our Humanist Sunday school\, designed for youngsters from ages 4 to 13\, and takes place concurrent with our Sunday Platform meetings. Sessions raise issues of personal identity and integrity\, appreciation and respect for others\, and knowledge of religions\, philosophies\, and social concerns. Topics are explored in an age-appropriate way through discussion\, storytelling\, dramatization\, music\, art\, games\, and field trips. \nRSVP is essential to guarantee your place and for planning purposes. If you are enrolled for the season or are members of Ethical NYC your spot is guaranteed. To RSVP as a guest\, become a member\, or enroll in season\, please contact Audrey at YoungEthicalExplorers@gmail.com. Newcomers and visitors are always welcome!
URL:https://ethical.nyc/events/young-ethical-explorers-rooftop-sleepover/
LOCATION:New York Society for Ethical Culture\, 2 W 64th St.\, New York\, 10023\, United States
CATEGORIES:Youth and Families
ATTACH;FMTTYPE=image/jpeg:https://ethical.nyc/wp-content/uploads/2020/12/yee-roof.jpeg
END:VEVENT
BEGIN:VEVENT
DTSTART;TZID=America/New_York:20230910T103000
DTEND;TZID=America/New_York:20230910T123000
DTSTAMP:20260419T122021
CREATED:20221103T212243Z
LAST-MODIFIED:20230901T170831Z
UID:10005535-1694341800-1694349000@ethical.nyc
SUMMARY:Young Ethical Explorers: The Treasure Called Peace
DESCRIPTION:Join us for a creative and dialogic workshop about what peace means to us\, personally\, interactively\, and globally. \nMonthly theme: Sweet and Sustainable September \nToday’s schedule: \n10:30-11am – All-ages morning peace play on the rooftop playground\n11am – The treasure called peace\n12:30 – Community Lunch and YEE family meeting\n1:30-2:30 All ages peace play on the rooftop playground\, with cooperative parent oversight \nNewcomers are always welcome! To join\, please RSVP to Youth Programs Director Audrey Kindred at youngethicalexplorers@gmail.com. For more information about our youth and family programming\, please visit www.ethical.nyc/youth. \n\nYoung Ethical Explorers is our Humanist Sunday school\, designed for youngsters from ages 4 to 13\, and takes place concurrent with our Sunday Platform meetings. Sessions raise issues of personal identity and integrity\, appreciation and respect for others\, and knowledge of religions\, philosophies\, and social concerns. Topics are explored in an age-appropriate way through discussion\, storytelling\, dramatization\, music\, art\, games\, and field trips. \nRSVP is essential to guarantee your place and for planning purposes. If you are enrolled for the season or are members of Ethical NYC your spot is guaranteed. To RSVP as a guest\, become a member\, or enroll in season\, please contact Audrey at YoungEthicalExplorers@gmail.com. Newcomers and visitors are always welcome!
URL:https://ethical.nyc/events/young-ethical-explorers-2-2023-02-12-2023-09-10/
LOCATION:Adler Study (514)\, 2 W 64th St.\, New York\, NY\, 10023\, United States
CATEGORIES:Youth and Families
ATTACH;FMTTYPE=image/jpeg:https://ethical.nyc/wp-content/uploads/2020/12/yee-roof.jpeg
END:VEVENT
BEGIN:VEVENT
DTSTART;TZID=America/New_York:20230910T110000
DTEND;TZID=America/New_York:20230910T123000
DTSTAMP:20260419T122021
CREATED:20221107T214855Z
LAST-MODIFIED:20230905T150344Z
UID:10005542-1694343600-1694349000@ethical.nyc
SUMMARY:Nori Rost: Living Response-Ably in Community
DESCRIPTION:In-person and online! \nOn this Sunday\, as we welcome the folx who have become members over the past few years\, Dr. Rost will examine what means to be a part of a community. What does it mean to belong? What are the gifts? What are the sacrifices? How do we know when to step up our involvement in our community and how do we know it’s time to step back? How do we\, as a community\, honor the gifts and time of our members? This Platform will be followed with a lunch cookout on the rooftop deck and an opportunity to hear from our newer members. \nWatch Online: Click to join at start | ID 863 0430 0961 | Passcode 609424\nTo join by phone (audio only)\, dial (929) 205-6099 and enter the Zoom ID above. \nMonthly Collection: Maui Strong Fund \nCOVID-19 Notice: Vaccination is required. Masks are optional but encouraged. \n\nSunday Platform is our most important and long-standing community event. These gatherings educate\, stimulate personal growth\, inspire reflection and action\, and strengthen our community. Sunday meetings begin with music\, followed by greetings and a talk given by a Society Leader\, member\, or guest.  Platforms cover a variety of topics that reflect current events\, pressing social issues\, and Humanist philosophy. Each Sunday meeting is followed by a luncheon and social hour. \nTo watch previous Sunday Platforms\, visit our Videos page and YouTube channel.
URL:https://ethical.nyc/events/sunday-platform-9-2023-08-06-2023-09-10/
LOCATION:Ceremonial Hall (4th Floor)\, 2 W 64th St\, New York\, NY\, 10023\, United States
CATEGORIES:Sunday Platform
ATTACH;FMTTYPE=image/jpeg:https://ethical.nyc/wp-content/uploads/2022/11/rost_2023sep.jpg
END:VEVENT
BEGIN:VEVENT
DTSTART;TZID=America/New_York:20230910T123000
DTEND;TZID=America/New_York:20230910T140000
DTSTAMP:20260419T122021
CREATED:20230904T132049Z
LAST-MODIFIED:20230906T142509Z
UID:10005689-1694349000-1694354400@ethical.nyc
SUMMARY:New Member/Welcome Back Luncheon
DESCRIPTION:At this first post-Platform lunch of our fall season\, meet our newest members and welcome everyone back from their summer vacations! \nNotice: Do to weather considerations\, this catered lunch will no longer be held on the roof.
URL:https://ethical.nyc/events/new-member-luncheon-welcome-back-rooftop-cookout/
LOCATION:Ceremonial Hall (4th Floor)\, 2 W 64th St\, New York\, NY\, 10023\, United States
ATTACH;FMTTYPE=image/jpeg:https://ethical.nyc/wp-content/uploads/2021/11/mosaic-1024x497.jpg
END:VEVENT
END:VCALENDAR