BEGIN:VCALENDAR
VERSION:2.0
PRODID:-//The New York Society for Ethical Culture - ECPv6.15.18//NONSGML v1.0//EN
CALSCALE:GREGORIAN
METHOD:PUBLISH
X-WR-CALNAME:The New York Society for Ethical Culture
X-ORIGINAL-URL:https://ethical.nyc
X-WR-CALDESC:Events for The New York Society for Ethical Culture
REFRESH-INTERVAL;VALUE=DURATION:PT1H
X-Robots-Tag:noindex
X-PUBLISHED-TTL:PT1H
BEGIN:VTIMEZONE
TZID:America/New_York
BEGIN:DAYLIGHT
TZOFFSETFROM:-0500
TZOFFSETTO:-0400
TZNAME:EDT
DTSTART:20220313T070000
END:DAYLIGHT
BEGIN:STANDARD
TZOFFSETFROM:-0400
TZOFFSETTO:-0500
TZNAME:EST
DTSTART:20221106T060000
END:STANDARD
BEGIN:DAYLIGHT
TZOFFSETFROM:-0500
TZOFFSETTO:-0400
TZNAME:EDT
DTSTART:20230312T070000
END:DAYLIGHT
BEGIN:STANDARD
TZOFFSETFROM:-0400
TZOFFSETTO:-0500
TZNAME:EST
DTSTART:20231105T060000
END:STANDARD
BEGIN:DAYLIGHT
TZOFFSETFROM:-0500
TZOFFSETTO:-0400
TZNAME:EDT
DTSTART:20240310T070000
END:DAYLIGHT
BEGIN:STANDARD
TZOFFSETFROM:-0400
TZOFFSETTO:-0500
TZNAME:EST
DTSTART:20241103T060000
END:STANDARD
END:VTIMEZONE
BEGIN:VEVENT
DTSTART;TZID=America/New_York:20231109T190000
DTEND;TZID=America/New_York:20231109T200000
DTSTAMP:20260419T124424
CREATED:20231018T180651Z
LAST-MODIFIED:20231018T180651Z
UID:10005707-1699556400-1699560000@ethical.nyc
SUMMARY:Share and Learn: Arts\, Hobbies\, and Handiwork with Painter Ken Gans (Online)
DESCRIPTION:Join us to learn about a panoply of creative activities brought to you by members\, friends\, relatives\, and neighbors. Guests will share the hour\, presenting their pleasurable pastimes. There will be time for Q&A for each. Learn about and enjoy something new! 2nd and 4th Thursdays in July and August. \nThis week\, Member Ken Gans will share and discuss more of his paintings\, and his love of art. \nClick to join at start | Zoom ID 884 1105 5819 | Passcode 140176
URL:https://ethical.nyc/events/share-and-learn-arts-hobbies-and-handiwork-with-painter-ken-gans-online/
LOCATION:NY
CATEGORIES:Share and Learn
ATTACH;FMTTYPE=image/jpeg:https://ethical.nyc/wp-content/uploads/2023/10/handiwork-2023-nov.jpg
END:VEVENT
END:VCALENDAR