BEGIN:VCALENDAR
VERSION:2.0
PRODID:-//The New York Society for Ethical Culture - ECPv6.15.18//NONSGML v1.0//EN
CALSCALE:GREGORIAN
METHOD:PUBLISH
X-ORIGINAL-URL:https://ethical.nyc
X-WR-CALDESC:Events for The New York Society for Ethical Culture
REFRESH-INTERVAL;VALUE=DURATION:PT1H
X-Robots-Tag:noindex
X-PUBLISHED-TTL:PT1H
BEGIN:VTIMEZONE
TZID:America/New_York
BEGIN:DAYLIGHT
TZOFFSETFROM:-0500
TZOFFSETTO:-0400
TZNAME:EDT
DTSTART:20230312T070000
END:DAYLIGHT
BEGIN:STANDARD
TZOFFSETFROM:-0400
TZOFFSETTO:-0500
TZNAME:EST
DTSTART:20231105T060000
END:STANDARD
BEGIN:DAYLIGHT
TZOFFSETFROM:-0500
TZOFFSETTO:-0400
TZNAME:EDT
DTSTART:20240310T070000
END:DAYLIGHT
BEGIN:STANDARD
TZOFFSETFROM:-0400
TZOFFSETTO:-0500
TZNAME:EST
DTSTART:20241103T060000
END:STANDARD
BEGIN:DAYLIGHT
TZOFFSETFROM:-0500
TZOFFSETTO:-0400
TZNAME:EDT
DTSTART:20250309T070000
END:DAYLIGHT
BEGIN:STANDARD
TZOFFSETFROM:-0400
TZOFFSETTO:-0500
TZNAME:EST
DTSTART:20251102T060000
END:STANDARD
END:VTIMEZONE
BEGIN:VEVENT
DTSTART;TZID=America/New_York:20240122T140000
DTEND;TZID=America/New_York:20240122T150000
DTSTAMP:20260420T175703
CREATED:20240120T032317Z
LAST-MODIFIED:20240120T032825Z
UID:10005785-1705932000-1705935600@ethical.nyc
SUMMARY:Practical Ethics: Who's In Your Will?
DESCRIPTION:Free in-person and online! \nIn this program we’ll explore the ethics of living by reading a short story that highlights an ethical dilemma. The stories are generally available\, and they can also be obtained from the Society approximately two weeks before the session upon request to mdetermann@nysec.org or rkoral@nysec.org. \nThe story we’ll be discussing is: \n\n“The Beach House” by Joy Williams\n\nFacilitated by Leader Richard Koral. 2nd Mondays at 2:00pm. \nJoin Online\nClick to join at start | Zoom ID 838 1778 1084 | Passcode 675527
URL:https://ethical.nyc/events/practical-ethics-whos-in-your-will/
LOCATION:Adler Study (514)\, 2 W 64th St.\, New York\, NY\, 10023\, United States
CATEGORIES:Practical Ethics
ATTACH;FMTTYPE=image/jpeg:https://ethical.nyc/wp-content/uploads/2023/07/practical_2023.jpg
END:VEVENT
BEGIN:VEVENT
DTSTART;TZID=America/New_York:20240122T170000
DTEND;TZID=America/New_York:20240122T180000
DTSTAMP:20260420T175703
CREATED:20240117T150227Z
LAST-MODIFIED:20240117T164413Z
UID:10005777-1705942800-1705946400@ethical.nyc
SUMMARY:Say Yes to Science with Dr. Carol Portlock (Online)
DESCRIPTION:On 1st and 3rd Mondays at 11am\, clinical psychologist Frank Corigliano will continue to address your concerns about managing day-to-day during this trying time. \nOn 2nd and 4th Mondays at 5pm\, retired oncologist Carol Portlock will discuss new and intriguing science in multiple areas\, including some relevant to COVID. \nSuggested readings: \nDeep Cold in Mid-West Attributable to Global Warming\nhttps://www.science.org/doi/10.1126/science.abi9167 \nArc Shaped Multi-Galaxy Structure Challenging the Physics and Origin of the Universe\nhttps://www.bbc.com/future/article/20230302-the-giant-arcs-that-may-dwarf-everything-in-the-cosmos \nT Rex precursor found in New Mexico\nhttps://www.nytimes.com/2024/01/11/science/new-tyrannosaur-species-fossil.htmlDisrupting the blood-brain barrier with ultrasoundhttps://www.nytimes.com/2024/01/10/health/blood-brain-barrier-alzheimers-ultrsound.html\nPlastics in bottled waterhttps://www.nytimes.com/2024/01/11/well/live/bottled-water-nanoplastics.html\nJoin Online\nClick to join at start | Zoom ID 838 1778 1084 | Passcode 675527\n(Photo by Edward Jenner)
URL:https://ethical.nyc/events/say-yes-to-science-with-dr-carol-portlock-online-2/
CATEGORIES:Say Yes to Science
ATTACH;FMTTYPE=image/jpeg:https://ethical.nyc/wp-content/uploads/2023/12/syts2.jpg
END:VEVENT
END:VCALENDAR