BEGIN:VCALENDAR
VERSION:2.0
PRODID:-//The New York Society for Ethical Culture - ECPv6.15.18//NONSGML v1.0//EN
CALSCALE:GREGORIAN
METHOD:PUBLISH
X-WR-CALNAME:The New York Society for Ethical Culture
X-ORIGINAL-URL:https://ethical.nyc
X-WR-CALDESC:Events for The New York Society for Ethical Culture
REFRESH-INTERVAL;VALUE=DURATION:PT1H
X-Robots-Tag:noindex
X-PUBLISHED-TTL:PT1H
BEGIN:VTIMEZONE
TZID:America/New_York
BEGIN:DAYLIGHT
TZOFFSETFROM:-0500
TZOFFSETTO:-0400
TZNAME:EDT
DTSTART:20230312T070000
END:DAYLIGHT
BEGIN:STANDARD
TZOFFSETFROM:-0400
TZOFFSETTO:-0500
TZNAME:EST
DTSTART:20231105T060000
END:STANDARD
BEGIN:DAYLIGHT
TZOFFSETFROM:-0500
TZOFFSETTO:-0400
TZNAME:EDT
DTSTART:20240310T070000
END:DAYLIGHT
BEGIN:STANDARD
TZOFFSETFROM:-0400
TZOFFSETTO:-0500
TZNAME:EST
DTSTART:20241103T060000
END:STANDARD
BEGIN:DAYLIGHT
TZOFFSETFROM:-0500
TZOFFSETTO:-0400
TZNAME:EDT
DTSTART:20250309T070000
END:DAYLIGHT
BEGIN:STANDARD
TZOFFSETFROM:-0400
TZOFFSETTO:-0500
TZNAME:EST
DTSTART:20251102T060000
END:STANDARD
END:VTIMEZONE
BEGIN:VEVENT
DTSTART;TZID=America/New_York:20240205T110000
DTEND;TZID=America/New_York:20240205T120000
DTSTAMP:20260420T192613
CREATED:20240117T162058Z
LAST-MODIFIED:20240117T162058Z
UID:10005779-1707130800-1707134400@ethical.nyc
SUMMARY:Say Yes to Science with Dr. Frank Corigliano (Online)
DESCRIPTION:On 1st and 3rd Mondays at 11am\, clinical psychologist Frank Corigliano will continue to address your concerns about managing day-to-day during this trying time. \nOn 2nd and 4th Mondays at 5pm\, retired oncologist Carol Portlock will discuss new and intriguing science in multiple areas\, including some relevant to COVID. \nSuggested readings TBA. \nClick to join at start | Zoom ID 838 1778 1084 | Passcode 675527 \n(Photo by Edward Jenner)
URL:https://ethical.nyc/events/say-yes-to-science-with-dr-frank-corigliano-online/
CATEGORIES:Say Yes to Science
ATTACH;FMTTYPE=image/jpeg:https://ethical.nyc/wp-content/uploads/2023/12/syts2.jpg
END:VEVENT
BEGIN:VEVENT
DTSTART;TZID=America/New_York:20240205T170000
DTEND;TZID=America/New_York:20240205T180000
DTSTAMP:20260420T192613
CREATED:20240205T201831Z
LAST-MODIFIED:20240205T201831Z
UID:10006457-1707152400-1707156000@ethical.nyc
SUMMARY:Getting to Know You (Members Only)
DESCRIPTION:Join us online! \nGet to know our Ethical Culture family in a comfortable\, casual way. Each session features a pair of members in a dialogue with one another\, each responding to a few questions she or he has submitted to the other to be asked. Except for one question about their experience at NYSEC\, the other questions can be about whatever they choose (growing up\, career\, interests\, travels… whatever). Following the dialog with one\, and then the other\, we — members only — can add our questions. 1st Mondays. \nNotice: This session is limited to Society Members. The session’s join link will be provided to Members via email. \nIf you’d like to be a dialogue partner at one of our programs\, Email editor Elinore Kaplan at Outlook at: ethicaloutlook@gmail.com
URL:https://ethical.nyc/events/getting-to-know-you-members-only-3/
LOCATION:Online
CATEGORIES:Getting to Know You
END:VEVENT
END:VCALENDAR