BEGIN:VCALENDAR
VERSION:2.0
PRODID:-//The New York Society for Ethical Culture - ECPv6.15.18//NONSGML v1.0//EN
CALSCALE:GREGORIAN
METHOD:PUBLISH
X-ORIGINAL-URL:https://ethical.nyc
X-WR-CALDESC:Events for The New York Society for Ethical Culture
REFRESH-INTERVAL;VALUE=DURATION:PT1H
X-Robots-Tag:noindex
X-PUBLISHED-TTL:PT1H
BEGIN:VTIMEZONE
TZID:America/New_York
BEGIN:DAYLIGHT
TZOFFSETFROM:-0500
TZOFFSETTO:-0400
TZNAME:EDT
DTSTART:20230312T070000
END:DAYLIGHT
BEGIN:STANDARD
TZOFFSETFROM:-0400
TZOFFSETTO:-0500
TZNAME:EST
DTSTART:20231105T060000
END:STANDARD
BEGIN:DAYLIGHT
TZOFFSETFROM:-0500
TZOFFSETTO:-0400
TZNAME:EDT
DTSTART:20240310T070000
END:DAYLIGHT
BEGIN:STANDARD
TZOFFSETFROM:-0400
TZOFFSETTO:-0500
TZNAME:EST
DTSTART:20241103T060000
END:STANDARD
BEGIN:DAYLIGHT
TZOFFSETFROM:-0500
TZOFFSETTO:-0400
TZNAME:EDT
DTSTART:20250309T070000
END:DAYLIGHT
BEGIN:STANDARD
TZOFFSETFROM:-0400
TZOFFSETTO:-0500
TZNAME:EST
DTSTART:20251102T060000
END:STANDARD
END:VTIMEZONE
BEGIN:VEVENT
DTSTART;TZID=America/New_York:20240811T110000
DTEND;TZID=America/New_York:20240811T121500
DTSTAMP:20260420T150051
CREATED:20240801T140457Z
LAST-MODIFIED:20240801T140457Z
UID:10006752-1723374000-1723378500@ethical.nyc
SUMMARY:Carey Russell: 'Land Ethics Trilogy\, Part I: The Making of a Young Naturalist'
DESCRIPTION:Free and open to the public\, in-person and online! \nThe first of three talks exploring the concept of land ethics\, as established in the modern era by Aldo Leopold in his perennial classic A Sand County Almanac. Land ethics expand our ethical frameworks\, historically limited to human relationships in Western culture\, to include nature. The first talk will focus on discovering and cultivating land ethics within our own personal narratives and daily lives. Later talks in the series will address the integration of these values into society and the broader philosophical implications of these values\, which we call deep ecology. \nThis talk will be followed by a tree walk in Central Park at 1:00 and an online land ethics book club from selected readings on the evenings of Sept. 25th and October 16th. \nWatch Online\nClick to join at start time | ID 863 0430 0961 | Passcode 609424\nTo join by phone (audio only)\, dial (929) 205-6099 and enter the Zoom ID above. \nAbout Carey Russell\nCarey is a naturalist\, photographer\, and filmmaker. He founded The Dendro Lab\, a platform to foster a broader public awareness of trees and forest ecology. As a photographer he is the author of The New Arcadians: Photographs from Scout Camp. As a filmmaker\, he has worked with director\, Terrence Malick\, as an associate producer and editor of The New World; assisted cinematographer Emmanuel Lubezki on The Tree of Life; and directed and photographed the 10-part documentary series Tibetan Stories. Carey holds a master’s degree in forestry and is a member of the International Dendrology Society. He’s a certified Interpretive Guide through the National Association for Interpretation and a certified Master Naturalist in New York state where he is also a licensed trail guide. He lives in New York City where he can often be found botanizing in Central Park and leading tree walks to pass this literacy onto others. \nMonthly Collection\nProject Renewal \nAbout Sunday Platform\nSunday Platform is our most important and long-standing community event. These gatherings educate\, stimulate personal growth\, inspire reflection and action\, and strengthen our community. Sunday meetings begin with music\, followed by greetings and a talk given by a Society Leader\, member\, or guest.  Platforms cover a variety of topics that reflect current events\, pressing social issues\, and Humanist philosophy. Each Sunday meeting is followed by a luncheon and social hour. \nTo watch previous Sunday Platforms\, visit our Videos page and YouTube channel.
URL:https://ethical.nyc/events/carey-russell-land-ethics-trilogy-part-i-the-making-of-a-young-naturalist/
LOCATION:Ceremonial Hall (4th Floor)\, 2 W 64th St\, New York\, NY\, 10023\, United States
CATEGORIES:Sunday Platform
ATTACH;FMTTYPE=image/jpeg:https://ethical.nyc/wp-content/uploads/2024/08/russell.jpg
END:VEVENT
BEGIN:VEVENT
DTSTART;TZID=America/New_York:20240811T130000
DTEND;TZID=America/New_York:20240811T150000
DTSTAMP:20260420T150051
CREATED:20240805T145247Z
LAST-MODIFIED:20240805T150941Z
UID:10006758-1723381200-1723388400@ethical.nyc
SUMMARY:Central Park Tree Walk with Dendro Lab’s Carey Russell
DESCRIPTION:Are you ready to cultivate a closer and more familiar relationship with our neighborhood trees? If so\, set off on the right foot with a leisurely walk in Central Park to learn the key concepts used in dendrology\, which you know more commonly as the simple practice of tree identification. Each species of tree has its own unique characteristics and behavior\, which make it surprisingly easy to identify – but only for those who know what they are looking for! If you’re interested in starting or furthering your practice as a naturalist\, learning our local trees is a great place to start. A walk through the park or even around the block will never be quite the same again. \nYour guide for this one-hour presentation will be today’s Sunday Platform guest Carey Russell\, a local dendrologist and founding director of The Dendro Lab\, an organization dedicated to sharing the environmental literacy of trees. \nTo Join\nMeet at the Society Meeting House lobby at 1:00pm – 2 W 64th St. (at the corner of Central Park West).
URL:https://ethical.nyc/events/central-park-tree-walk-with-dendro-labs-carey-russell-2/
ATTACH;FMTTYPE=image/jpeg:https://ethical.nyc/wp-content/uploads/2024/08/2024-new-card.jpg
END:VEVENT
END:VCALENDAR