BEGIN:VCALENDAR
VERSION:2.0
PRODID:-//The New York Society for Ethical Culture - ECPv6.15.18//NONSGML v1.0//EN
CALSCALE:GREGORIAN
METHOD:PUBLISH
X-ORIGINAL-URL:https://ethical.nyc
X-WR-CALDESC:Events for The New York Society for Ethical Culture
REFRESH-INTERVAL;VALUE=DURATION:PT1H
X-Robots-Tag:noindex
X-PUBLISHED-TTL:PT1H
BEGIN:VTIMEZONE
TZID:America/New_York
BEGIN:DAYLIGHT
TZOFFSETFROM:-0500
TZOFFSETTO:-0400
TZNAME:EDT
DTSTART:20230312T070000
END:DAYLIGHT
BEGIN:STANDARD
TZOFFSETFROM:-0400
TZOFFSETTO:-0500
TZNAME:EST
DTSTART:20231105T060000
END:STANDARD
BEGIN:DAYLIGHT
TZOFFSETFROM:-0500
TZOFFSETTO:-0400
TZNAME:EDT
DTSTART:20240310T070000
END:DAYLIGHT
BEGIN:STANDARD
TZOFFSETFROM:-0400
TZOFFSETTO:-0500
TZNAME:EST
DTSTART:20241103T060000
END:STANDARD
BEGIN:DAYLIGHT
TZOFFSETFROM:-0500
TZOFFSETTO:-0400
TZNAME:EDT
DTSTART:20250309T070000
END:DAYLIGHT
BEGIN:STANDARD
TZOFFSETFROM:-0400
TZOFFSETTO:-0500
TZNAME:EST
DTSTART:20251102T060000
END:STANDARD
END:VTIMEZONE
BEGIN:VEVENT
DTSTART;TZID=America/New_York:20241014T140000
DTEND;TZID=America/New_York:20241014T150000
DTSTAMP:20260421T121207
CREATED:20240911T180146Z
LAST-MODIFIED:20241010T193938Z
UID:10006812-1728914400-1728918000@ethical.nyc
SUMMARY:Practical Ethics: 'To What Do We Owe Our Prosperity?  Should We Feel Grateful or Guilty?' (Online)
DESCRIPTION:Notice: In honor of Indigenous People’s Day\, the Society’s meeting house is closed. This session will be held online-only. \nIn this program we’ll explore the ethics of living by reading a short story that highlights an ethical dilemma. The stories are generally available\, and they can also be obtained from the Society approximately two weeks before the session upon request to mdetermann@nysec.org or rkoral@nysec.org. \nThe story we’ll be discussing is: \n\n“The Ones Who Walk Away from Omelas” by Ursula K. Le Guin\n\nFacilitated by Leader Richard Koral. 2nd Mondays at 2:00pm. \nJoin Online\nClick to join at start | Zoom ID 838 1778 1084 | Passcode 675527
URL:https://ethical.nyc/events/practical-ethics-to-what-do-we-owe-our-prosperity-should-we-feel-grateful-or-guilty/
LOCATION:Adler Study (514)\, 2 W 64th St.\, New York\, NY\, 10023\, United States
CATEGORIES:Practical Ethics
ATTACH;FMTTYPE=image/jpeg:https://ethical.nyc/wp-content/uploads/2023/07/practical_2023.jpg
END:VEVENT
BEGIN:VEVENT
DTSTART;TZID=America/New_York:20241014T170000
DTEND;TZID=America/New_York:20241014T180000
DTSTAMP:20260421T121207
CREATED:20240906T055020Z
LAST-MODIFIED:20241014T153136Z
UID:10006801-1728925200-1728928800@ethical.nyc
SUMMARY:Say Yes to Science with Dr. Carol Portlock (Online)
DESCRIPTION:Free and open to the public! \nEvery 2nd and 4th Monday at 5:00pm retired oncologist and Society Member Dr. Carol Portlock reviews new and intriguing science in multiple fields\, including those relevant to COVID and beyond. \nNEW: These sessions are recorded\, with the video available for 30 days following each session. For access\, please contact Communications Manager Ed Beck at ebeck@nysec.org. \nSuggested readings\nIVF may solve the bleaching of coral reefs\nhttps://www.theguardian.com/environment/2024/sep/18/hope-for-coral-reefs-after-ivf-colonies-survive-record-heat-event-study \nRobot and AI discoveries in oceans and land\nhttps://www.nytimes.com/2024/10/01/science/shipwreck-ghost-ship-pacific-drones.html\nhttps://www.theguardian.com/world/2024/sep/26/nazca-lines-peru-new-geoglyphs \nNew treatment for schizophrenia identifies a novel mechanism of action\nhttps://www.npr.org/sections/shots-health-news/2024/09/27/g-s1-25089/karxt-cobenfy-schizophrenia-psychosis-fda \nThe fruit fly brain has been fully elucidated\nhttps://www.theguardian.com/science/2024/oct/02/fruit-fly-brain-connections-wiring-diagram-neuroscience \nHurricanes have striking long term negative effects on mortality up to 15 yrs later\nhttps://www.theguardian.com/us-news/2024/oct/02/natural-disasters-storms-impact-mortality-study \nGlobal warming has brought champagne grapes to England\nhttps://www.bbc.com/travel/article/20240918-the-english-wine-thats-rivalling-champagne \nJoin Online\nClick to join at start | Zoom ID 840 9262 7426 | Passcode 745338 \n(Photo by Edward Jenner)
URL:https://ethical.nyc/events/say-yes-to-science-with-dr-carol-portlock-online-5/
LOCATION:Online
CATEGORIES:Say Yes to Science
ATTACH;FMTTYPE=image/jpeg:https://ethical.nyc/wp-content/uploads/2024/06/science_2024_sm.jpg
END:VEVENT
END:VCALENDAR