BEGIN:VCALENDAR
VERSION:2.0
PRODID:-//The New York Society for Ethical Culture - ECPv6.15.18//NONSGML v1.0//EN
CALSCALE:GREGORIAN
METHOD:PUBLISH
X-ORIGINAL-URL:https://ethical.nyc
X-WR-CALDESC:Events for The New York Society for Ethical Culture
REFRESH-INTERVAL;VALUE=DURATION:PT1H
X-Robots-Tag:noindex
X-PUBLISHED-TTL:PT1H
BEGIN:VTIMEZONE
TZID:America/New_York
BEGIN:DAYLIGHT
TZOFFSETFROM:-0500
TZOFFSETTO:-0400
TZNAME:EDT
DTSTART:20250309T070000
END:DAYLIGHT
BEGIN:STANDARD
TZOFFSETFROM:-0400
TZOFFSETTO:-0500
TZNAME:EST
DTSTART:20251102T060000
END:STANDARD
BEGIN:DAYLIGHT
TZOFFSETFROM:-0500
TZOFFSETTO:-0400
TZNAME:EDT
DTSTART:20260308T070000
END:DAYLIGHT
BEGIN:STANDARD
TZOFFSETFROM:-0400
TZOFFSETTO:-0500
TZNAME:EST
DTSTART:20261101T060000
END:STANDARD
BEGIN:DAYLIGHT
TZOFFSETFROM:-0500
TZOFFSETTO:-0400
TZNAME:EDT
DTSTART:20270314T070000
END:DAYLIGHT
BEGIN:STANDARD
TZOFFSETFROM:-0400
TZOFFSETTO:-0500
TZNAME:EST
DTSTART:20271107T060000
END:STANDARD
END:VTIMEZONE
BEGIN:VEVENT
DTSTART;TZID=America/New_York:20260406T143000
DTEND;TZID=America/New_York:20260406T151500
DTSTAMP:20260420T004400
CREATED:20250102T150400Z
LAST-MODIFIED:20260227T045348Z
UID:10007477-1775485800-1775488500@ethical.nyc
SUMMARY:Mindful Mondays with Dr. Frank Corigliano: Exploring Psychology\, Science\, and Ethics (Online)
DESCRIPTION:Join Society Member and Clinical Psychologist Dr. Frank J. Corigliano on the first and third Monday of every month for a 45-minute online session exploring participant-driven topics in psychology and science from an ethical perspective. This program is open to everyone\, and we welcome you to join us for a thought-provoking discussion! \nJoin Online\nClick to join at start | Zoom ID 838 1778 1084 | Passcode 675527 \n(Photo by Edward Jenner)
URL:https://ethical.nyc/events/mindful-mondays-with-dr-frank-corigliano-exploring-psychology-science-and-ethics-4/2026-04-06/
LOCATION:Online
CATEGORIES:Mindful Mondays
ATTACH;FMTTYPE=image/jpeg:https://ethical.nyc/wp-content/uploads/2026/01/Mindful-Mondays.jpg
END:VEVENT
BEGIN:VEVENT
DTSTART;TZID=America/New_York:20260406T160000
DTEND;TZID=America/New_York:20260406T170000
DTSTAMP:20260420T004400
CREATED:20260330T210511Z
LAST-MODIFIED:20260330T210511Z
UID:10007616-1775491200-1775494800@ethical.nyc
SUMMARY:Ethical Culture 101: The Meeting House on West 64th
DESCRIPTION:Free in-person and online! \nThis week: Our meeting house–home to the Society for over a century and a city landmark. \nAbout Ethical Culture 101 \nWhat is Ethical Culture?\nWho started it?\nWhat are its principles?\nWhat does it say to us today? \nFor those new to it\, and for those who have known about it for years\, this monthly seminar is a conversational introduction to the history & philosophy of Ethical Culture. \n1st Mondays\, led by Ethical Culture Leader Dr. Richard Koral. \nJoin on Zoom\nJoin on Zoom Here
URL:https://ethical.nyc/events/ethical-culture-101-2/
LOCATION:Adler Study (514)\, 2 W 64th St.\, New York\, NY\, 10023\, United States
CATEGORIES:Ethical Culture 101
ATTACH;FMTTYPE=image/png:https://ethical.nyc/wp-content/uploads/2026/02/Ethical-1012.png
END:VEVENT
BEGIN:VEVENT
DTSTART;TZID=America/New_York:20260406T190000
DTEND;TZID=America/New_York:20260406T203000
DTSTAMP:20260420T004400
CREATED:20260313T151055Z
LAST-MODIFIED:20260406T215933Z
UID:10007748-1775502000-1775507400@ethical.nyc
SUMMARY:From Activists to Terrorists: How NSPM-7 Seeks to Use 'Domestic Terrorism' to Target Non-Profits and Activists
DESCRIPTION:WATCH LIVE\n \nSecret watchlists\, digital surveillance\, spurious investigations\, and the “terrorist” label: The government is using increasingly dangerous tools to intimidate and criminalize activists and organizations President Trump considers “the enemy within.” \nAnd the movement for climate justice is next. \nIn February\, the FBI visited members of Extinction Rebellion NYC and Attorney General Pam Bondi said Climate Defiance is under investigation. This week\, President Trump claimed\, “Environmentalists are terrorists.” \nThis follows the signing of National Security Presidential Memorandum 7 (NSPM-7)\, a new\, terrifying federal blacklist targeting expansive categories of activists and organizations. \nThese were not the first groups to be targeted and they will not be the last. \nJoin us to hear from targeted activists facing down these threats\, along with legal experts battling the government in court\, to learn how we can–and must–work together to protect each other\, protect our civil liberties\, and protect our climate in the face of fossil-fueled authoritarianism. \nSPEAKERS INCLUDE\nSteven Donziger\, Moderator – Attorney and activist \nNate Smith – Targeted climate activist \nDana R. Fisher – Director of the Center for Environment\, Community\, & Equity and Professor in the School of International Service at American University. \nEmile Ayoub – Senior Counsel of the @brennancenter Liberty and National Security Program \nRonald L. Kuby – Criminal defense and civil rights lawyer\, radio talk show host\, and television commentator \nMore Speakers TBA! \n>>>Register on Eventbrite
URL:https://ethical.nyc/events/from-activists-to-terrorists-climate/
LOCATION:Adler Hall\, 2 W 64th St\, New York\, NY\, 10023\, United States
CATEGORIES:Ethics in Action
ATTACH;FMTTYPE=image/jpeg:https://ethical.nyc/wp-content/uploads/2026/03/actterr2_ig.jpeg
END:VEVENT
END:VCALENDAR