BEGIN:VCALENDAR
VERSION:2.0
PRODID:-//The New York Society for Ethical Culture - ECPv6.15.18//NONSGML v1.0//EN
CALSCALE:GREGORIAN
METHOD:PUBLISH
X-WR-CALNAME:The New York Society for Ethical Culture
X-ORIGINAL-URL:https://ethical.nyc
X-WR-CALDESC:Events for The New York Society for Ethical Culture
REFRESH-INTERVAL;VALUE=DURATION:PT1H
X-Robots-Tag:noindex
X-PUBLISHED-TTL:PT1H
BEGIN:VTIMEZONE
TZID:America/New_York
BEGIN:DAYLIGHT
TZOFFSETFROM:-0500
TZOFFSETTO:-0400
TZNAME:EDT
DTSTART:20250309T070000
END:DAYLIGHT
BEGIN:STANDARD
TZOFFSETFROM:-0400
TZOFFSETTO:-0500
TZNAME:EST
DTSTART:20251102T060000
END:STANDARD
BEGIN:DAYLIGHT
TZOFFSETFROM:-0500
TZOFFSETTO:-0400
TZNAME:EDT
DTSTART:20260308T070000
END:DAYLIGHT
BEGIN:STANDARD
TZOFFSETFROM:-0400
TZOFFSETTO:-0500
TZNAME:EST
DTSTART:20261101T060000
END:STANDARD
BEGIN:DAYLIGHT
TZOFFSETFROM:-0500
TZOFFSETTO:-0400
TZNAME:EDT
DTSTART:20270314T070000
END:DAYLIGHT
BEGIN:STANDARD
TZOFFSETFROM:-0400
TZOFFSETTO:-0500
TZNAME:EST
DTSTART:20271107T060000
END:STANDARD
END:VTIMEZONE
BEGIN:VEVENT
DTSTART;TZID=America/New_York:20260418T083000
DTEND;TZID=America/New_York:20260418T163000
DTSTAMP:20260424T062643
CREATED:20260323T202918Z
LAST-MODIFIED:20260414T202658Z
UID:10007763-1776501000-1776529800@ethical.nyc
SUMMARY:Spring Hike: Bull's Hill in Cold Spring
DESCRIPTION:Join us on a hike to Bull’s Hill in historic Cold Spring\, NY! \nThis 3-hour hike will take us to a summit over the Hudson River. You will be rewarded with stunning views of the river and\, on a clear day\, Manhattan. We will take a scenic train ride to the town of Cold Spring. The town\, set on the east bank of Hudson\, has many antique stores\, nice coffee shops\, several restaurants\, and a lovely small park. This town is worth a day’s visit even if you do not hike! \nGetting There\nThe ride on Metro North Hudson line takes an hour and twenty minutes and offers spectacular views of the river. We will meet at the information booth at Grand Central at 8:35 am. If you arrive after that time\, find us on the train that leaves at 8:56 am (Hudson Line\, train to Poughkeepsie). The round-trip ticket is $32 (off peak fare) and $21.50 for seniors. Children ride for $1 each way when accompanied by a fare paying adult. Please buy your own tickets. Bring a water bottle\, light lunch and/or snack for the trail\, and a few dollars for a coffee stop at a local cafe. Wear hiking or sturdy walking shoes (the trail surface is uneven and there are steep parts on descent)\, and dress in layers for the hike. Rain cancels. \nFor more information and to RSVP\, contact organizer Henryka at henryka@verizon.net.
URL:https://ethical.nyc/events/spring-hike-2026-bulls-hill-cold-spring/
LOCATION:NY
ATTACH;FMTTYPE=image/jpeg:https://ethical.nyc/wp-content/uploads/2026/03/hike20.jpg
END:VEVENT
BEGIN:VEVENT
DTSTART;TZID=America/New_York:20260418T193000
DTEND;TZID=America/New_York:20260418T220000
DTSTAMP:20260424T062643
CREATED:20260413T175533Z
LAST-MODIFIED:20260413T175533Z
UID:10007775-1776540600-1776549600@ethical.nyc
SUMMARY:The Moth Presents: 'American Dreams: Stories We Inherit'
DESCRIPTION:“What you leave as a legacy is not what is etched in stone monuments\, but what is woven into the lives of others” – Pericles \nJoin The Moth for an evening of stories about the things we inherit. What are the gifts we’ve received from generations before us? And can we give them back? \nThis year\, we celebrate 250 years of The American Dream — two and a half centuries of being tantalized by the possibility…of possibility. As we contemplate what’s next\, we cannot deny that we are shaped by the legacies of the people who came before us. \nEach teller will wrestle with their bequest\, and share stories that elevate its origins\, and its role in what will be. \nDreams realized or deferred\, discovered or rerouted – join us to examine and celebrate them all. \n>>>Purchase Tickets\nSOCIETY MEMBER DISCOUNT: Members\, check your inbox for a special discount code! \nAbout The Moth \nThe Moth is a nonprofit that believes in connecting humanity through the power of personal storytelling. Since its launch in 1997\, The Moth has presented over 65\,000 stories\, told live and without notes\, to standing-room-only crowds worldwide. The Moth produces 600+ live shows annually\, as well as the Peabody Award-winning The Moth Radio Hour\, and the popular The Moth Podcast. You can listen to The Moth weekly on over 540 public radio stations\, and anywhere you find podcasts. \nDoors Open: 6:30 pm \nEvent Start Time: 7:30 pm
URL:https://ethical.nyc/events/the-moth-presents-american-dreams-stories-we-inherit/
LOCATION:Adler Hall\, 2 W 64th St\, New York\, NY\, 10023\, United States
CATEGORIES:Concert
ATTACH;FMTTYPE=image/jpeg:https://ethical.nyc/wp-content/uploads/2026/04/mothbn.jpg
END:VEVENT
END:VCALENDAR