BEGIN:VCALENDAR
VERSION:2.0
PRODID:-//The New York Society for Ethical Culture - ECPv6.15.18//NONSGML v1.0//EN
CALSCALE:GREGORIAN
METHOD:PUBLISH
X-WR-CALNAME:The New York Society for Ethical Culture
X-ORIGINAL-URL:https://ethical.nyc
X-WR-CALDESC:Events for The New York Society for Ethical Culture
REFRESH-INTERVAL;VALUE=DURATION:PT1H
X-Robots-Tag:noindex
X-PUBLISHED-TTL:PT1H
BEGIN:VTIMEZONE
TZID:America/New_York
BEGIN:DAYLIGHT
TZOFFSETFROM:-0500
TZOFFSETTO:-0400
TZNAME:EDT
DTSTART:20250309T070000
END:DAYLIGHT
BEGIN:STANDARD
TZOFFSETFROM:-0400
TZOFFSETTO:-0500
TZNAME:EST
DTSTART:20251102T060000
END:STANDARD
BEGIN:DAYLIGHT
TZOFFSETFROM:-0500
TZOFFSETTO:-0400
TZNAME:EDT
DTSTART:20260308T070000
END:DAYLIGHT
BEGIN:STANDARD
TZOFFSETFROM:-0400
TZOFFSETTO:-0500
TZNAME:EST
DTSTART:20261101T060000
END:STANDARD
BEGIN:DAYLIGHT
TZOFFSETFROM:-0500
TZOFFSETTO:-0400
TZNAME:EDT
DTSTART:20270314T070000
END:DAYLIGHT
BEGIN:STANDARD
TZOFFSETFROM:-0400
TZOFFSETTO:-0500
TZNAME:EST
DTSTART:20271107T060000
END:STANDARD
END:VTIMEZONE
BEGIN:VEVENT
DTSTART;TZID=America/New_York:20260419T193000
DTEND;TZID=America/New_York:20260419T213000
DTSTAMP:20260419T111000
CREATED:20260227T054148Z
LAST-MODIFIED:20260227T054148Z
UID:10007716-1776627000-1776634200@ethical.nyc
SUMMARY:Metropolitan Presents: ‘Going to Extremes: A John Waters 80th Birthday Celebration’
DESCRIPTION:Acclaimed film director John Waters brings Going to Extremes: A John Waters 80th Birthday Celebration to Adler Hall at New York Society for Ethical Culture on Sunday\, April 19\, 2026 at 7:30PM. John Waters is back on the road with a whole new radical comedy revival show whose sermon will beg the authorities to drop a net on both himself and his rabidly insane audience. He’s dressed to thrill and ready to rant about everything from pro-punk conversion therapy to right-wing female-female impersonators.  Waters has written and directed sixteen movies including Pink Flamingos\, Female Trouble\, Polyester\, Hairspray\, Cry Baby\, Serial Mom and A Dirty Shame.  \nJohn Waters is no stranger to the theater. He has performed his one man spoken-word lectures entitled “End of the World\,” “This Filthy World\,” “False Negative\,” “Naked Truth\,” or “Make Trouble” and his annual Christmas show\, “A John Waters Christmas\,” at colleges\, museums\, film festivals and comedy clubs around the world. Waters has played to sold out audiences at the Coachella Valley Music and Arts Festival\, Bonnaroo\, Sydney Opera House\, Volksbühne Berlin\, and both the Southbank Centre and Barbican Hall in London. He has hosted the Mosswood Meltdown punk rock music festival for over a decade. His speaking tours have brought him in front of American MENSA and the American Association of Law Libraries as well as the Tennessee WIlliams New Orleans Literary Festival. \nTickets\nClick here to purchase \n— \nNotice: This event is managed and ticketed by Metropolitan Entertainment.
URL:https://ethical.nyc/events/metropolitan-presents-going-to-extremes-a-john-waters-80th-birthday-celebration/
LOCATION:Adler Hall\, 2 W 64th St\, New York\, NY\, 10023\, United States
CATEGORIES:Concert
ATTACH;FMTTYPE=image/jpeg:https://ethical.nyc/wp-content/uploads/2026/02/jw-1920x1080-ny.jpg
END:VEVENT
END:VCALENDAR