BEGIN:VCALENDAR
VERSION:2.0
PRODID:-//The New York Society for Ethical Culture - ECPv6.15.18//NONSGML v1.0//EN
CALSCALE:GREGORIAN
METHOD:PUBLISH
X-WR-CALNAME:The New York Society for Ethical Culture
X-ORIGINAL-URL:https://ethical.nyc
X-WR-CALDESC:Events for The New York Society for Ethical Culture
REFRESH-INTERVAL;VALUE=DURATION:PT1H
X-Robots-Tag:noindex
X-PUBLISHED-TTL:PT1H
BEGIN:VTIMEZONE
TZID:America/New_York
BEGIN:DAYLIGHT
TZOFFSETFROM:-0500
TZOFFSETTO:-0400
TZNAME:EDT
DTSTART:20230312T070000
END:DAYLIGHT
BEGIN:STANDARD
TZOFFSETFROM:-0400
TZOFFSETTO:-0500
TZNAME:EST
DTSTART:20231105T060000
END:STANDARD
BEGIN:DAYLIGHT
TZOFFSETFROM:-0500
TZOFFSETTO:-0400
TZNAME:EDT
DTSTART:20240310T070000
END:DAYLIGHT
BEGIN:STANDARD
TZOFFSETFROM:-0400
TZOFFSETTO:-0500
TZNAME:EST
DTSTART:20241103T060000
END:STANDARD
BEGIN:DAYLIGHT
TZOFFSETFROM:-0500
TZOFFSETTO:-0400
TZNAME:EDT
DTSTART:20250309T070000
END:DAYLIGHT
BEGIN:STANDARD
TZOFFSETFROM:-0400
TZOFFSETTO:-0500
TZNAME:EST
DTSTART:20251102T060000
END:STANDARD
END:VTIMEZONE
BEGIN:VEVENT
DTSTART;TZID=America/New_York:20240909T140000
DTEND;TZID=America/New_York:20240909T150000
DTSTAMP:20260419T140753
CREATED:20240904T205559Z
LAST-MODIFIED:20240904T205559Z
UID:10006798-1725890400-1725894000@ethical.nyc
SUMMARY:Practical Ethics: We're All Equal\, Right? Let's Make Sure...'
DESCRIPTION:Free in-person and online! \nIn this program we’ll explore the ethics of living by reading a short story that highlights an ethical dilemma. The stories are generally available\, and they can also be obtained from the Society approximately two weeks before the session upon request to mdetermann@nysec.org or rkoral@nysec.org. \nThe story we’ll be discussing is: \n\n“Harrison Bergeron” by Kurt Vonnegut\n\nFacilitated by Leader Richard Koral. 2nd Mondays at 2:00pm. \nJoin Online\nClick to join at start | Zoom ID 838 1778 1084 | Passcode 675527
URL:https://ethical.nyc/events/practical-ethics-were-all-equal-right-lets-make-sure/
LOCATION:Adler Study (514)\, 2 W 64th St.\, New York\, NY\, 10023\, United States
CATEGORIES:Practical Ethics
ATTACH;FMTTYPE=image/jpeg:https://ethical.nyc/wp-content/uploads/2023/07/practical_2023.jpg
END:VEVENT
END:VCALENDAR