BEGIN:VCALENDAR
VERSION:2.0
PRODID:-//The New York Society for Ethical Culture - ECPv6.15.18//NONSGML v1.0//EN
CALSCALE:GREGORIAN
METHOD:PUBLISH
X-ORIGINAL-URL:https://ethical.nyc
X-WR-CALDESC:Events for The New York Society for Ethical Culture
REFRESH-INTERVAL;VALUE=DURATION:PT1H
X-Robots-Tag:noindex
X-PUBLISHED-TTL:PT1H
BEGIN:VTIMEZONE
TZID:America/New_York
BEGIN:DAYLIGHT
TZOFFSETFROM:-0500
TZOFFSETTO:-0400
TZNAME:EDT
DTSTART:20220313T070000
END:DAYLIGHT
BEGIN:STANDARD
TZOFFSETFROM:-0400
TZOFFSETTO:-0500
TZNAME:EST
DTSTART:20221106T060000
END:STANDARD
BEGIN:DAYLIGHT
TZOFFSETFROM:-0500
TZOFFSETTO:-0400
TZNAME:EDT
DTSTART:20230312T070000
END:DAYLIGHT
BEGIN:STANDARD
TZOFFSETFROM:-0400
TZOFFSETTO:-0500
TZNAME:EST
DTSTART:20231105T060000
END:STANDARD
BEGIN:DAYLIGHT
TZOFFSETFROM:-0500
TZOFFSETTO:-0400
TZNAME:EDT
DTSTART:20240310T070000
END:DAYLIGHT
BEGIN:STANDARD
TZOFFSETFROM:-0400
TZOFFSETTO:-0500
TZNAME:EST
DTSTART:20241103T060000
END:STANDARD
END:VTIMEZONE
BEGIN:VEVENT
DTSTART;TZID=America/New_York:20230801T100000
DTEND;TZID=America/New_York:20230801T110000
DTSTAMP:20260424T051559
CREATED:20230628T203748Z
LAST-MODIFIED:20231213T192924Z
UID:10005649-1690884000-1690887600@ethical.nyc
SUMMARY:Poetry Circle (Online)
DESCRIPTION:Bring a favorite poem (or poems) to our monthly online poetry circle! \nRead it aloud\, and we’ll listen attentively together and discuss—a line\, a word\, an image\, or an overall feeling. You’re welcome to give us a couple of sentences about the poet\, too. Elinore Kaplan moderates. \nIf you wish to share a poem\, please send it to Elinore in advance so it can be shared on-screen with participants: ethicaloutlook@gmail.com. \nClick to join at start | Zoom ID 838 1778 1084 | Passcode 675527 \n(Photo by Suzy Hazelwood)
URL:https://ethical.nyc/events/poetry-circle-online-5-2023-08-01/
LOCATION:NY
CATEGORIES:Poetry
ATTACH;FMTTYPE=image/jpeg:https://ethical.nyc/wp-content/uploads/2021/12/poetry_banner.jpg
END:VEVENT
BEGIN:VEVENT
DTSTART;TZID=America/New_York:20230802T190000
DTEND;TZID=America/New_York:20230802T210000
DTSTAMP:20260424T051559
CREATED:20230118T042026Z
LAST-MODIFIED:20230622T184421Z
UID:10005592-1691002800-1691010000@ethical.nyc
SUMMARY:Great Literature Discussion: 'Monkey Beach' by Eden Robinson (Online)
DESCRIPTION:Literary works will be discussed based on what can be found in the text in order to enrich each other’s interpretation of the novel/novella. All are welcome to join and any edition or translation of the book under discussion can be used. Read the work in advance and be prepared to discuss the aspects of interest to you by referring to specific related text and reading it to the group. Moderated by Ethical NYC member Gunther Tielemans. 1st and 3rd Wednesdays. \nDetails TBA. \nFor access information\, please contact Gunther.
URL:https://ethical.nyc/events/great-literature-discussion-3-2023-07-19-2023-08-02/
LOCATION:2 W 64th St\, New York\, NY\, 10023\, United States
CATEGORIES:Great Literature Discussions
ATTACH;FMTTYPE=image/jpeg:https://ethical.nyc/wp-content/uploads/2023/01/greatlit_2023_sm.jpg
END:VEVENT
BEGIN:VEVENT
DTSTART;VALUE=DATE:20230805
DTEND;VALUE=DATE:20230806
DTSTAMP:20260424T051559
CREATED:20230614T183911Z
LAST-MODIFIED:20230801T132450Z
UID:10005643-1691193600-1691279999@ethical.nyc
SUMMARY:NY/NJ Metropolitan Societies Regional Picnic
DESCRIPTION:There are some real scientific reasons why we feel better during the summer months ~ specifically sunshine and socializing! Here’s your chance to experience both on Saturday\, August 5th at the Ethical Societies regional picnic at the Westchester Community for Ethical Culture (7 Saxon Rd. in White Plains). \nParticipants from all Ethical Societies in the NY/NJ Metropolitan area are invited to savor some summer fun\, and we’re hoping you can be there\, too! Come enjoy good food and good friends while relaxing on the beautiful grounds of the WCEC. Members: please RSVP at the link provided to you. We may be able to offer transportation from NYSEC\, and will provide information for anyone traveling via Metro North. \nMembers only. Start time TBA.
URL:https://ethical.nyc/events/american-ethical-union-regional-picnic/
LOCATION:2 W 64th St\, New York\, NY\, 10023\, United States
CATEGORIES:American Ethical Union
ATTACH;FMTTYPE=image/jpeg:https://ethical.nyc/wp-content/uploads/2021/11/mosaic-1024x497.jpg
END:VEVENT
BEGIN:VEVENT
DTSTART;TZID=America/New_York:20230806T110000
DTEND;TZID=America/New_York:20230806T123000
DTSTAMP:20260424T051559
CREATED:20221107T214855Z
LAST-MODIFIED:20230801T190033Z
UID:10004590-1691319600-1691325000@ethical.nyc
SUMMARY:Sunday Platform: Interview with the Inaugural Ethical NYC Youth Climate Corps Team
DESCRIPTION:In-person and online! Join us this Sunday as Leader Dr. Nori Rost interviews the members of this summer’s inaugural Ethical NYC Youth Climate Corps team. \nOur Youth Climate Corps is an ecologically-focused development program that employs youth ages 15-18 to complete community-based environmental initiatives while training in soft skills\, environmental science\, and environmental construction. \nThe team has spent the past month working on projects at Great Falls National Park in Patterson\, NJ. alongside the Ethical Culture Society of Bergen County’s Planet & Progress Team. \nRSVP is kindly requested to ensure space in our smaller summer room and to ensure we order enough food for lunch. There will be no bagel breakfast before this week’s program. \nClick here to RSVP to attend in-person! \nWatch Online: Click to join at start | ID 863 0430 0961 | Passcode 609424\nTo join by phone (audio only)\, dial (929) 205-6099 and enter the Zoom ID above. \nPresider: Leader Dr. Nori Rost \nMonthly Collection: TREEage \nCOVID-19 Notice: Vaccination is required. Masks are optional but encouraged. \n\nSunday Platform is our most important and long-standing community event. These gatherings educate\, stimulate personal growth\, inspire reflection and action\, and strengthen our community. Sunday meetings begin with music\, followed by greetings and a talk given by a Society Leader\, member\, or guest.  Platforms cover a variety of topics that reflect current events\, pressing social issues\, and Humanist philosophy. Each Sunday meeting is followed by a luncheon and social hour. \nTo watch previous Sunday Platforms\, visit our Videos page and YouTube channel.
URL:https://ethical.nyc/events/sunday-platform-9-2023-08-06/
LOCATION:Adler Study (514)\, 2 W 64th St.\, New York\, NY\, 10023\, United States
CATEGORIES:Sunday Platform
ATTACH;FMTTYPE=image/jpeg:https://ethical.nyc/wp-content/uploads/2022/11/ycc_grp_final.jpg
END:VEVENT
BEGIN:VEVENT
DTSTART;TZID=America/New_York:20230807T110000
DTEND;TZID=America/New_York:20230807T120000
DTSTAMP:20260424T051559
CREATED:20230628T211213Z
LAST-MODIFIED:20230710T160317Z
UID:10004689-1691406000-1691409600@ethical.nyc
SUMMARY:Say Yes to Science with Dr. Frank Corigliano
DESCRIPTION:Thanks to vaccines and other medical innovation\, COVID-19 is now endemic. \nOn 1st and 3rd Mondays at 11am\, clinical psychologist Frank Corigliano will continue to address your concerns about managing day-to-day during this trying time. \nOn 2nd and 4th Mondays at 5pm\, retired oncologist Carol Portlock will discuss new and intriguing science in multiple areas\, including some relevant to COVID. \nSuggested readings TBA. \nClick to join at start | Zoom ID 838 1778 1084 | Passcode 675527
URL:https://ethical.nyc/events/say-yes-to-science-fc/2023-08-07/
LOCATION:2 W 64th St\, New York\, NY\, 10023\, United States
CATEGORIES:Share and Learn
ATTACH;FMTTYPE=image/jpeg:https://ethical.nyc/wp-content/uploads/2021/12/share-learn.jpeg
END:VEVENT
BEGIN:VEVENT
DTSTART;TZID=America/New_York:20230807T173000
DTEND;TZID=America/New_York:20230807T203000
DTSTAMP:20260424T051559
CREATED:20220502T163537Z
LAST-MODIFIED:20220811T063232Z
UID:10005330-1691429400-1691440200@ethical.nyc
SUMMARY:Board of Trustees Meeting
DESCRIPTION:Any Society Member who wishes to attend in-person or online via Zoom can contact Executive Director Robert Liebeskind for access\, at rliebskind@nysec.org.
URL:https://ethical.nyc/events/board-of-trustees-meeting-2-2022-06-13-2022-09-05-2022-11-07/2023-08-07/
LOCATION:Adler Study (514)\, 2 W 64th St.\, New York\, NY\, 10023\, United States
CATEGORIES:Board of Trustees
ATTACH;FMTTYPE=image/jpeg:https://ethical.nyc/wp-content/uploads/2021/11/mosaic-1024x497.jpg
END:VEVENT
BEGIN:VEVENT
DTSTART;TZID=America/New_York:20230813T110000
DTEND;TZID=America/New_York:20230813T123000
DTSTAMP:20260424T051559
CREATED:20221107T214855Z
LAST-MODIFIED:20230711T212525Z
UID:10004592-1691924400-1691929800@ethical.nyc
SUMMARY:Kristen Ghodsee: 'Rethinking Community: Secular and Spiritual Perspectives'
DESCRIPTION:In-person and online! \nFor millennia\, people from different ethnic\, religious\, and cultural traditions have resided together in nonconsanguineous extended households. Whether these were small groups sharing tribal longhouses; celibate\, pious\, and ascetic cenobites settled in monasteries\, convents\, or beguinages; or secularists fully engaged with the world and living in colleges\, phalansteries\, or planned microdistricts\, many of our ancestors rejected the isolation of the individual dwelling shared only with a handful of one’s blood-related or legally recognized kin. Our architectural options today reflect a specific set of choices about the ideal habitat for human flourishing\, choices often born of our past attachments to patrilineal and patrilocal traditions. How might we live differently? \nThat we are utopians is well known. So utopian are we that we go the length of believing that the revolution can and ought to assure shelter\, food and clothes to all.\n-Pyotr Kropotkin\, 1892 \nKristen R. Ghodsee is a Professor of Russian and East European Studies at the University of Pennsylvania and the critically acclaimed author of Why Women Have Better Sex Under Socialism: And Other Arguments for Economic Independence\, which has been translated into fifteen languages. Her writing has been published in The New York Times\, The Washington Post\, The New Republic\, Le Monde Diplomatique\, and Jacobin\, among other outlets\, and she’s appeared on PBS NewsHour and France 24 as well as on dozens of podcasts\, including NPR’s Throughline\, New York magazine’s The Cut\, and the New York Times’s Ezra Klein Show. \nWatch Online: Click to join at start | ID 863 0430 0961 | Passcode 609424\nTo join by phone (audio only)\, dial (929) 205-6099 and enter the Zoom ID above. \nPresider: Leader Nori Rost \nWeekly Collection: Foundation for Intentional Community \nCOVID-19 Notice: Vaccination is required. Masks are optional but encouraged. \n\nSunday Platform is our most important and long-standing community event. These gatherings educate\, stimulate personal growth\, inspire reflection and action\, and strengthen our community. Sunday meetings begin with music\, followed by greetings and a talk given by a Society Leader\, member\, or guest.  Platforms cover a variety of topics that reflect current events\, pressing social issues\, and Humanist philosophy. Each Sunday meeting is followed by a luncheon and social hour. \nTo watch previous Sunday Platforms\, visit our Videos page and YouTube channel.
URL:https://ethical.nyc/events/sunday-platform-9-2023-08-06-2023-08-13/
LOCATION:Ceremonial Hall (4th Floor)\, 2 W 64th St\, New York\, NY\, 10023\, United States
CATEGORIES:Sunday Platform
ATTACH;FMTTYPE=image/jpeg:https://ethical.nyc/wp-content/uploads/2022/11/ghodsee_ss.jpg
END:VEVENT
BEGIN:VEVENT
DTSTART;TZID=America/New_York:20230814T170000
DTEND;TZID=America/New_York:20230814T180000
DTSTAMP:20260424T051559
CREATED:20230628T211422Z
LAST-MODIFIED:20230813T021121Z
UID:10004708-1692032400-1692036000@ethical.nyc
SUMMARY:Say Yes to Science with Dr. Carol Portlock (Online)
DESCRIPTION:Thanks to vaccines and other medical innovation\, COVID-19 is now endemic. \nOn 1st and 3rd Mondays at 11am\, clinical psychologist Frank Corigliano will continue to address your concerns about managing day-to-day during this trying time. \nOn 2nd and 4th Mondays at 5pm\, retired oncologist Carol Portlock will discuss new and intriguing science in multiple areas\, including some relevant to COVID. \nSuggested Readings: \nLeprosy appears endemic in central Florida\nhttps://www.nytimes.com/2023/08/02/health/leprosy-florida.html \n\nRed meat allergy attributed to tick bite\nhttps://www.npr.org/sections/health-shots/2023/04/02/1166431106/ticks-ick-the-latest-science-on-the-red-meat-allergy-caused-by-some-tick-bites\n\n\nImpact of climate change on the oceans\nhttps://www.nytimes.com/interactive/2023/08/03/climate/ocean-temperatures-heat-earth.html\nhttps://www.npr.org/2023/08/01/1191216362/surfs-up-wave-heights-increase-on-californias-coasts-as-climate-warms\n\nDNA study identifies living Americans with prior slave ancestry\nhttps://www.nytimes.com/2023/08/03/science/catoctin-african-americans-dna.html\n\nSettlement for Henrietta Lacks’ family after decades of tissue culture research\nhttps://www.nytimes.com/2023/08/01/science/henrietta-lacks-cells-lawsuit-settlement.html\n\n\n\nAnd a discussion of the ethics involved\nhttps://www.nytimes.com/2023/08/04/opinion/henrietta-lacks-cells-property.html\n\n \nFrozen worm thawed back to life after 46\,000 years…\nhttps://www.nytimes.com/2023/07/29/science/roundworm-nematodes-siberia-permafrost.html\nhttps://www.npr.org/2023/07/30/1190950660/nematode-worm-permafrost-discovery-frozen \n\n\nDiamonds erupt with volcanic activity https://www.theguardian.com/science/2023/jul/26/why-do-diamonds-erupt-earth-depths-scientists-have-answer\nClick to join at start | Zoom ID 838 1778 1084 | Passcode 675527
URL:https://ethical.nyc/events/say-yes-to-science-cp-2023-08-14/
LOCATION:2 W 64th St\, New York\, NY\, 10023\, United States
CATEGORIES:Share and Learn
ATTACH;FMTTYPE=image/jpeg:https://ethical.nyc/wp-content/uploads/2021/12/share-learn.jpeg
END:VEVENT
BEGIN:VEVENT
DTSTART;TZID=America/New_York:20230816T180000
DTEND;TZID=America/New_York:20230816T203000
DTSTAMP:20260424T051559
CREATED:20230528T190154Z
LAST-MODIFIED:20230814T140128Z
UID:10005638-1692208800-1692217800@ethical.nyc
SUMMARY:Climate and Energy Game Night with City Atlas
DESCRIPTION:Hosted by Philip Lindsay and Forrest Sparks (facilitator and designer)\, and the City Atlas network. \nJoin us June 14\, July 12\, and August 16! \nClick here to RSVP on Eventbrite! \nThe goal of these sessions is to provide a consistent time and place where the public can come to learn and play collaborative climate/environmental and energy games.  We’ll primarily play Energetic\, but also the upcoming Daybreak\, and the recently released “Climate Fresk.” We will likely also play games that deal with governance/politics. \nIf we are to confront the climate crisis at scale\, we will need to collaborate and coordinate across fields\, neighborhoods\, cultures and industries. A serious energy transition demands such coordination (that’s what Energetic the game teaches us). Collaborative games and policy making forums (such as deliberative citizens’ assemblies) point the way forward to enable us to do this at scale. They orient participants towards longterm goals and enable them to work through scenarios of the coming decades\, in order to discuss what policies will be most efficient and successful at reducing emissions while maintaining public support. \nAbout the Hosts \nPhilip Lindsay grew up in Philadelphia and lives in Sunset Park\, Brooklyn. He leads the Democracy Innovation Hub (DIH) at the Hannah Arendt Center for Politics and Humanities at Bard College. In July of 2022\, the Hub hosted “Citizens’ Assemblies: A Workshop to Revitalize Democracy\,” which brought together over 50 public servants\, elected officials\, and community advocates. This led to the implementation of three deliberative budgeting processes in NYC government in 2023. Philip also co-taught the course “Democratic Innovation and Citizen Lotteries: from Ancient Athens to the French Climate Assembly.” The Hub also hosted the “Doing Democracy Differently Teacher Fellowship” which trains high school teachers on how to bring deliberative democracy into the classroom. \nCOVID-19 Notice: Vaccination required. Masks optional but strongly encouraged.
URL:https://ethical.nyc/events/climate-and-energy-game-night/
LOCATION:Elliott Library (507)\, 2 W 64th St\, New York\, NY\, 10023\, United States
ATTACH;FMTTYPE=image/jpeg:https://ethical.nyc/wp-content/uploads/2023/05/energetic_game.jpg
END:VEVENT
BEGIN:VEVENT
DTSTART;TZID=America/New_York:20230816T190000
DTEND;TZID=America/New_York:20230816T210000
DTSTAMP:20260424T051559
CREATED:20230118T042026Z
LAST-MODIFIED:20230622T184418Z
UID:10005593-1692212400-1692219600@ethical.nyc
SUMMARY:Great Literature Discussion: 'Mr. President' by Miguel Ángel Asturias (Online)
DESCRIPTION:Literary works will be discussed based on what can be found in the text in order to enrich each other’s interpretation of the novel/novella. All are welcome to join and any edition or translation of the book under discussion can be used. Read the work in advance and be prepared to discuss the aspects of interest to you by referring to specific related text and reading it to the group. Moderated by Ethical NYC member Gunther Tielemans. 1st and 3rd Wednesdays. \nDetails TBA. \nFor access information\, please contact Gunther.
URL:https://ethical.nyc/events/great-literature-discussion-3-2023-07-19-2023-08-16/
LOCATION:2 W 64th St\, New York\, NY\, 10023\, United States
CATEGORIES:Great Literature Discussions
ATTACH;FMTTYPE=image/jpeg:https://ethical.nyc/wp-content/uploads/2023/01/greatlit_2023_sm.jpg
END:VEVENT
BEGIN:VEVENT
DTSTART;TZID=America/New_York:20230820T110000
DTEND;TZID=America/New_York:20230820T123000
DTSTAMP:20260424T051559
CREATED:20221107T214855Z
LAST-MODIFIED:20230814T140257Z
UID:10004594-1692529200-1692534600@ethical.nyc
SUMMARY:Richard Koral: Is There 'Reverence' in Ethical Humanism?
DESCRIPTION:In-person and online! \nIs there such a thing as ‘reverence’ in Ethical Humanism? \nWatch Online: Click to join at start | ID 863 0430 0961 | Passcode 609424\nTo join by phone (audio only)\, dial (929) 205-6099 and enter the Zoom ID above. \nMonthly Collection: TREEage \nCOVID-19 Notice: Vaccination is required. Masks are optional but encouraged. \n\nSunday Platform is our most important and long-standing community event. These gatherings educate\, stimulate personal growth\, inspire reflection and action\, and strengthen our community. Sunday meetings begin with music\, followed by greetings and a talk given by a Society Leader\, member\, or guest.  Platforms cover a variety of topics that reflect current events\, pressing social issues\, and Humanist philosophy. Each Sunday meeting is followed by a luncheon and social hour. \nTo watch previous Sunday Platforms\, visit our Videos page and YouTube channel.
URL:https://ethical.nyc/events/sunday-platform-9-2023-08-06-2023-08-20/
LOCATION:Ceremonial Hall (4th Floor)\, 2 W 64th St\, New York\, NY\, 10023\, United States
CATEGORIES:Sunday Platform
ATTACH;FMTTYPE=image/jpeg:https://ethical.nyc/wp-content/uploads/2022/11/koral_2023aug.jpg
END:VEVENT
BEGIN:VEVENT
DTSTART;TZID=America/New_York:20230821T110000
DTEND;TZID=America/New_York:20230821T120000
DTSTAMP:20260424T051559
CREATED:20240125T173744Z
LAST-MODIFIED:20240125T173744Z
UID:10004693-1692615600-1692619200@ethical.nyc
SUMMARY:Say Yes to Science with Dr. Frank Corigliano
DESCRIPTION:Thanks to vaccines and other medical innovation\, COVID-19 is now endemic. \nOn 1st and 3rd Mondays at 11am\, clinical psychologist Frank Corigliano will continue to address your concerns about managing day-to-day during this trying time. \nOn 2nd and 4th Mondays at 5pm\, retired oncologist Carol Portlock will discuss new and intriguing science in multiple areas\, including some relevant to COVID. \nSuggested readings TBA. \nClick to join at start | Zoom ID 838 1778 1084 | Passcode 675527
URL:https://ethical.nyc/events/say-yes-to-science-fc/2023-08-21/
LOCATION:2 W 64th St\, New York\, NY\, 10023\, United States
CATEGORIES:Share and Learn
ATTACH;FMTTYPE=image/jpeg:https://ethical.nyc/wp-content/uploads/2021/12/share-learn.jpeg
END:VEVENT
BEGIN:VEVENT
DTSTART;TZID=America/New_York:20230827T110000
DTEND;TZID=America/New_York:20230827T123000
DTSTAMP:20260424T051559
CREATED:20221107T214855Z
LAST-MODIFIED:20230827T155322Z
UID:10005540-1693134000-1693139400@ethical.nyc
SUMMARY:Sunday Platform with Ethics and the Theater: PROTEST by Vaclav Havel
DESCRIPTION:A successful writer ponders whether to sign a letter protesting the government detention of a young singer. Easy. But this is 1970s communist-ruled Czechoslovakia. And the letter was penned by a prominent dissident recently released from prison — who is standing there\, awaiting the decision. Where to draw the line between heroism and recklessness\, prudence and cowardice? \nPerformed by Arthur Aulisi and Mark Hofmaier. Directed by Susanna Frazer \nMonthly Collection: TREEage \nCOVID-19 Notice: Vaccination is required. Masks are optional but encouraged. \n\nSunday Platform is our most important and long-standing community event. These gatherings educate\, stimulate personal growth\, inspire reflection and action\, and strengthen our community. Sunday meetings begin with music\, followed by greetings and a talk given by a Society Leader\, member\, or guest.  Platforms cover a variety of topics that reflect current events\, pressing social issues\, and Humanist philosophy. Each Sunday meeting is followed by a luncheon and social hour. \nTo watch previous Sunday Platforms\, visit our Videos page and YouTube channel.
URL:https://ethical.nyc/events/sunday-platform-9-2023-08-06-2023-08-27/
LOCATION:Ceremonial Hall (4th Floor)\, 2 W 64th St\, New York\, NY\, 10023\, United States
CATEGORIES:Sunday Platform
ATTACH;FMTTYPE=image/jpeg:https://ethical.nyc/wp-content/uploads/2022/11/havel_protest.jpeg
END:VEVENT
BEGIN:VEVENT
DTSTART;TZID=America/New_York:20230828T170000
DTEND;TZID=America/New_York:20230828T180000
DTSTAMP:20260424T051559
CREATED:20230628T211422Z
LAST-MODIFIED:20230828T005132Z
UID:10004709-1693242000-1693245600@ethical.nyc
SUMMARY:Say Yes to Science with Dr. Carol Portlock (Online)
DESCRIPTION:Thanks to vaccines and other medical innovation\, COVID-19 is now endemic. \nOn 1st and 3rd Mondays at 11am\, clinical psychologist Frank Corigliano will continue to address your concerns about managing day-to-day during this trying time. \nOn 2nd and 4th Mondays at 5pm\, retired oncologist Carol Portlock will discuss new and intriguing science in multiple areas\, including some relevant to COVID. \nSuggested readings: \nScreen time and childhood development\nhttps://www.nytimes.com/2023/08/21/health/screen-time-developmental-delays-babies.html \nUltrasound imaging bra to detect breast cancer in impoverished regions\nhttps://www.theguardian.com/global-development/2023/aug/09/kemisola-bolarinwa-tech-entrepreneur-cancer-tumour-detecting-bra-nigeria-acc \nOcculomics and Parkinson’s disease detection\nhttps://www.theguardian.com/science/2023/aug/21/3d-eye-scans-at-opticians-could-identify-those-at-risk-of-parkinsons-study-finds \n\nCarbon-dating of humans exposed to A-bomb tests in the 1950s\nhttps://www.bbc.com/future/article/20230808-atomic-bomb-spike-carbon-radioactive-body-anthropocene\n\n\n\n\n“Clouds” on Neptune?\nhttps://www.nytimes.com/2023/08/18/science/neptune-clouds-sun.html\n\n \nNew ways of experiencing music\nhttps://www.nytimes.com/2023/08/15/science/music-brain-pink-floyd.html\nhttps://www.nytimes.com/2023/08/20/style/haptic-suits-deaf-music.html\n\n\nClick to join at start | Zoom ID 838 1778 1084 | Passcode 675527
URL:https://ethical.nyc/events/say-yes-to-science-cp-2023-08-14-2023-08-28/
LOCATION:2 W 64th St\, New York\, NY\, 10023\, United States
CATEGORIES:Share and Learn
ATTACH;FMTTYPE=image/jpeg:https://ethical.nyc/wp-content/uploads/2021/12/share-learn.jpeg
END:VEVENT
END:VCALENDAR