BEGIN:VCALENDAR
VERSION:2.0
PRODID:-//The New York Society for Ethical Culture - ECPv6.15.18//NONSGML v1.0//EN
CALSCALE:GREGORIAN
METHOD:PUBLISH
X-ORIGINAL-URL:https://ethical.nyc
X-WR-CALDESC:Events for The New York Society for Ethical Culture
REFRESH-INTERVAL;VALUE=DURATION:PT1H
X-Robots-Tag:noindex
X-PUBLISHED-TTL:PT1H
BEGIN:VTIMEZONE
TZID:America/New_York
BEGIN:DAYLIGHT
TZOFFSETFROM:-0500
TZOFFSETTO:-0400
TZNAME:EDT
DTSTART:20200308T070000
END:DAYLIGHT
BEGIN:STANDARD
TZOFFSETFROM:-0400
TZOFFSETTO:-0500
TZNAME:EST
DTSTART:20201101T060000
END:STANDARD
BEGIN:DAYLIGHT
TZOFFSETFROM:-0500
TZOFFSETTO:-0400
TZNAME:EDT
DTSTART:20210314T070000
END:DAYLIGHT
BEGIN:STANDARD
TZOFFSETFROM:-0400
TZOFFSETTO:-0500
TZNAME:EST
DTSTART:20211107T060000
END:STANDARD
BEGIN:DAYLIGHT
TZOFFSETFROM:-0500
TZOFFSETTO:-0400
TZNAME:EDT
DTSTART:20220313T070000
END:DAYLIGHT
BEGIN:STANDARD
TZOFFSETFROM:-0400
TZOFFSETTO:-0500
TZNAME:EST
DTSTART:20221106T060000
END:STANDARD
END:VTIMEZONE
BEGIN:VEVENT
DTSTART;TZID=America/New_York:20210418T110000
DTEND;TZID=America/New_York:20210418T121500
DTSTAMP:20260421T120545
CREATED:20210225T224704Z
LAST-MODIFIED:20210331T144213Z
UID:10003799-1618743600-1618748100@ethical.nyc
SUMMARY:Sunday Platform - Curt Collier: "The Emergence of Biocentric Ethical Culture" (Online)
DESCRIPTION:A unique outlier in many respects\, Ethical Culture has allied itself and been a home to many philosophical partners over the years\, including humanism\, free thought\, progressivism\, religious liberalism\, agnosticism\, atheism and so forth. Adherents to these belief systems have found a home because of Ethical Culture’s emphasis on deeds above creeds and its work towards many issues common to liberal and progressive agendas. Despite these similarities\, Ethical Culture is also radically different than these beliefs. Had Adler continued living into the present age\, how would he have applied the Ethical way of life to modern environmental and societal challenges? \nCurt Collier is the Interim Leader of the Ethical Culture Society of Bergen County\, and has served as Leader of three other Societies during his nearly 20 years of service. Collier is also the National Youth Program Director for Groundwork USA\, an organization created by the National Park Service and the EPA to help raise the capacity of communities to deal with local environmental challenges. He has created a number of programs with federal partners and supporting agencies to create environmental job training\, resume building experiences\, and career pipelines for diverse youth of color in multiple states. \nClick here to join at start time | ID 863 0430 0961 | Passcode 609424 \nPresider: Sarah Sprott \nThis Week’s Charity: Rise & Root Farm \n\nSunday Platform is our most important and long-standing community event. These gatherings educate\, stimulate personal growth\, inspire reflection and action\, and strengthen our community. Sunday meetings usually begin with music\, followed by greetings and a talk given by a Society Leader\, member\, or guest.  Platforms cover a variety of topics that reflect current events\, pressing social issues\, and Ethical Culture philosophy. A collection basket is passed and money is shared between the Society and a charity selected for that day.  While contributions are always appreciated\, Sunday meetings are free and open to the public.  Each Sunday meeting is followed by a luncheon and social hour. \nTo view previous Sunday Platform addresses and interviews\, visit the Ethical NYC YouTube channel.
URL:https://ethical.nyc/events/sunday-platform-6-2021-04-18/
CATEGORIES:Sunday Platform
ATTACH;FMTTYPE=image/jpeg:https://ethical.nyc/wp-content/uploads/2021/03/curt-collier.jpeg
END:VEVENT
BEGIN:VEVENT
DTSTART;TZID=America/New_York:20210418T110000
DTEND;TZID=America/New_York:20210418T123000
DTSTAMP:20260421T120545
CREATED:20201218T212822Z
LAST-MODIFIED:20210412T145315Z
UID:10003860-1618743600-1618749000@ethical.nyc
SUMMARY:Young Ethical Explorers Field Trip: Earth Day Journey and Writefully Ours Workshop
DESCRIPTION:Celebrate Earth Month with a family-friendly hike in Van Cortland Park\, known for its vast forested area\, freshwater lake\, and many playgrounds. The hike will be followed by a Writefully Ours workshop on Earth Day reflections: “What’s your promise to Earth today?” \nAs we celebrate Earth Month\, springtime with pandemic safety is our priority. We will make outdoor field trips. Bring a notebook\, blankets to sit on\, and picnic lunches (with minimal trash). Wear Covid-19 masks. \nTo join\, please RSVP to Youth Programs Director Audrey Kindred at youngethicalexplorers@gmail.com. For more information about our youth and family programming\, please visit www.ethical.nyc/youth. \n\nEthics for Children is our Humanist Sunday school\, designed for youngsters from ages 4 to 13\, and takes place concurrent with our Sunday Platform meetings. Sessions raise issues of personal identity and integrity\, appreciation and respect for others\, and knowledge of religions\, philosophies\, and social concerns. Topics are explored in an age-appropriate way through discussion\, storytelling\, dramatization\, music\, art\, games\, and field trips. \nRSVP is essential to guarantee your place and for planning purposes. If you are enrolled for the season or are members of Ethical NYC your spot is guaranteed. To RSVP as a guest\, become a member\, or enroll in season\, please contact Audrey at YoungEthicalExplorers@gmail.com. Newcomers and visitors are always welcome!
URL:https://ethical.nyc/events/young-ethical-explorers-4-2021-03-14-2021-04-18/
CATEGORIES:Youth and Families
ATTACH;FMTTYPE=image/jpeg:https://ethical.nyc/wp-content/uploads/2019/05/youth2.jpg
END:VEVENT
BEGIN:VEVENT
DTSTART;TZID=America/New_York:20210419T140000
DTEND;TZID=America/New_York:20210419T150000
DTSTAMP:20260421T120545
CREATED:20201226T193800Z
LAST-MODIFIED:20210325T050943Z
UID:10004805-1618840800-1618844400@ethical.nyc
SUMMARY:Managing in the Time of COVID-19 w/ Dr. Frank Corigliano (Online)
DESCRIPTION:COVID-19 has created challenges for all of us. Retired oncologist Carol Portlock and clinical psychologist Frank Corigliano will address your concerns about managing day-to-day during this trying time. You’re invited to share your stories\, strengths\, and struggles. \nSuggested readings TBA. \nClick here to join at start time | ID 814 7073 5630 | Passcode 158119\nFor complete join details\, please also see our daily event emails. \n\nYou can download Zoom at https://zoom.us/download\, although it’s not necessary to do ahead of time. Zoom is available for tablets and smartphones in both main app stores\, Apple and Google Android. Attendees don’t need to register for a Zoom account although it’s free and helpful. To join a meeting\, simply click the event’s invitation link above.
URL:https://ethical.nyc/events/managing-in-the-time-of-covid-19-2-2021-04-19/
CATEGORIES:Share and Learn
ATTACH;FMTTYPE=image/jpeg:https://ethical.nyc/wp-content/uploads/2020/03/mosaic.jpg
END:VEVENT
BEGIN:VEVENT
DTSTART;TZID=America/New_York:20210420T140000
DTEND;TZID=America/New_York:20210420T150000
DTSTAMP:20260421T120545
CREATED:20201218T211701Z
LAST-MODIFIED:20210416T171209Z
UID:10004719-1618927200-1618930800@ethical.nyc
SUMMARY:Ethics in the News: "Should There Be Limits On a Teacher's Political Activities?" (Online)
DESCRIPTION:Join in the lively give-and-take on compelling issues and current events and bring your own ideas. Member Joe Fashing moderates. \nSuggested readings: \nA Teacher Marched to the Capitol. When She Got Home\, the Fight Began. – The New York Times \nClick here to join at start time | ID 814 7073 5630 | Passcode 158119\nFor complete join details\, please also see our daily event emails. \n\nYou can download Zoom at https://zoom.us/download\, although it’s not necessary to do ahead of time. Zoom is available for tablets and smartphones in both main app stores\, Apple and Google Android. Attendees don’t need to register for a Zoom account although it’s free and helpful. To join a meeting\, simply click the event’s invitation link above.
URL:https://ethical.nyc/events/ethics-in-the-news-6-2021-02-02-2021-04-20/
CATEGORIES:Ethics in the News
ATTACH;FMTTYPE=image/jpeg:https://ethical.nyc/wp-content/uploads/2020/03/mosaic.jpg
END:VEVENT
BEGIN:VEVENT
DTSTART;TZID=America/New_York:20210420T190000
DTEND;TZID=America/New_York:20210420T203000
DTSTAMP:20260421T120545
CREATED:20210128T040921Z
LAST-MODIFIED:20210419T152928Z
UID:10003774-1618945200-1618950600@ethical.nyc
SUMMARY:Camaraderie and Good Conversation with Leader Joe Chuman: "Welcome to the New Progressive Era" (Online)
DESCRIPTION:Leader Dr. Joe Chuman leads this monthly discussion group focusing on contemporary issues and occasionally classical writings relating to Ethical Culture and Humanism. We will primarily make use of articles from journals of opinion and book chapters when relevant. Rather than taking a merely journalistic approach\, the discussions will aim to illuminate the philosophical concepts and values which underlie the issues being discussed. \nSuggested readings: \nWelcome to the New Progressive Era – The Atlantic \nClick here to join at start time | ID 853 3773 6864\nFor complete join details\, please also see this week’s Ethical Weekly email. \n\nYou can download Zoom at https://zoom.us/download\, although it’s not necessary to do ahead of time. Zoom is available for tablets and smartphones in both main app stores\, Apple and Google Android. Attendees don’t need to register for a Zoom account although it’s free and helpful. To join a meeting\, simply click the event’s invitation link above.
URL:https://ethical.nyc/events/camaraderie-and-good-conversation-with-leader-joe-chuman-2021-04-20/
ATTACH;FMTTYPE=image/jpeg:https://ethical.nyc/wp-content/uploads/2019/05/joechuman2-e1635222778648.jpeg
END:VEVENT
BEGIN:VEVENT
DTSTART;TZID=America/New_York:20210421T140000
DTEND;TZID=America/New_York:20210421T150000
DTSTAMP:20260421T120545
CREATED:20210228T154049Z
LAST-MODIFIED:20210419T152458Z
UID:10004903-1619013600-1619017200@ethical.nyc
SUMMARY:Pathways to Ethical Culture: "Felix Adler’s Philosophical Challenge" (Online)
DESCRIPTION:Adler was a philosopher with a moral mission facing an urgent problem that we continue to confront in the modern world: How do we ensure that the human being has inherent worth? How do we philosophically guarantee that human beings are not merely expendable when doing away with them will serve a compelling purpose? Adler believed that traditional religion did not effectively do this\, nor could science. Where did he turn to find the answer? This presentation will delve into his creative solution which inspires Ethical Culture to this day. \nThis series in an orientation to Ethical Culture directed at our newer members as well as veterans of our Society who want to deepen their knowledge of Ethical Culture. The interested public is invited as well. Each session will be a combination of a presentation and a discussion. \nFor more information and to receive recommended readings\, please contact Membership Coordinator Maggie Determann at mdetermann@nysec.org. \nAbout this series: \nEthical Culture is a humanist community that esteems ethics as its core precept\, human worth and dignity as its central value\, and community\, sustainability and freedom as its principal goals.  Where did Ethical Culture come from?  What does it say to us today regarding the human condition? What is its unique contribution for our lives and our future? \nJoin us for a five part program that explores the origins\, the history and the values of Ethical Culture – from its founding a century-and-a-half ago to the 21st Century.   The topics will be: \n\nThe social and intellectual roots of the Ethical Culture Movement.\nFelix Adler’s philosophical challenge – How to prove inherent worth of the human being in a harsh and precarious world when one abandons traditional reliance on God and the supernatural?\nEthical Culture’s rich social justice history in the age of reformation and the modern era.\nThe NY Society and Ethical Culture’s place in today’s world of modern humanism.\nLiving Ethical Culture – How it offers a life of meaning\, growth and authenticity.The Program is facilitated by the Society’s Leaders: Dr. Joseph Chuman and Dr. Richard Koral.   Meets monthly for one hour on the 3rd Wednesday of each month\, March through July at 2:00 p.m. on Zoom.\n\nClick here to join at start time | ID 814 7073 5630 | Passcode 158119\nFor complete join details\, please also see our daily event emails. \n\nYou can download Zoom at https://zoom.us/download\, although it’s not necessary to do ahead of time. Zoom is available for tablets and smartphones in both main app stores\, Apple and Google Android. Attendees don’t need to register for a Zoom account although it’s free and helpful. To join a meeting\, simply click the event’s invitation link above.
URL:https://ethical.nyc/events/pathways-to-ethical-culture-online-2021-04-21/
ATTACH;FMTTYPE=image/jpeg:https://ethical.nyc/wp-content/uploads/2020/03/mosaic.jpg
END:VEVENT
BEGIN:VEVENT
DTSTART;TZID=America/New_York:20210421T190000
DTEND;TZID=America/New_York:20210421T210000
DTSTAMP:20260421T120545
CREATED:20190517T195400Z
LAST-MODIFIED:20210325T052903Z
UID:10003691-1619031600-1619038800@ethical.nyc
SUMMARY:Great Literature Discussion: Disappearing Moon Café by Sky Lee (Online)
DESCRIPTION:Disappearing Moon Cafe was a stunning debut novel that has become a Canadian literary classic. An unflinchingly honest portrait of a Chinese Canadian family that pulses with life and moral tensions\, this family saga takes the reader from the wilderness in 19th century British Columbia to late 20th century Hong Kong\, to modern-day Vancouver’s Chinatown. \nLiterary works will be discussed based on what can be found in the text in order to enrich each other’s interpretation of the novel/novella. All are welcome to join and any edition or translation of the book under discussion can be used. Read the work in advance and be prepared to discuss the aspects of interest to you by referring to specific related text and reading it to the group. Moderated by Ethical NYC member Gunther Tielemans. \nFor complete access information\, including Meeting ID\, please see this week’s Ethical Weekly email or contact Gunther.\n \nYou can download Zoom at https://zoom.us/download\, although it’s not necessary to do ahead of time. Zoom is available for tablets and smartphones in both main app stores\, Apple and Google Android. Attendees don’t need to register for a Zoom account although it’s free and helpful. To join a meeting\, simply click the event’s invitation link above.
URL:https://ethical.nyc/events/great-literature-2021-04-21/
LOCATION:Elliott Library (507)\, 2 W 64th St\, New York\, NY\, 10023\, United States
CATEGORIES:Great Literature Discussions
ATTACH;FMTTYPE=image/jpeg:https://ethical.nyc/wp-content/uploads/2019/05/mooncafe.jpeg
END:VEVENT
BEGIN:VEVENT
DTSTART;TZID=America/New_York:20210421T193000
DTEND;TZID=America/New_York:20210421T203000
DTSTAMP:20260421T120545
CREATED:20210415T192349Z
LAST-MODIFIED:20210419T154319Z
UID:10004938-1619033400-1619037000@ethical.nyc
SUMMARY:Newcomers' Reception (Online)
DESCRIPTION:Curious about the Society? Stop by this month’s Newcomers’ Reception! It’s an opportunity to learn more about our Society\, meet some of our members and explore the many benefits of membership. All are welcome! \nHosted by Leader Richard Koral and Maggie Determann\, Membership Coordinator. RSVPs kindly requested\, please contact mdetermann@nysec.org for more information and to receive the Zoom link to attend.
URL:https://ethical.nyc/events/newcomers-reception-online-2/
ATTACH;FMTTYPE=image/jpeg:https://ethical.nyc/wp-content/uploads/2020/03/mosaic.jpg
END:VEVENT
BEGIN:VEVENT
DTSTART;TZID=America/New_York:20210422T140000
DTEND;TZID=America/New_York:20210422T150000
DTSTAMP:20260421T120545
CREATED:20210325T051352Z
LAST-MODIFIED:20210325T053550Z
UID:10004934-1619100000-1619103600@ethical.nyc
SUMMARY:Getting to Know You (Online)
DESCRIPTION:In this session\, two members dialogue with one another (or with one of the moderators). The “dialogue partners” respond to 4 or 5 questions they themselves have chosen (about growing up\, career\, interests\, adventures… whatever; plus one about being a member of NYSEC). It’s all part of getting to know our Ethical Culture family in a comfortable\, casual way. Larry Hurst & Elinore Kaplan moderate. \nThis week’s guests: Doris Hart and Elaine Berman-Gurney \nIf you’d like to be a dialogue partner at one of our programs\, Email editor Elinore Kaplan at Outlook at: ethicaloutlook@gmail.com \nClick here to join at start time | ID 814 7073 5630 | Passcode 158119\nFor complete join details\, please also see our daily event emails. \n\nYou can download Zoom at https://zoom.us/download\, although it’s not necessary to do ahead of time. Zoom is available for tablets and smartphones in both main app stores\, Apple and Google Android. Attendees don’t need to register for a Zoom account although it’s free and helpful. To join a meeting\, simply click the event’s invitation link above.
URL:https://ethical.nyc/events/getting-to-know-you-online-3/
CATEGORIES:Getting to Know You
ATTACH;FMTTYPE=image/jpeg:https://ethical.nyc/wp-content/uploads/2020/03/mosaic.jpg
END:VEVENT
END:VCALENDAR