BEGIN:VCALENDAR
VERSION:2.0
PRODID:-//The New York Society for Ethical Culture - ECPv6.15.18//NONSGML v1.0//EN
CALSCALE:GREGORIAN
METHOD:PUBLISH
X-WR-CALNAME:The New York Society for Ethical Culture
X-ORIGINAL-URL:https://ethical.nyc
X-WR-CALDESC:Events for The New York Society for Ethical Culture
REFRESH-INTERVAL;VALUE=DURATION:PT1H
X-Robots-Tag:noindex
X-PUBLISHED-TTL:PT1H
BEGIN:VTIMEZONE
TZID:America/New_York
BEGIN:DAYLIGHT
TZOFFSETFROM:-0500
TZOFFSETTO:-0400
TZNAME:EDT
DTSTART:20200308T070000
END:DAYLIGHT
BEGIN:STANDARD
TZOFFSETFROM:-0400
TZOFFSETTO:-0500
TZNAME:EST
DTSTART:20201101T060000
END:STANDARD
BEGIN:DAYLIGHT
TZOFFSETFROM:-0500
TZOFFSETTO:-0400
TZNAME:EDT
DTSTART:20210314T070000
END:DAYLIGHT
BEGIN:STANDARD
TZOFFSETFROM:-0400
TZOFFSETTO:-0500
TZNAME:EST
DTSTART:20211107T060000
END:STANDARD
BEGIN:DAYLIGHT
TZOFFSETFROM:-0500
TZOFFSETTO:-0400
TZNAME:EDT
DTSTART:20220313T070000
END:DAYLIGHT
BEGIN:STANDARD
TZOFFSETFROM:-0400
TZOFFSETTO:-0500
TZNAME:EST
DTSTART:20221106T060000
END:STANDARD
BEGIN:DAYLIGHT
TZOFFSETFROM:-0500
TZOFFSETTO:-0400
TZNAME:EDT
DTSTART:20230312T070000
END:DAYLIGHT
BEGIN:STANDARD
TZOFFSETFROM:-0400
TZOFFSETTO:-0500
TZNAME:EST
DTSTART:20231105T060000
END:STANDARD
END:VTIMEZONE
BEGIN:VEVENT
DTSTART;TZID=America/New_York:20211226T110000
DTEND;TZID=America/New_York:20211226T123000
DTSTAMP:20260425T173112
CREATED:20210725T031012Z
LAST-MODIFIED:20211220T210824Z
UID:10004980-1640516400-1640521800@ethical.nyc
SUMMARY:Sunday Platform - Remembrance Sunday (Online)
DESCRIPTION:Notice: this week’s Sunday Platform will be online only. \nOn this last Sunday of the year\, we set aside time to reflect and to honor the loved ones of the past for whose gifts we are grateful. We immortalize them by bearing witness and by carrying on their spirit in our own lives. We face tomorrow with hope made stronger by the lessons we have learned and the love we have shared. \nAbout Leader Dr. Richard Koral \nDr. Richard L. Koral has been a Leader at the New York Society for Ethical Culture since 2017. Richard holds degrees from New York University and New York Law School\, and a Doctor of Ministry in interfaith pastoral counseling from the Hebrew Union College. He is the Leader Consultant to the Social Service Board and numerous committees in the Society. Active with the American Ethical Union\, Richard served on its Board as president from 2012 to 2015. He also serves as part-time Leader for the Ethical Humanist Society of Long Island. \nWatch Online! – Click to join at start | ID 863 0430 0961 | Passcode 609424 \nPresider: Leader Dr. Richard Koral \nShared Charity: Hope for Haiti \n\nSunday Platform is our most important and long-standing community event. These gatherings educate\, stimulate personal growth\, inspire reflection and action\, and strengthen our community. Sunday meetings usually begin with music\, followed by greetings and a talk given by a Society Leader\, member\, or guest.  Platforms cover a variety of topics that reflect current events\, pressing social issues\, and Ethical Culture philosophy. A collection basket is passed and money is shared between the Society and a charity selected for that day.  While contributions are always appreciated\, Sunday meetings are free and open to the public.  Each Sunday meeting is followed by a luncheon and social hour. \nTo view previous Sunday Platform addresses and interviews\, visit our Videos page and YouTube channel.
URL:https://ethical.nyc/events/sunday-platform-4-2021-12-26/
LOCATION:NY
CATEGORIES:Sunday Platform
ATTACH;FMTTYPE=image/jpeg:https://ethical.nyc/wp-content/uploads/2020/03/mosaic.jpg
END:VEVENT
BEGIN:VEVENT
DTSTART;TZID=America/New_York:20211230T120000
DTEND;TZID=America/New_York:20211230T130000
DTSTAMP:20260425T173112
CREATED:20210829T060259Z
LAST-MODIFIED:20211227T054746Z
UID:10003962-1640865600-1640869200@ethical.nyc
SUMMARY:Leader's Roundtable (Online)
DESCRIPTION:This Thursday\, the offices will be closed at 1 PM for the holidays. Therefore\, the Leader’s Roundtable will be on ZOOM only and will be from 12-1. Instead of a weighty news topic\, please bring your favorite (or worst!) holiday memories to share. You can also share your favorite holiday recipes\, poems\, or stories. You are not limited to winter holidays; you can share memories from birthdays\, Labor Day\, or any other holiday. \nClick to join at start time | Zoom ID 861 1417 5760 | Passcode 347145 \n\nYou can download Zoom at https://zoom.us/download\, although it’s not necessary to do ahead of time. Zoom is available for tablets and smartphones in both main app stores\, Apple and Google Android. Attendees don’t need to register for a Zoom account although it’s free and helpful. To join a meeting\, simply click the event’s invitation link above.
URL:https://ethical.nyc/events/leaders-roundtable-2021-12-30/
LOCATION:NY
ATTACH;FMTTYPE=image/jpeg:https://ethical.nyc/wp-content/uploads/2020/03/mosaic.jpg
END:VEVENT
BEGIN:VEVENT
DTSTART;TZID=America/New_York:20220101T160000
DTEND;TZID=America/New_York:20220101T170000
DTSTAMP:20260425T173112
CREATED:20211224T205607Z
LAST-MODIFIED:20211224T205607Z
UID:10005227-1641052800-1641056400@ethical.nyc
SUMMARY:Cocktails\, Mocktails\, Fun\, and Games! (Online/Members Only)
DESCRIPTION:Weird facts\, trivia\, riddles\, would you rather\, and more! Join your friends from Ethical to welcome 2022 with fun and games on New Year’s Day. \nMembers\, please see your email for join information.
URL:https://ethical.nyc/events/cocktails-mocktails-fun-and-games-online-members-only/
LOCATION:NY
ATTACH;FMTTYPE=image/jpeg:https://ethical.nyc/wp-content/uploads/2021/12/new-years-day-gf1375683a_1280.jpg
END:VEVENT
END:VCALENDAR