BEGIN:VCALENDAR
VERSION:2.0
PRODID:-//The New York Society for Ethical Culture - ECPv6.15.18//NONSGML v1.0//EN
CALSCALE:GREGORIAN
METHOD:PUBLISH
X-WR-CALNAME:The New York Society for Ethical Culture
X-ORIGINAL-URL:https://ethical.nyc
X-WR-CALDESC:Events for The New York Society for Ethical Culture
REFRESH-INTERVAL;VALUE=DURATION:PT1H
X-Robots-Tag:noindex
X-PUBLISHED-TTL:PT1H
BEGIN:VTIMEZONE
TZID:America/New_York
BEGIN:DAYLIGHT
TZOFFSETFROM:-0500
TZOFFSETTO:-0400
TZNAME:EDT
DTSTART:20210314T070000
END:DAYLIGHT
BEGIN:STANDARD
TZOFFSETFROM:-0400
TZOFFSETTO:-0500
TZNAME:EST
DTSTART:20211107T060000
END:STANDARD
BEGIN:DAYLIGHT
TZOFFSETFROM:-0500
TZOFFSETTO:-0400
TZNAME:EDT
DTSTART:20220313T070000
END:DAYLIGHT
BEGIN:STANDARD
TZOFFSETFROM:-0400
TZOFFSETTO:-0500
TZNAME:EST
DTSTART:20221106T060000
END:STANDARD
BEGIN:DAYLIGHT
TZOFFSETFROM:-0500
TZOFFSETTO:-0400
TZNAME:EDT
DTSTART:20230312T070000
END:DAYLIGHT
BEGIN:STANDARD
TZOFFSETFROM:-0400
TZOFFSETTO:-0500
TZNAME:EST
DTSTART:20231105T060000
END:STANDARD
END:VTIMEZONE
BEGIN:VEVENT
DTSTART;TZID=America/New_York:20220130T110000
DTEND;TZID=America/New_York:20220130T121500
DTSTAMP:20260420T055314
CREATED:20211213T184748Z
LAST-MODIFIED:20220127T211817Z
UID:10005146-1643540400-1643544900@ethical.nyc
SUMMARY:AEU All-Society Platform: "W.E.B. Du Bois: Will the Truth Set You Free?" (Online)
DESCRIPTION:On February 7\, 1949\, renowned scholar and civil rights activist Dr. W.E.B. Du Bois gave a speech (the written version unearthed by our own Carolyn Parker) at the New York Society for Ethical Culture. We will be listening to a reading of this historic address as Dr. Du Bois speaks about the importance of acknowledging the hardships that African Americans have faced as well as their contributions to this country’s success. \nThis historic address is consistent with the resolution passed at the 2017 AEU Assembly titled “Toward Repairing the Harm of Racism.” There\, the AEU stated its goal of addressing racial inequality by examining the effects that racial discrimination has had and continue to have on people of color. Dr. Du Bois’ address echoes this sentiment\, a timeless reminder that we cannot create a better future without looking into the past. This event will take place virtually on Zoom on Sunday\, January 30th\, at 11am Eastern Time with Dennis D. Parker reading Dr. Du Bois’ speech. We hope to see you there! \nWe are excited to have Dennis D. Parker of the National Center for Law and Economic Justice (NCLEJ) do the verbal reenactment of Dr. Du Bois’ address. Prior to his work at the NCLEJ\, he fought for racial equality on behalf of other social justice-focused organizations like the ACLU and NAACP. Dennis has also published multiple pieces on civil rights including articles and books as well as teaching the subject as an adjunct professor at Columbia Law School/Teachers College and NYU Law School. \nSpecial thanks to the volunteer planners of the 1/30 All-Society Platform: Susan Solomon of the Ethical Society of Northern Westchester\, Carolyn Parker of the Ethical Society of Austin\, Taty Sena of the Brooklyn Society For Ethical Culture\, and Joanna Brandt of the Baltimore Ethical Society! \nNotice: Only fully-vaccinated individuals are invited to attend in-person at this time. \nClick to Join at Start | Zoom ID 891 9333 5697 \nPresider: Leader Dr. Nori Rost \nShared Charity: Students for Justice \n\nSunday Platform is our most important and long-standing community event. These gatherings educate\, stimulate personal growth\, inspire reflection and action\, and strengthen our community. Sunday meetings usually begin with music\, followed by greetings and a talk given by a Society Leader\, member\, or guest.  Platforms cover a variety of topics that reflect current events\, pressing social issues\, and Ethical Culture philosophy. A collection basket is passed and money is shared between the Society and a charity selected for that day.  While contributions are always appreciated\, Sunday meetings are free and open to the public.  Each Sunday meeting is followed by a luncheon and social hour. \nTo view previous Sunday Platform addresses and interviews\, visit our Videos page and YouTube channel.
URL:https://ethical.nyc/events/sunday-platform-7-2022-01-09-2022-01-30/
LOCATION:Ceremonial Hall (4th Floor)\, 2 W 64th St\, New York\, NY\, 10023\, United States
CATEGORIES:Sunday Platform
ATTACH;FMTTYPE=image/jpeg:https://ethical.nyc/wp-content/uploads/2021/12/dubois-banner.jpg
END:VEVENT
BEGIN:VEVENT
DTSTART;TZID=America/New_York:20220130T110000
DTEND;TZID=America/New_York:20220130T123000
DTSTAMP:20260420T055314
CREATED:20201218T212822Z
LAST-MODIFIED:20211222T202301Z
UID:10005093-1643540400-1643545800@ethical.nyc
SUMMARY:Young Ethical Explorers: Music Making for Goodess' Sake
DESCRIPTION:Come be part of the band to create joyful ethical expression. Learn new songs from the great history of justice-music! Bring a song to share! Create a new song to share your values! \nNewcomers are always welcome! To join\, please RSVP to Youth Programs Director Audrey Kindred at youngethicalexplorers@gmail.com. For more information about our youth and family programming\, please visit www.ethical.nyc/youth. \n\nYoung Ethical Explorers is our Humanist Sunday school\, designed for youngsters from ages 4 to 13\, and takes place concurrent with our Sunday Platform meetings. Sessions raise issues of personal identity and integrity\, appreciation and respect for others\, and knowledge of religions\, philosophies\, and social concerns. Topics are explored in an age-appropriate way through discussion\, storytelling\, dramatization\, music\, art\, games\, and field trips. \nRSVP is essential to guarantee your place and for planning purposes. If you are enrolled for the season or are members of Ethical NYC your spot is guaranteed. To RSVP as a guest\, become a member\, or enroll in season\, please contact Audrey at YoungEthicalExplorers@gmail.com. Newcomers and visitors are always welcome!
URL:https://ethical.nyc/events/young-ethical-explorers-5-2022-01-30/
LOCATION:NY
CATEGORIES:Youth and Families
ATTACH;FMTTYPE=image/jpeg:https://ethical.nyc/wp-content/uploads/2019/05/youth2.jpg
END:VEVENT
BEGIN:VEVENT
DTSTART;TZID=America/New_York:20220130T160000
DTEND;TZID=America/New_York:20220130T170000
DTSTAMP:20260420T055314
CREATED:20220107T180555Z
LAST-MODIFIED:20220120T140024Z
UID:10005249-1643558400-1643562000@ethical.nyc
SUMMARY:Film Focus: "Parasite" (Online)
DESCRIPTION:Don’t miss Film Focus at Ethical\, a new monthly series exploring ethical themes in classic and contemporary cinema. Watch the film on your own beforehand\, then join our guest presenter for an in-depth discussion. At this inaugural session\, Greg Berger will lead an examination of the award winning Korean film Parasite. \nParasite is currently available for streaming and/or rental on Hulu\, Apple Movies/iTunes\, YouTube\, Amazon\, Vudu\, Google Play\, and more. \nAbout this session \nFor over a century\, cinema has been an effective means to communicate pressing ethical and social dilemmas to mass audiences. Perhaps no contemporary film has been as effective at portraying social inequality as South Korean filmmaker Bong Joon Ho’s “Parasite” (2019)\, winner of the 2020 Academy Award for Best Picture and Best Director. The film’s social message\, however\, extends far beyond its storyline. In Parasite\, Director Bong meticulously deploys visual metaphors within nearly every frame of his 132 minute film to characterize the dysfunctional relationship of the globe’s social classes. In images sometimes subtle and sometimes so transparent as to seem in-your-face\, Bong masterfully and beautifully communicates the toxic elements of global capitalism to his viewers. In this session\, we will review some of the political and cinematic traditions which have shaped the work of Bong Joon Ho\, and examine how he pointedly employs audiovisual language to drive home his social observations. \nDr. Gregory Berger is a filmmaker\, comedian\, Mexican television personality\, and Professor in the School of Humanities and Education at the Tecnológico de Monterrey\, Cuernavaca campus\, and a Research Fellow at the UAEM University in the Mexican State of Morelos. In Mexico he is known for his popular comedy journalism project “El Joe T. Hodo Show” which has been a fixture on social media since 2013. Since 2019 he has been a correspondent for the nationally broadcast comedy journalism television shows “El Almohadazo” and “Capital por Cual.” He has also produced comics for “El Chamuco\,” known as the “MAD Magazine of Mexico.” Berger’s academic research\, focusing on the intimate relationship between social movements and cinema\, has been published in numerous academic anthologies from Routledge Press and Peter Lang. His films have been exhibited at The Museum of Modern Art and El Museo del Barrio in New York City\, and Los Angeles’ Getty Center among other venues. \nClick here to join at start time | Zoom ID 814 7073 5630 | Passcode 158119 \nIf you would like to lead a discussion\, please contact jrose@nysec.org
URL:https://ethical.nyc/events/film-forum-parasite/
LOCATION:NY
ATTACH;FMTTYPE=image/jpeg:https://ethical.nyc/wp-content/uploads/2022/01/parasite-banner2.jpeg
END:VEVENT
BEGIN:VEVENT
DTSTART;TZID=America/New_York:20220131T110000
DTEND;TZID=America/New_York:20220131T120000
DTSTAMP:20260420T055314
CREATED:20220126T212226Z
LAST-MODIFIED:20220126T212226Z
UID:10005267-1643626800-1643630400@ethical.nyc
SUMMARY:Share and Learn: Topics in Medicine\, Mental Health\, Science\, and Ethics w/ Dr. Carol Portlock (Online)
DESCRIPTION:Thanks to vaccines and medical innovation\, we are gradually moving away from the Covid pandemic. Retired oncologist Carol Portlock will discuss the new and intriguing science that lies ahead\, including Covid. Clinical psychologist Frank Corigliano will continue to address your concerns about managing day-to-day during this trying time. \nSuggested readings: \nGraph demonstrating Omicron infection as compared to prior Covid variantshttps://www.nytimes.com/interactive/2022/01/22/science/charting-omicron-infection.htmlA new IV prevention therapy for Covidhttps://www.gilead.com/news-and-press/press-room/press-releases/2022/1/fda-approves-veklury-remdesivir-for-the-treatment-of-nonhospitalized-patients-at-high-risk-for-covid19-disease-progressionGenetic manipulation of cells\, discovery and applicationDr Beatrice Mintz\, discoverer and obituaryhttps://www.rockefeller.edu/greengard-prize/recipients/mintz/Human transplant of pig-derived kidneyshttps://www.nytimes.com/2022/01/20/health/transplants-pig-human-kidney.htmlCan removing cataracts improve or prevent dementia?https://www.nytimes.com/2022/01/24/well/mind/cataract-surgery-dementia.html \nClick here to join at start time | ID 814 7073 5630 | Passcode 158119\n \n\nYou can download Zoom at https://zoom.us/download\, although it’s not necessary to do ahead of time. Zoom is available for tablets and smartphones in both main app stores\, Apple and Google Android. Attendees don’t need to register for a Zoom account although it’s free and helpful. To join a meeting\, simply click the event’s invitation link above.
URL:https://ethical.nyc/events/share-and-learn-topics-in-medicine-mental-health-science-and-ethics-w-dr-carol-portlock-online/
LOCATION:NY
CATEGORIES:Share and Learn
ATTACH;FMTTYPE=image/jpeg:https://ethical.nyc/wp-content/uploads/2021/11/mosaic-1024x497.jpg
END:VEVENT
BEGIN:VEVENT
DTSTART;TZID=America/New_York:20220131T190000
DTEND;TZID=America/New_York:20220131T203000
DTSTAMP:20260420T055314
CREATED:20220107T180851Z
LAST-MODIFIED:20220120T230229Z
UID:10005248-1643655600-1643661000@ethical.nyc
SUMMARY:Exploring Ethical Dilemmas In: Public Art with Rose DeSiano (Online)
DESCRIPTION:Artist\, sculptor\, and photographer Rose DeSiano joins us to explore the ethical dilemmas raised by works of public art. Public Art is a service to the community\, but questions arise from aspects of its planning\, placement\, purpose\, and relevance. \nWhat is its role as a method of activism\, bringing topics of social importance to the surface? How can the physical artwork become a conduit for community concerns? Who makes the decision on what art will be installed\, and do the decision-makers represent the local residents? Can it be used to fundraise for non-profit social service organizations? \nRose DeSiano brings together photography and sculpture into a public art practice. Her artwork examines cultural symbolism\, the collective consciousness\, and is interested in bringing to the surface lost or undiscussed topics of history. Using art in public spaces to foster community\, DeSiano sees public art as an act of advocacy and activism. \nCommissioned by multiple cities\, her photo-sculptures have appeared throughout New York City (most recently in Prospect Park)\, in San Diego\, and Cleveland\, and have received multiple awards\, including the Uniqlo Parks Grant and FLOW.17 Public Art Award. Her gallery artwork has been exhibited in solo shows in the US and Europe\, featured in several group museum exhibitions; Bronx Art Museum\, Allentown Museum of Art\, Heritage Museum of Málaga\, and has been included in international art fairs; Photoville\, FOTOFOCUS\, and Orange Changsha Photo\, China. She is also currently the 2021 Artist in Residence at the Lower Manhattan Cultural Council. \nHer work appears in numerous publications including; Hyperallergic\, Vogue\, Time Out\, ArtNews\, and UK’s Aesthetica. DeSiano has her MFA from Art Center\, LA\, her BFA from NYU’s Tisch School of Arts. She currently lives in NYC and is a Professor of Art at Kutztown University of Pennsylvania. Visit her online at desiano.com and on Instagram @rosedesiano. \nClick to join at start time | ID 868 4443 0081 | Passcode 600242 \n\nYou can download Zoom at https://zoom.us/download\, although it’s not necessary to do ahead of time. Zoom is available for tablets and smartphones in both main app stores\, Apple and Google Android. Attendees don’t need to register for a Zoom account although it’s free and helpful. To join a meeting\, simply click the event’s invitation link above.
URL:https://ethical.nyc/events/exploring-ethical-dilemmas-public-art-with-rose-desiano-online/
LOCATION:NY
ATTACH;FMTTYPE=image/jpeg:https://ethical.nyc/wp-content/uploads/2022/01/desiano-banner.jpg
END:VEVENT
BEGIN:VEVENT
DTSTART;TZID=America/New_York:20220201T100000
DTEND;TZID=America/New_York:20220201T110000
DTSTAMP:20260420T055314
CREATED:20211221T025515Z
LAST-MODIFIED:20230602T195003Z
UID:10005206-1643709600-1643713200@ethical.nyc
SUMMARY:Poetry Circle (Online)
DESCRIPTION:Bring a favorite poem (or poems) to our monthly online poetry circle! \nRead it aloud\, and we’ll listen attentively together and discuss—a line\, a word\, an image\, or an overall feeling. You’re welcome to give us a couple of sentences about the poet\, too. Elinore Kaplan moderates. \nIf you wish to share a poem\, please send it to Elinore in advance so it can be shared on-screen with participants: ethicaloutlook@gmail.com. \nClick to join at start | Zoom ID 838 1778 1084 | Passcode 675527 \n\nYou can download Zoom at https://zoom.us/download\, although it’s not necessary to do ahead of time. Zoom is available for tablets and smartphones in both main app stores\, Apple and Google Android. Attendees don’t need to register for a Zoom account although it’s free and helpful. To join a meeting\, simply click the event’s invitation link above. \n(Photo by Suzy Hazelwood)
URL:https://ethical.nyc/events/poetry-circle-online-4/2022-02-01/
LOCATION:2 W 64th St\, New York\, NY\, 10023\, United States
CATEGORIES:Poetry
ATTACH;FMTTYPE=image/jpeg:https://ethical.nyc/wp-content/uploads/2021/12/poetry_banner.jpg
END:VEVENT
BEGIN:VEVENT
DTSTART;TZID=America/New_York:20220201T170000
DTEND;TZID=America/New_York:20220201T174500
DTSTAMP:20260420T055314
CREATED:20211220T220106Z
LAST-MODIFIED:20230622T183450Z
UID:10004079-1643734800-1643737500@ethical.nyc
SUMMARY:Midweek Meditation (Online)
DESCRIPTION:A midweek meditation for relaxing body and mind. Begins promptly at 5:00pm. Larry Hurst and Sondra Stein moderate. \nClick to join at start | Zoom ID 838 1778 1084 | Passcode 675527 \n\nYou can download Zoom at https://zoom.us/download\, although it’s not necessary to do ahead of time. Zoom is available for tablets and smartphones in both main app stores\, Apple and Google Android. Attendees don’t need to register for a Zoom account although it’s free and helpful. To join a meeting\, simply click the event’s invitation link above. \n(Photo by Nicollazzi Xiong)
URL:https://ethical.nyc/events/midweek-meditation-online/2022-02-01/
LOCATION:2 W 64th St\, New York\, NY\, 10023\, United States
CATEGORIES:Midweek Meditation
ATTACH;FMTTYPE=image/jpeg:https://ethical.nyc/wp-content/uploads/2021/12/meditation_pxl.jpg
END:VEVENT
BEGIN:VEVENT
DTSTART;TZID=America/New_York:20220202T190000
DTEND;TZID=America/New_York:20220202T200000
DTSTAMP:20260420T055314
CREATED:20210901T195637Z
LAST-MODIFIED:20220113T025151Z
UID:10005037-1643828400-1643832000@ethical.nyc
SUMMARY:Exploring Ethical Humanism w/ Leader Joe Chuman: "Ethical Culture: The Religion of Duty" (Online)
DESCRIPTION:Felix Adler referred to Ethical Culture as ‘The Religion of Duty\,’ What are our thoughts about our responsibility others? \n*** \nThese discussions of Ethical Culture beliefs and practices explore the history\, ideals\, and current interests of the Ethical Society community and our place in the philosophical/ religious firmament. Moderated by Leader Dr. Richard Koral. \nCOVID-19 NOTICE: Only fully-vaccinated Society members are invited to attend in-person. We hope to open up to the public again as soon as possible. All others are invited to join us online via Zoom. \nClick here to join at start time | ID 814 7073 5630 | Passcode 158119 \n\nYou can download Zoom at https://zoom.us/download\, although it’s not necessary to do ahead of time. Zoom is available for tablets and smartphones in both main app stores\, Apple and Google Android. Attendees don’t need to register for a Zoom account although it’s free and helpful. To join a meeting\, simply click the event’s invitation link above.
URL:https://ethical.nyc/events/exploring-ethical-humanism-hybrid-2022-01-12-2022-02-09/
LOCATION:NY
ATTACH;FMTTYPE=image/jpeg:https://ethical.nyc/wp-content/uploads/2020/03/mosaic.jpg
END:VEVENT
BEGIN:VEVENT
DTSTART;TZID=America/New_York:20220202T190000
DTEND;TZID=America/New_York:20220202T210000
DTSTAMP:20260420T055314
CREATED:20211220T221929Z
LAST-MODIFIED:20220126T052833Z
UID:10004158-1643828400-1643835600@ethical.nyc
SUMMARY:Great Literature Discussion: The Boat by Nam Le\, Stories 1-4 (Online)
DESCRIPTION:With a jaw-dropping versatility of voice and point of view\, The Boat is an extraordinary work of fiction that guides us to the heart of what it means to be human. The seven stories take us across the globe\, from the slums of Colombia to Iowa City; from the streets of Tehran to a foundering vessel in the South China Sea. \nAmong many accolades this book won Australian author Nam Le the 2008 Dylan Thomas Prize\, the world’s top cash prize for young writers. Michiko Kakutani (New York Times) called the opening story “a singular masterpiece.” \nAbout GLD \nLiterary works will be discussed based on what can be found in the text in order to enrich each other’s interpretation of the novel/novella. All are welcome to join and any edition or translation of the book under discussion can be used. Read the work in advance and be prepared to discuss the aspects of interest to you by referring to specific related text and reading it to the group. Moderated by Ethical NYC member Gunther Tielemans. \nFor access information\, please contact Gunther.
URL:https://ethical.nyc/events/great-literature-discussion-2022-02-02/
LOCATION:NY
CATEGORIES:Great Literature Discussions
ATTACH;FMTTYPE=image/jpeg:https://ethical.nyc/wp-content/uploads/2020/03/mosaic.jpg
END:VEVENT
BEGIN:VEVENT
DTSTART;TZID=America/New_York:20220203T120000
DTEND;TZID=America/New_York:20220203T133000
DTSTAMP:20260420T055314
CREATED:20211213T185357Z
LAST-MODIFIED:20220106T141754Z
UID:10004063-1643889600-1643895000@ethical.nyc
SUMMARY:Leader’s Roundtable: It's the Economy\, Silly (Hybrid)
DESCRIPTION:Bring your lunch and join Leader Dr. Nori Rost and members for an engaging round-table discussion on the issues of the day and recommended readings. \nOkay\, the original word was a little stronger during the Bill Clinton presidential campaign\, but it’s always about the economy! These two articles give insight into how our economy has been affected during the COVID-19 siege\, as well as how inflation (shocking\, not shocking) can disproportionately impact those with the least resources. \nThis week’s readings: \nWhat We Learned About the Economy in 2021 – The New York Times (nytimes.com)\nOpinion | The Missing Data in the Inflation Debate – The New York Times (nytimes.com) \nClick to join at start time | Zoom ID 861 1417 5760 | Passcode 347145 \nCOVID-19 NOTICE: Only fully-vaccinated Society members are invited to attend in-person. All others are invited to join us via Zoom. We hope to open up to the public again as soon as possible. \n\nYou can download Zoom at https://zoom.us/download\, although it’s not necessary to do ahead of time. Zoom is available for tablets and smartphones in both main app stores\, Apple and Google Android. Attendees don’t need to register for a Zoom account although it’s free and helpful. To join a meeting\, simply click the event’s invitation link above.
URL:https://ethical.nyc/events/leaders-roundtable-3-2022-02-03/
LOCATION:Adler Study (514)\, 2 W 64th St.\, New York\, NY\, 10023\, United States
ATTACH;FMTTYPE=image/jpeg:https://ethical.nyc/wp-content/uploads/2020/03/mosaic.jpg
END:VEVENT
END:VCALENDAR