BEGIN:VCALENDAR
VERSION:2.0
PRODID:-//The New York Society for Ethical Culture - ECPv6.15.18//NONSGML v1.0//EN
CALSCALE:GREGORIAN
METHOD:PUBLISH
X-ORIGINAL-URL:https://ethical.nyc
X-WR-CALDESC:Events for The New York Society for Ethical Culture
REFRESH-INTERVAL;VALUE=DURATION:PT1H
X-Robots-Tag:noindex
X-PUBLISHED-TTL:PT1H
BEGIN:VTIMEZONE
TZID:America/New_York
BEGIN:DAYLIGHT
TZOFFSETFROM:-0500
TZOFFSETTO:-0400
TZNAME:EDT
DTSTART:20210314T070000
END:DAYLIGHT
BEGIN:STANDARD
TZOFFSETFROM:-0400
TZOFFSETTO:-0500
TZNAME:EST
DTSTART:20211107T060000
END:STANDARD
BEGIN:DAYLIGHT
TZOFFSETFROM:-0500
TZOFFSETTO:-0400
TZNAME:EDT
DTSTART:20220313T070000
END:DAYLIGHT
BEGIN:STANDARD
TZOFFSETFROM:-0400
TZOFFSETTO:-0500
TZNAME:EST
DTSTART:20221106T060000
END:STANDARD
BEGIN:DAYLIGHT
TZOFFSETFROM:-0500
TZOFFSETTO:-0400
TZNAME:EDT
DTSTART:20230312T070000
END:DAYLIGHT
BEGIN:STANDARD
TZOFFSETFROM:-0400
TZOFFSETTO:-0500
TZNAME:EST
DTSTART:20231105T060000
END:STANDARD
END:VTIMEZONE
BEGIN:VEVENT
DTSTART;TZID=America/New_York:20220213T110000
DTEND;TZID=America/New_York:20220213T121500
DTSTAMP:20260423T225942
CREATED:20211213T184748Z
LAST-MODIFIED:20220206T065121Z
UID:10005148-1644750000-1644754500@ethical.nyc
SUMMARY:Sunday Platform - Richard Koral: "Celebrating Darwin Day\, or How I Learned to Love Change" (Hybrid)
DESCRIPTION:In-person and online! \nDarwin’s proofs overthrew the traditional view that the world was created as we saw it; that there was a natural order we could rely on. Instead\, he showed us that the world is ever-changing and is always struggling to find a new balance. How can we find new balance in our own lives in an ever-changing world? \nDr. Richard Koral has been a Leader at the New York Society for Ethical Culture since 2017. Richard holds degrees from New York University and New York Law School\, and a Doctor of Ministry in interfaith pastoral counseling from the Hebrew Union College. He is the Leader Consultant to the Social Service Board and numerous committees in the Society. Active with the American Ethical Union\, Richard served on its Board as president from 2012 to 2015. He also serves as part-time Leader for the Ethical Humanist Society of Long Island. \nNotice: Only fully-vaccinated individuals are invited to attend in-person at this time. \nWatch Online! – Click to join at start | ID 863 0430 0961 | Passcode 609424 \nPresider: Barbara Carlsen \nPartner Organization of the Month Collection: The Innocence Project \n\nSunday Platform is our most important and long-standing community event. These gatherings educate\, stimulate personal growth\, inspire reflection and action\, and strengthen our community. Sunday meetings usually begin with music\, followed by greetings and a talk given by a Society Leader\, member\, or guest.  Platforms cover a variety of topics that reflect current events\, pressing social issues\, and Ethical Culture philosophy. A collection basket is passed and money is shared between the Society and a charity selected for that day.  While contributions are always appreciated\, Sunday meetings are free and open to the public.  Each Sunday meeting is followed by a luncheon and social hour. \nTo view previous Sunday Platform addresses and interviews\, visit our Videos page and YouTube channel.
URL:https://ethical.nyc/events/sunday-platform-7-2022-01-09-2022-02-13/
LOCATION:Ceremonial Hall (4th Floor)\, 2 W 64th St\, New York\, NY\, 10023\, United States
CATEGORIES:Sunday Platform
ATTACH;FMTTYPE=image/jpeg:https://ethical.nyc/wp-content/uploads/2021/12/platform-2022feb-koral-fb.jpg
END:VEVENT
BEGIN:VEVENT
DTSTART;TZID=America/New_York:20220213T110000
DTEND;TZID=America/New_York:20220213T123000
DTSTAMP:20260423T225942
CREATED:20201218T212822Z
LAST-MODIFIED:20220126T055739Z
UID:10005095-1644750000-1644755400@ethical.nyc
SUMMARY:Young Ethical Explorers - Exploring Important New Books about Racial Justice
DESCRIPTION:If you have a book you’d like to show and share\, bring it! \nNewcomers are always welcome! To join\, please RSVP to Youth Programs Director Audrey Kindred at youngethicalexplorers@gmail.com. For more information about our youth and family programming\, please visit www.ethical.nyc/youth. \n\nYoung Ethical Explorers is our Humanist Sunday school\, designed for youngsters from ages 4 to 13\, and takes place concurrent with our Sunday Platform meetings. Sessions raise issues of personal identity and integrity\, appreciation and respect for others\, and knowledge of religions\, philosophies\, and social concerns. Topics are explored in an age-appropriate way through discussion\, storytelling\, dramatization\, music\, art\, games\, and field trips. \nRSVP is essential to guarantee your place and for planning purposes. If you are enrolled for the season or are members of Ethical NYC your spot is guaranteed. To RSVP as a guest\, become a member\, or enroll in season\, please contact Audrey at YoungEthicalExplorers@gmail.com. Newcomers and visitors are always welcome!
URL:https://ethical.nyc/events/young-ethical-explorers-5-2022-02-13/
LOCATION:NY
CATEGORIES:Youth and Families
ATTACH;FMTTYPE=image/jpeg:https://ethical.nyc/wp-content/uploads/2019/05/youth2.jpg
END:VEVENT
BEGIN:VEVENT
DTSTART;TZID=America/New_York:20220213T133000
DTEND;TZID=America/New_York:20220213T153000
DTSTAMP:20260423T225942
CREATED:20220126T023216Z
LAST-MODIFIED:20220207T035842Z
UID:10005265-1644759000-1644766200@ethical.nyc
SUMMARY:Ethics and the Theater Encore: The Exonerated (Online)
DESCRIPTION:Our long-running staged reading and discussion series continues with The Exonerated by Jessica Blank and Erik Jensen: \nTelling their real-life stories in their own words\, the play’s protagonists\, all wrongfully convicted survivors of death row\, paint a picture of a criminal justice system where justice is often sorely lacking\, especially if you’re Black or Brown. \nAfter the play\, member Betsy Ungar will moderate an open discussion about the ethical issues raised and explored in the work. \nProduced by Patricia Bruder Debrovner. \nRSVP Required. Click here to RSVP. \nRegistration: $5 — All money raised will be given to The Innocence Project
URL:https://ethical.nyc/events/ethics-and-the-theater-encore-the-exonerated/
LOCATION:NY
CATEGORIES:Theater
ATTACH;FMTTYPE=image/jpeg:https://ethical.nyc/wp-content/uploads/2022/01/theater-2022feb.jpg
END:VEVENT
BEGIN:VEVENT
DTSTART;TZID=America/New_York:20220213T160000
DTEND;TZID=America/New_York:20220213T170000
DTSTAMP:20260423T225942
CREATED:20220204T215859Z
LAST-MODIFIED:20220214T060611Z
UID:10005268-1644768000-1644771600@ethical.nyc
SUMMARY:Puffin Interview Series w/ Leader Joe Chuman: Zachary Sklar & Michael Smith on Michael Ratner (Online)
DESCRIPTION:Our friends at the Puffin Cultural Forum have announced the Puffin Interview Series with our own Leader Dr. Joe Chuman! \nOn the first Sunday of every month Dr. Chuman will delve into and explore the work of renowned authors through meaningful dialogue in an intimate interview format\, all streamed live on Youtube. There will be an opportunity for audiences to ask their own questions during a Q&A session. \n\nMore Interviews TBA!\nAbout Moving the Bar: My Life as a Radical Lawyer by Michael Ratner \nMichael Ratner (1943–2016) was one of America’s leading human rights lawyers. He worked for more than four decades at the Center for Constitutional Rights (CCR) becoming first the Director of Litigation and then the President of what Alexander Cockburn called “a small band of tigerish people.” He was also the President of the National Lawyers Guild. In 2007 he won the Puffin Prize for Creative Citizenship. \nRatner handled some of the most significant cases In American history. This book tells why and how he did it. \nHis last case\, which he worked on until he died\, was representing truth-telling whistleblower and now political prisoner Julian Assange\, the editor of WikiLeaks. \nRatner “moved the bar” by organizing some 600 lawyers to successfully defend habeas corpus\, that is\, the ancient right of someone accused of a crime to have a lawyer and to be brought before a judge. \nZachary Sklar\, edited “Moving the Bar” for OR Books\, and Michael Smith\, who wrote the book’s introduction. \nBuy the book here. \nAbout Leader Dr. Joe Chuman \nJoe Chuman recently retired as the Leader of the Ethical Culture Society of Bergen County\, a community he served beginning in 1974. Since 2008\, he has been a part-time Leader of the New York Society for Ethical Culture. He currently teaches on human rights at Columbia University and Hunter College\, and has taught at the United Nations University for Peace in Costa Rica. His works have been published in the New York Times\, The Humanist\, Free Inquiry\, Humanistic Judaism\, and many other periodicals. Joe currently serves as president of the Bergen County Sanctuary for Asylum Seekers\, founded by the Ethical Culture Society of Bergen County. \nWatch Live Here!
URL:https://ethical.nyc/events/puffin-interview-series-w-leader-joe-chuman-zachary-sklar-michael-smith-on-michael-ratner-online/
LOCATION:NY
ATTACH;FMTTYPE=image/png:https://ethical.nyc/wp-content/uploads/2022/02/mylife-ratner-puffin.png
END:VEVENT
BEGIN:VEVENT
DTSTART;TZID=America/New_York:20220214T110000
DTEND;TZID=America/New_York:20220214T120000
DTSTAMP:20260423T225942
CREATED:20211213T185630Z
LAST-MODIFIED:20220214T064041Z
UID:10005236-1644836400-1644840000@ethical.nyc
SUMMARY:Share and Learn: Topics in Medicine\, Mental Health\, Science\, and Ethics w/ Dr. Frank Corigliano (Online)
DESCRIPTION:Thanks to vaccines and medical innovation\, we are gradually moving away from the Covid pandemic. Retired oncologist Carol Portlock will discuss the new and intriguing science that lies ahead\, including Covid. Clinical psychologist Frank Corigliano will continue to address your concerns about managing day-to-day during this trying time. \nSuggested readings TBA. \nClick to join at start | Zoom ID 838 1778 1084 | Passcode 675527 \n\nYou can download Zoom at https://zoom.us/download\, although it’s not necessary to do ahead of time. Zoom is available for tablets and smartphones in both main app stores\, Apple and Google Android. Attendees don’t need to register for a Zoom account although it’s free and helpful. To join a meeting\, simply click the event’s invitation link above.
URL:https://ethical.nyc/events/share-and-learn-2022-02-07-2022-02-14/
LOCATION:NY
CATEGORIES:Share and Learn
ATTACH;FMTTYPE=image/jpeg:https://ethical.nyc/wp-content/uploads/2020/03/mosaic.jpg
END:VEVENT
BEGIN:VEVENT
DTSTART;TZID=America/New_York:20220215T110000
DTEND;TZID=America/New_York:20220215T120000
DTSTAMP:20260423T225942
CREATED:20211221T025805Z
LAST-MODIFIED:20220214T065557Z
UID:10005219-1644922800-1644926400@ethical.nyc
SUMMARY:Ethics in the News (Online)
DESCRIPTION:Join in the lively give-and-take on compelling issues and current events and bring your own ideas. Member Joe Fashing moderates. \nTopic and suggested readings TBA! \nClick to join at start | Zoom ID 838 1778 1084 | Passcode 675527 \n\nYou can download Zoom at https://zoom.us/download\, although it’s not necessary to do ahead of time. Zoom is available for tablets and smartphones in both main app stores\, Apple and Google Android. Attendees don’t need to register for a Zoom account although it’s free and helpful. To join a meeting\, simply click the event’s invitation link above.
URL:https://ethical.nyc/events/ethics-in-the-news-online-2022-02-15/
LOCATION:NY
CATEGORIES:Ethics in the News
ATTACH;FMTTYPE=image/jpeg:https://ethical.nyc/wp-content/uploads/2020/03/mosaic.jpg
END:VEVENT
BEGIN:VEVENT
DTSTART;TZID=America/New_York:20220215T170000
DTEND;TZID=America/New_York:20220215T174500
DTSTAMP:20260423T225942
CREATED:20211220T220106Z
LAST-MODIFIED:20230622T183450Z
UID:10004081-1644944400-1644947100@ethical.nyc
SUMMARY:Midweek Meditation (Online)
DESCRIPTION:A midweek meditation for relaxing body and mind. Begins promptly at 5:00pm. Larry Hurst and Sondra Stein moderate. \nClick to join at start | Zoom ID 838 1778 1084 | Passcode 675527 \n\nYou can download Zoom at https://zoom.us/download\, although it’s not necessary to do ahead of time. Zoom is available for tablets and smartphones in both main app stores\, Apple and Google Android. Attendees don’t need to register for a Zoom account although it’s free and helpful. To join a meeting\, simply click the event’s invitation link above. \n(Photo by Nicollazzi Xiong)
URL:https://ethical.nyc/events/midweek-meditation-online/2022-02-15/
LOCATION:2 W 64th St\, New York\, NY\, 10023\, United States
CATEGORIES:Midweek Meditation
ATTACH;FMTTYPE=image/jpeg:https://ethical.nyc/wp-content/uploads/2021/12/meditation_pxl.jpg
END:VEVENT
BEGIN:VEVENT
DTSTART;TZID=America/New_York:20220215T170000
DTEND;TZID=America/New_York:20220215T180000
DTSTAMP:20260423T225942
CREATED:20220126T200422Z
LAST-MODIFIED:20220206T063223Z
UID:10005266-1644944400-1644948000@ethical.nyc
SUMMARY:At Home with the League of Women Voters - Deborah Archer: "Critical Race Theory: What It Is\, What It Isn’t\, and Why It's So Controversial" (Online)
DESCRIPTION:Professor Deborah Archer of NYU and the ACLU will discuss the newfound controversies surrounding Critical Race Theory. \nAbout this event \nIs Critical Race Theory (CRT) a way of understanding how American racism has shaped public policy\, or a divisive discourse that pits people of color against white people\, as some conservatives are espousing? Professor Deborah Archer\, President of the ACLU National Board\, will discuss these controversies and what critical race theory actually is. Plus: an appearance by Regina Tillman\, Chair of the NYS League’s Diversity Equality and Inclusion Task Force. \nSpeakers: \nProfessor Deborah N. Archer is an American civil rights lawyer and law professor. She is the Jacob K. Javits Professor at New York University and professor of clinical law at New York University School of Law. She is also the President of the American Civil Liberties Union National Board. \nRegina Tillman\, Chair of the NY State League’s Diversity\, Equality\, and Inclusion Task Force will discuss the program\, which identifies groups that are socially and politically excluded from political and social interests\, and how it is offering the League insight into bias and discrimination. \nClick here to RSVP on Eventbrite!
URL:https://ethical.nyc/events/at-home-with-the-league-of-women-voters-deborah-archer-critical-race-theory-what-it-is-what-it-isnt-and-why-its-so-controversial-online/
LOCATION:NY
CATEGORIES:League of Women Voters
ATTACH;FMTTYPE=image/jpeg:https://ethical.nyc/wp-content/uploads/2022/01/archer_lwv.jpeg
END:VEVENT
BEGIN:VEVENT
DTSTART;TZID=America/New_York:20220215T183000
DTEND;TZID=America/New_York:20220215T183000
DTSTAMP:20260423T225942
CREATED:20211222T204154Z
LAST-MODIFIED:20240125T204247Z
UID:10004177-1644949800-1644949800@ethical.nyc
SUMMARY:Amnesty International NYC Groups 9 & 280 Monthly Meeting
DESCRIPTION:Amnesty International NYC Groups 9 and 280\, a Society Affinity Group that has been working with our Ethical Action committee for several years\, will be holding their meetings on the third Tuesday of every month. Until further notice\, all sessions will now be online. \nFor years Amnesty group members and Society members have worked in our meeting house and elsewhere to hold educational events\, letter-writing campaigns\, and other activities related to advancing Human Rights.  If you are interested in attending\, please contact Amnesty coordinator Paul Pavese at PPAVESE@jhmc.org to make sure we have sufficient seating for all.
URL:https://ethical.nyc/events/amnesty-international-nyc-groups-9-280-monthly-meeting-2022-02-15/2022-02-15/
LOCATION:Room 508\, 2 West 64th Street\, New York\, NY\, 10023\, United States
ATTACH;FMTTYPE=image/jpeg:https://ethical.nyc/wp-content/uploads/2021/11/amnesty-rm507.jpeg
END:VEVENT
BEGIN:VEVENT
DTSTART;TZID=America/New_York:20220215T190000
DTEND;TZID=America/New_York:20220215T200000
DTSTAMP:20260423T225942
CREATED:20211222T215553Z
LAST-MODIFIED:20220214T064240Z
UID:10004190-1644951600-1644955200@ethical.nyc
SUMMARY:Camaraderie and Good Conversation with Leader Joe Chuman: "Whoopi Goldberg's American Idea of Race" (Online)
DESCRIPTION:Leader Dr. Joe Chuman leads this monthly discussion group focusing on contemporary issues and occasionally classical writings relating to Ethical Culture and Humanism. We will primarily make use of articles from journals of opinion and book chapters when relevant. Rather than taking a merely journalistic approach\, the discussions will aim to illuminate the philosophical concepts and values which underlie the issues being discussed. 3rd Tuesdays. \nSuggested readings: \nWhoopi Goldberg’s American Idea of Race – by Adam Serwer – The Atlantic \nClick here to join at start time | ID 853 3773 6864 | Passcode 708211\n \n\nYou can download Zoom at https://zoom.us/download\, although it’s not necessary to do ahead of time. Zoom is available for tablets and smartphones in both main app stores\, Apple and Google Android. Attendees don’t need to register for a Zoom account although it’s free and helpful. To join a meeting\, simply click the event’s invitation link above.
URL:https://ethical.nyc/events/camaraderie-and-good-conversation-with-leader-joe-chuman-online-2022-02-15/
LOCATION:NY
ATTACH;FMTTYPE=image/jpeg:https://ethical.nyc/wp-content/uploads/2019/05/joechuman2-e1635222778648.jpeg
END:VEVENT
BEGIN:VEVENT
DTSTART;TZID=America/New_York:20220216T190000
DTEND;TZID=America/New_York:20220216T210000
DTSTAMP:20260423T225942
CREATED:20211220T221929Z
LAST-MODIFIED:20220216T180246Z
UID:10004159-1645038000-1645045200@ethical.nyc
SUMMARY:Great Literature Discussion: The Boat by Nam Le\, Stories 5-7 (Online)
DESCRIPTION:With a jaw-dropping versatility of voice and point of view\, The Boat is an extraordinary work of fiction that guides us to the heart of what it means to be human. The seven stories take us across the globe\, from the slums of Colombia to Iowa City; from the streets of Tehran to a foundering vessel in the South China Sea. \nAmong many accolades this book won Australian author Nam Le the 2008 Dylan Thomas Prize\, the world’s top cash prize for young writers. Michiko Kakutani (New York Times) called the opening story “a singular masterpiece.” \nAbout GLD \nLiterary works will be discussed based on what can be found in the text in order to enrich each other’s interpretation of the novel/novella. All are welcome to join and any edition or translation of the book under discussion can be used. Read the work in advance and be prepared to discuss the aspects of interest to you by referring to specific related text and reading it to the group. Moderated by Ethical NYC member Gunther Tielemans. \nFor access information\, please contact Gunther.
URL:https://ethical.nyc/events/great-literature-discussion-2022-02-16/
LOCATION:NY
CATEGORIES:Great Literature Discussions
ATTACH;FMTTYPE=image/jpeg:https://ethical.nyc/wp-content/uploads/2020/03/mosaic.jpg
END:VEVENT
BEGIN:VEVENT
DTSTART;TZID=America/New_York:20220217T120000
DTEND;TZID=America/New_York:20220217T133000
DTSTAMP:20260423T225942
CREATED:20211213T185357Z
LAST-MODIFIED:20220213T033729Z
UID:10004066-1645099200-1645104600@ethical.nyc
SUMMARY:Leader’s Roundtable: My Funny Valentine\, Part 2 (Hybrid)
DESCRIPTION:Bring your lunch and join Leader Dr. Nori Rost and members for an engaging round-table discussion on the issues of the day and recommended readings. \nOn these two Thursdays bookending Valentine’s Day\, we’ll explore articles on a variety of relationship styles and issues. This is part two. \nThis week’s readings: \nFrom Best Friends to Platonic Spouses – The New York Times (nytimes.com) \nhttps://www.nytimes.com/2019/08/03/style/polyamory-nonmonogamy-relationships.html \nThere’s never been a better time to be single | CNN \nClick to join at start time | Zoom ID 861 1417 5760 | Passcode 347145 \nCOVID-19 NOTICE: Only fully-vaccinated Society members are invited to attend in-person. All others are invited to join us via Zoom. We hope to open up to the public again as soon as possible. \n\nYou can download Zoom at https://zoom.us/download\, although it’s not necessary to do ahead of time. Zoom is available for tablets and smartphones in both main app stores\, Apple and Google Android. Attendees don’t need to register for a Zoom account although it’s free and helpful. To join a meeting\, simply click the event’s invitation link above.
URL:https://ethical.nyc/events/leaders-roundtable-3-2022-02-17/
LOCATION:Adler Study (514)\, 2 W 64th St.\, New York\, NY\, 10023\, United States
ATTACH;FMTTYPE=image/jpeg:https://ethical.nyc/wp-content/uploads/2021/12/roundtable-nori-sm.jpg
END:VEVENT
END:VCALENDAR