BEGIN:VCALENDAR
VERSION:2.0
PRODID:-//The New York Society for Ethical Culture - ECPv6.15.18//NONSGML v1.0//EN
CALSCALE:GREGORIAN
METHOD:PUBLISH
X-WR-CALNAME:The New York Society for Ethical Culture
X-ORIGINAL-URL:https://ethical.nyc
X-WR-CALDESC:Events for The New York Society for Ethical Culture
REFRESH-INTERVAL;VALUE=DURATION:PT1H
X-Robots-Tag:noindex
X-PUBLISHED-TTL:PT1H
BEGIN:VTIMEZONE
TZID:America/New_York
BEGIN:DAYLIGHT
TZOFFSETFROM:-0500
TZOFFSETTO:-0400
TZNAME:EDT
DTSTART:20210314T070000
END:DAYLIGHT
BEGIN:STANDARD
TZOFFSETFROM:-0400
TZOFFSETTO:-0500
TZNAME:EST
DTSTART:20211107T060000
END:STANDARD
BEGIN:DAYLIGHT
TZOFFSETFROM:-0500
TZOFFSETTO:-0400
TZNAME:EDT
DTSTART:20220313T070000
END:DAYLIGHT
BEGIN:STANDARD
TZOFFSETFROM:-0400
TZOFFSETTO:-0500
TZNAME:EST
DTSTART:20221106T060000
END:STANDARD
BEGIN:DAYLIGHT
TZOFFSETFROM:-0500
TZOFFSETTO:-0400
TZNAME:EDT
DTSTART:20230312T070000
END:DAYLIGHT
BEGIN:STANDARD
TZOFFSETFROM:-0400
TZOFFSETTO:-0500
TZNAME:EST
DTSTART:20231105T060000
END:STANDARD
END:VTIMEZONE
BEGIN:VEVENT
DTSTART;TZID=America/New_York:20220814T110000
DTEND;TZID=America/New_York:20220814T121500
DTSTAMP:20260419T123112
CREATED:20220615T183918Z
LAST-MODIFIED:20220810T140638Z
UID:10004315-1660474800-1660479300@ethical.nyc
SUMMARY:Merle Hoffman: Abortion\, Love\, Power\, and Resistance
DESCRIPTION:In-person and online! \nMerle will discuss personal\, political\, psychological\, and philosophical reflections of her 51-year journey as one of the first abortion providers in the country before Roe\, building the largest and most comprehensive feminist medical center in the US\, some of her battles in the on-going war against women’s freedom\, her work in Russia\, her radical political work in the past and during this current crisis\, and her own abortion. \nShe’ll share stories of allies and enemies\, reflecting how she came to view the abortion struggle as a power struggle\, a positive moral good\, and a mother’s act. \nMerle will also have copies of her book\, Intimate Wars: the Life and Times of the Woman Who Brought Abortion from the Back Alley to the Boardroom\, available for sale and signing. \nMerle Hoffman is an internationally known leader in the struggle for women’s rights\, a healthcare pioneer\, founder of women’s health\, political\, and reproductive rights organizations and a prize-winning writer and publisher. Her work spans over 50 years and continues today\, proving to be more essential and relevant than ever in the ongoing fight for women’s human rights\, concentrated in the right and ability to make their own reproductive choices. \nShe established Choices Women’s Medical Center\, one of the country’s first abortion clinics\, in 1971\, two years before the U.S. Supreme Court legalized abortion nationally in the Roe V. Wade Decision. She continues to serve as President and CEO\, implementing and expanding her initial vision of empowering women and girls through reproductive choice with the best care possible. Today Choices is one of the nation’s largest and most comprehensive women’s medical facilities\, providing abortion services\, birth control\, gynecology\, pre-natal care\, counseling services\, Tele-Medicine\, and specialized care for teens and the LGBTQ community\, along with extensive educational outreach to schools\, prisons\, and women’s organizations. Through the years Merle has been outspoken in supporting women’s reproductive choice and opposing attacks on abortion rights and access. \nNotice: Only fully-vaccinated individuals are invited to attend in-person at this time. Proof of vaccination\, photo ID\, and mask are required. \nWatch Online: Click to join at start | ID 863 0430 0961 | Passcode 609424\nTo join by phone (audio only)\, dial (929) 205-6099 and enter the Zoom ID above. \nPresider: Leader Dr. Nori Rost \nMonthly Collection: New York Harm Reduction Educators \n\nSunday Platform is our most important and long-standing community event. These gatherings educate\, stimulate personal growth\, inspire reflection and action\, and strengthen our community. Sunday meetings begin with music\, followed by greetings and a talk given by a Society Leader\, member\, or guest.  Platforms cover a variety of topics that reflect current events\, pressing social issues\, and Humanist philosophy. Each Sunday meeting is followed by a luncheon and social hour. \nTo watch previous Sunday Platforms\, visit our Videos page and YouTube channel.
URL:https://ethical.nyc/events/sunday-platform-8-2022-08-14/
LOCATION:Ceremonial Hall (4th Floor)\, 2 W 64th St\, New York\, NY\, 10023\, United States
CATEGORIES:Sunday Platform
ATTACH;FMTTYPE=image/jpeg:https://ethical.nyc/wp-content/uploads/2022/06/hoffman-2022aug.jpg
END:VEVENT
BEGIN:VEVENT
DTSTART;TZID=America/New_York:20220815T170000
DTEND;TZID=America/New_York:20220815T180000
DTSTAMP:20260419T123112
CREATED:20220615T184826Z
LAST-MODIFIED:20220811T143914Z
UID:10005396-1660582800-1660586400@ethical.nyc
SUMMARY:Share and Learn: Topics in Medicine\, Mental Health\, Science\, and Ethics with Dr. Carol Portlock
DESCRIPTION:Thanks to vaccines and medical innovation\, we are gradually moving away from the Covid pandemic. On 1st and 3rd Mondays\, retired oncologist Carol Portlock will discuss the new and intriguing science that lies ahead\, including Covid. On 2nd and 4th Mondays\, clinical psychologist Frank Corigliano will continue to address your concerns about managing day-to-day during this trying time. \nSuggested readings: \nThe science of fasting and longevityhttps://www.ncbi.nlm.nih.gov/pmc/articles/PMC8932957/Resuscitation and cellular recoveryhttps://www.sciencenews.org/article/organ-donation-pig-death-artificial-system-restored-cell-lifeBrain death and the ethics of prolonged life support\nhttps://www.nytimes.com/2022/08/06/world/europe/uk-archie-battersbee-dies.htmlPolio virus from live-attenuated vaccination in the past\, now found active in unvaccinated adults\nhttps://www.nytimes.com/2022/08/10/world/europe/uk-london-polio-vaccine-sewage.htmlREM sleep detected in spiders…do they dream too?https://www.nytimes.com/2022/08/08/science/spiders-dreaming-sleeping-rem.html \nClick to join at start | Zoom ID 838 1778 1084 | Passcode 675527 \n\nYou can download Zoom at https://zoom.us/download\, although it’s not necessary to do ahead of time. Zoom is available for tablets and smartphones in both main app stores\, Apple and Google Android. Attendees don’t need to register for a Zoom account although it’s free and helpful. To join a meeting\, simply click the event’s invitation link above.
URL:https://ethical.nyc/events/share-and-learn-topics-in-medicine-mental-health-science-and-ethics-2022-08-15/
CATEGORIES:Share and Learn
ATTACH;FMTTYPE=image/jpeg:https://ethical.nyc/wp-content/uploads/2021/11/mosaic-1024x497.jpg
END:VEVENT
BEGIN:VEVENT
DTSTART;TZID=America/New_York:20220815T173000
DTEND;TZID=America/New_York:20220815T200000
DTSTAMP:20260419T123112
CREATED:20220807T225904Z
LAST-MODIFIED:20220807T225904Z
UID:10005456-1660584600-1660593600@ethical.nyc
SUMMARY:Board of Trustees Meeting
DESCRIPTION:Any Society Member who wishes to attend in-person or online via Zoom can contact Executive Director Robert Liebeskind for access\, at rliebskind@nysec.org.
URL:https://ethical.nyc/events/board-of-trustees-meeting-3/
LOCATION:Adler Study (514)\, 2 W 64th St.\, New York\, NY\, 10023\, United States
CATEGORIES:Board of Trustees
ATTACH;FMTTYPE=image/jpeg:https://ethical.nyc/wp-content/uploads/2021/11/mosaic-1024x497.jpg
END:VEVENT
BEGIN:VEVENT
DTSTART;TZID=America/New_York:20220816T100000
DTEND;TZID=America/New_York:20220816T110000
DTSTAMP:20260419T123112
CREATED:20211221T025515Z
LAST-MODIFIED:20220705T161154Z
UID:10005447-1660644000-1660647600@ethical.nyc
SUMMARY:Poetry Circle (Online)
DESCRIPTION:Share the poems of your choice. Read them aloud. We’ll listen attentively and discuss them—a line\, a word\, an image\, or overall feeling. You’re welcome to give us a couple of sentences about the poets\, too. Elinore Kaplan moderates. \nIf you will be participating\, send your poems to Elinore in advance\, so they can be shared on-screen with participants: ethicaloutlook@gmail.com. \nClick to join at start | Zoom ID 838 1778 1084 | Passcode 675527 \n\nYou can download Zoom at https://zoom.us/download\, although it’s not necessary to do ahead of time. Zoom is available for tablets and smartphones in both main app stores\, Apple and Google Android. Attendees don’t need to register for a Zoom account although it’s free and helpful. To join a meeting\, simply click the event’s invitation link above.
URL:https://ethical.nyc/events/poetry-circle-online-4-2022-08-02/
CATEGORIES:Poetry
ATTACH;FMTTYPE=image/jpeg:https://ethical.nyc/wp-content/uploads/2020/03/mosaic.jpg
END:VEVENT
BEGIN:VEVENT
DTSTART;TZID=America/New_York:20220816T170000
DTEND;TZID=America/New_York:20220816T174500
DTSTAMP:20260419T123112
CREATED:20211220T220106Z
LAST-MODIFIED:20230622T183450Z
UID:10004107-1660669200-1660671900@ethical.nyc
SUMMARY:Midweek Meditation (Online)
DESCRIPTION:A midweek meditation for relaxing body and mind. Begins promptly at 5:00pm. Larry Hurst and Sondra Stein moderate. \nClick to join at start | Zoom ID 838 1778 1084 | Passcode 675527 \n\nYou can download Zoom at https://zoom.us/download\, although it’s not necessary to do ahead of time. Zoom is available for tablets and smartphones in both main app stores\, Apple and Google Android. Attendees don’t need to register for a Zoom account although it’s free and helpful. To join a meeting\, simply click the event’s invitation link above. \n(Photo by Nicollazzi Xiong)
URL:https://ethical.nyc/events/midweek-meditation-online/2022-08-16/
LOCATION:2 W 64th St\, New York\, NY\, 10023\, United States
CATEGORIES:Midweek Meditation
ATTACH;FMTTYPE=image/jpeg:https://ethical.nyc/wp-content/uploads/2021/12/meditation_pxl.jpg
END:VEVENT
BEGIN:VEVENT
DTSTART;TZID=America/New_York:20220816T183000
DTEND;TZID=America/New_York:20220816T183000
DTSTAMP:20260419T123112
CREATED:20211222T204154Z
LAST-MODIFIED:20240125T204247Z
UID:10004183-1660674600-1660674600@ethical.nyc
SUMMARY:Amnesty International NYC Groups 9 & 280 Monthly Meeting
DESCRIPTION:Amnesty International NYC Groups 9 and 280\, a Society Affinity Group that has been working with our Ethical Action committee for several years\, will be holding their meetings on the third Tuesday of every month. Until further notice\, all sessions will now be online. \nFor years Amnesty group members and Society members have worked in our meeting house and elsewhere to hold educational events\, letter-writing campaigns\, and other activities related to advancing Human Rights.  If you are interested in attending\, please contact Amnesty coordinator Paul Pavese at PPAVESE@jhmc.org to make sure we have sufficient seating for all.
URL:https://ethical.nyc/events/amnesty-international-nyc-groups-9-280-monthly-meeting-2022-02-15/2022-08-16/
LOCATION:Room 508\, 2 West 64th Street\, New York\, NY\, 10023\, United States
ATTACH;FMTTYPE=image/jpeg:https://ethical.nyc/wp-content/uploads/2021/11/amnesty-rm507.jpeg
END:VEVENT
BEGIN:VEVENT
DTSTART;TZID=America/New_York:20220816T190000
DTEND;TZID=America/New_York:20220816T200000
DTSTAMP:20260419T123112
CREATED:20211222T215553Z
LAST-MODIFIED:20220919T134328Z
UID:10004199-1660676400-1660680000@ethical.nyc
SUMMARY:Camaraderie and Good Conversation with Leader Joe Chuman (Online)
DESCRIPTION:Leader Dr. Joe Chuman leads this monthly discussion group focusing on contemporary issues and occasionally classical writings relating to Ethical Culture and Humanism. We will primarily make use of articles from journals of opinion and book chapters when relevant. Rather than taking a merely journalistic approach\, the discussions will aim to illuminate the philosophical concepts and values which underlie the issues being discussed. 3rd Tuesdays. \nSuggested readings TBA. \nClick here to join at start time | Zoom ID 853 3773 6864 | Passcode 708211\n \n\nYou can download Zoom at https://zoom.us/download\, although it’s not necessary to do ahead of time. Zoom is available for tablets and smartphones in both main app stores\, Apple and Google Android. Attendees don’t need to register for a Zoom account although it’s free and helpful. To join a meeting\, simply click the event’s invitation link above.
URL:https://ethical.nyc/events/camaraderie-and-good-conversation-with-leader-joe-chuman-online-2022-06-21/2022-08-16/
LOCATION:2 W 64th St\, New York\, NY\, 10023\, United States
ATTACH;FMTTYPE=image/jpeg:https://ethical.nyc/wp-content/uploads/2019/05/joechuman2-e1635222778648.jpeg
END:VEVENT
BEGIN:VEVENT
DTSTART;TZID=America/New_York:20220817T103000
DTEND;TZID=America/New_York:20220817T120000
DTSTAMP:20260419T123112
CREATED:20220418T163525Z
LAST-MODIFIED:20221019T125836Z
UID:10005304-1660732200-1660737600@ethical.nyc
SUMMARY:Communications Committee Meeting
DESCRIPTION:Third Wednesdays\, 10:30am.
URL:https://ethical.nyc/events/communications-committee-meeting/2022-08-17/
LOCATION:Adler Study (514)\, 2 W 64th St.\, New York\, NY\, 10023\, United States
ATTACH;FMTTYPE=image/jpeg:https://ethical.nyc/wp-content/uploads/2021/11/mosaic-1024x497.jpg
END:VEVENT
BEGIN:VEVENT
DTSTART;TZID=America/New_York:20220817T143000
DTEND;TZID=America/New_York:20220817T153000
DTSTAMP:20260419T123112
CREATED:20220421T050653Z
LAST-MODIFIED:20220421T050739Z
UID:10004262-1660746600-1660750200@ethical.nyc
SUMMARY:Membership Committee Meeting
DESCRIPTION:Third Wednesdays\, 2:30pm.
URL:https://ethical.nyc/events/membership-committee-meeting/2022-08-17/
LOCATION:Adler Study (514)\, 2 W 64th St.\, New York\, NY\, 10023\, United States
ATTACH;FMTTYPE=image/jpeg:https://ethical.nyc/wp-content/uploads/2021/11/mosaic-1024x497.jpg
END:VEVENT
BEGIN:VEVENT
DTSTART;TZID=America/New_York:20220817T190000
DTEND;TZID=America/New_York:20220817T210000
DTSTAMP:20260419T123112
CREATED:20220615T192252Z
LAST-MODIFIED:20220731T082740Z
UID:10005428-1660762800-1660770000@ethical.nyc
SUMMARY:Great Literature Discussion - 'The Vagrants' by Yiyun Li
DESCRIPTION:Literary works will be discussed based on what can be found in the text in order to enrich each other’s interpretation of the novel/novella. All are welcome to join and any edition or translation of the book under discussion can be used. Read the work in advance and be prepared to discuss the aspects of interest to you by referring to specific related text and reading it to the group. Moderated by Ethical NYC member Gunther Tielemans. 1st and 3rd Wednesdays. Click here to view the upcoming schedule. \nThis week: The Vagrants by Yiyun Li \nDetails TBA. \nFor access information\, please contact Gunther.
URL:https://ethical.nyc/events/great-literature-discussion-2-2022-08-17/
CATEGORIES:Great Literature Discussions
ATTACH;FMTTYPE=image/jpeg:https://ethical.nyc/wp-content/uploads/2021/11/mosaic-1024x497.jpg
END:VEVENT
BEGIN:VEVENT
DTSTART;TZID=America/New_York:20220817T200000
DTEND;TZID=America/New_York:20220817T210000
DTSTAMP:20260419T123112
CREATED:20220803T173502Z
LAST-MODIFIED:20220803T173650Z
UID:10005453-1660766400-1660770000@ethical.nyc
SUMMARY:AEU Nonviolence and Gun Safety Salon (Online)
DESCRIPTION:This Salon will be an examination of the phenomenon of mass shootings in America and an urgent call to implement evidence-based strategies to stop these tragedies. \nClick to join at start: https://bit.ly/3u6hH5Z\nZoom ID: 876 8396 8044 \nAbout our Speaker: \nSharon Stanley\, Ethical Humanist Society of Long Island and Moms Demand Action\, is a retired New York City special education teacher. “Christopher and I just joined in 1995\, we were married in 1996\, by Dr. David Harmon\, one of our EHSLI officiants. Our child\, Gabe\, was born in 1998 and we are so proud to call him a ‘first generation Ethical Humanist!’” She joined “Moms Demand Action” in 2018\, right after the Parkland shooting\, and has been advocating for sensible gun legislation ever since.
URL:https://ethical.nyc/events/aeu-nonviolence-and-gun-safety-salon-online/
CATEGORIES:American Ethical Union
ATTACH;FMTTYPE=image/jpeg:https://ethical.nyc/wp-content/uploads/2022/08/aeu-gunviolence.jpeg
END:VEVENT
BEGIN:VEVENT
DTSTART;TZID=America/New_York:20220818T120000
DTEND;TZID=America/New_York:20220818T133000
DTSTAMP:20260419T123112
CREATED:20220615T185500Z
LAST-MODIFIED:20220731T075637Z
UID:10005422-1660824000-1660829400@ethical.nyc
SUMMARY:Leader's Roundtable: Are You an Innie or an Outie?
DESCRIPTION:Bring your lunch and join Leader Dr. Nori Rost and members for an engaging round-table discussion on the issues of the day and recommended readings. This week: \nIntroverts and Extroverts—what are the benefits and challenges of these personality types? Which one are you? \nReadings: \nWhat makes us extroverts and introverts? – BBC Future \nClick to join at start | Zoom ID 861 1417 5760 | Passcode 347145 \nCOVID-19 NOTICE: Only fully-vaccinated Society members are invited to attend in-person. All others are invited to join us via Zoom. We hope to open up to the public again as soon as possible. \n\nYou can download Zoom at https://zoom.us/download\, although it’s not necessary to do ahead of time. Zoom is available for tablets and smartphones in both main app stores\, Apple and Google Android. Attendees don’t need to register for a Zoom account although it’s free and helpful. To join a meeting\, simply click the event’s invitation link above.
URL:https://ethical.nyc/events/leaders-roundtable-4-2022-08-18/
LOCATION:Adler Study (514)\, 2 W 64th St.\, New York\, NY\, 10023\, United States
ATTACH;FMTTYPE=image/jpeg:https://ethical.nyc/wp-content/uploads/2021/12/roundtable-nori-sm.jpg
END:VEVENT
END:VCALENDAR