BEGIN:VCALENDAR
VERSION:2.0
PRODID:-//The New York Society for Ethical Culture - ECPv6.15.18//NONSGML v1.0//EN
CALSCALE:GREGORIAN
METHOD:PUBLISH
X-WR-CALNAME:The New York Society for Ethical Culture
X-ORIGINAL-URL:https://ethical.nyc
X-WR-CALDESC:Events for The New York Society for Ethical Culture
REFRESH-INTERVAL;VALUE=DURATION:PT1H
X-Robots-Tag:noindex
X-PUBLISHED-TTL:PT1H
BEGIN:VTIMEZONE
TZID:America/New_York
BEGIN:DAYLIGHT
TZOFFSETFROM:-0500
TZOFFSETTO:-0400
TZNAME:EDT
DTSTART:20210314T070000
END:DAYLIGHT
BEGIN:STANDARD
TZOFFSETFROM:-0400
TZOFFSETTO:-0500
TZNAME:EST
DTSTART:20211107T060000
END:STANDARD
BEGIN:DAYLIGHT
TZOFFSETFROM:-0500
TZOFFSETTO:-0400
TZNAME:EDT
DTSTART:20220313T070000
END:DAYLIGHT
BEGIN:STANDARD
TZOFFSETFROM:-0400
TZOFFSETTO:-0500
TZNAME:EST
DTSTART:20221106T060000
END:STANDARD
BEGIN:DAYLIGHT
TZOFFSETFROM:-0500
TZOFFSETTO:-0400
TZNAME:EDT
DTSTART:20230312T070000
END:DAYLIGHT
BEGIN:STANDARD
TZOFFSETFROM:-0400
TZOFFSETTO:-0500
TZNAME:EST
DTSTART:20231105T060000
END:STANDARD
END:VTIMEZONE
BEGIN:VEVENT
DTSTART;TZID=America/New_York:20220828T110000
DTEND;TZID=America/New_York:20220828T121500
DTSTAMP:20260419T153055
CREATED:20220615T183918Z
LAST-MODIFIED:20220810T152844Z
UID:10004318-1661684400-1661688900@ethical.nyc
SUMMARY:Ethics and the Theater Sunday Platform (In-Person Only)
DESCRIPTION:This week’s Sunday Platform is in-person only. \nOur Ethics and the Theater team presents their annual August Sunday Platform. \nDirected by Susan Horowitz\, performed by Patricia Bruder Debrovner\, and narrated by Bonnie Bean. \nNotice: Only fully-vaccinated individuals are invited to attend in-person at this time. Proof of vaccination\, photo ID\, and mask are required. \nPresider: Pat Debrovner \nMonthly Collection: New York Harm Reduction Educators \n\nSunday Platform is our most important and long-standing community event. These gatherings educate\, stimulate personal growth\, inspire reflection and action\, and strengthen our community. Sunday meetings begin with music\, followed by greetings and a talk given by a Society Leader\, member\, or guest.  Platforms cover a variety of topics that reflect current events\, pressing social issues\, and Humanist philosophy. Each Sunday meeting is followed by a luncheon and social hour. \nTo watch previous Sunday Platforms\, visit our Videos page and YouTube channel.
URL:https://ethical.nyc/events/sunday-platform-8-2022-08-28/
LOCATION:Ceremonial Hall (4th Floor)\, 2 W 64th St\, New York\, NY\, 10023\, United States
CATEGORIES:Sunday Platform
ATTACH;FMTTYPE=image/jpeg:https://ethical.nyc/wp-content/uploads/2021/11/mosaic-1024x497.jpg
END:VEVENT
BEGIN:VEVENT
DTSTART;TZID=America/New_York:20220829T170000
DTEND;TZID=America/New_York:20220829T180000
DTSTAMP:20260419T153055
CREATED:20220615T184826Z
LAST-MODIFIED:20220827T185034Z
UID:10004341-1661792400-1661796000@ethical.nyc
SUMMARY:Share and Learn: Topics in Medicine\, Mental Health\, Science\, and Ethics with Dr. Carol Portlock
DESCRIPTION:Thanks to vaccines and medical innovation\, we are gradually moving away from the Covid pandemic. On 1st and 3rd Mondays\, retired oncologist Carol Portlock will discuss the new and intriguing science that lies ahead\, including Covid. On 2nd and 4th Mondays\, clinical psychologist Frank Corigliano will continue to address your concerns about managing day-to-day during this trying time. \nSuggested readings: \nA good discussion of CTE in football playershttps://www.nytimes.com/article/cte-definition-nfl.htmlA new drug for a genetically-derived liver disease\, exciting technologyhttps://pubmed.ncbi.nlm.nih.gov/35748699/Hair loss drug used on skin is now being used by mouth without FDA approvalhttps://www.nytimes.com/2022/08/18/health/minoxidil-hair-loss-pills.htmlPlan for a genetic database in hospital-pharma partnershiphttps://www.nytimes.com/2022/08/12/nyregion/database-new-yorkers-dna.html \nClick to join at start | Zoom ID 838 1778 1084 | Passcode 675527 \n\nYou can download Zoom at https://zoom.us/download\, although it’s not necessary to do ahead of time. Zoom is available for tablets and smartphones in both main app stores\, Apple and Google Android. Attendees don’t need to register for a Zoom account although it’s free and helpful. To join a meeting\, simply click the event’s invitation link above.
URL:https://ethical.nyc/events/share-and-learn-topics-in-medicine-mental-health-science-and-ethics-2022-09-05/
LOCATION:NY
CATEGORIES:Share and Learn
ATTACH;FMTTYPE=image/jpeg:https://ethical.nyc/wp-content/uploads/2021/12/share-learn.jpeg
END:VEVENT
BEGIN:VEVENT
DTSTART;TZID=America/New_York:20220829T174500
DTEND;TZID=America/New_York:20220829T190000
DTSTAMP:20260419T153055
CREATED:20220425T140947Z
LAST-MODIFIED:20220829T174629Z
UID:10005319-1661795100-1661799600@ethical.nyc
SUMMARY:CANCELLED - Program Coordinating Committee Meeting
DESCRIPTION:Notice: This meeting has been cancelled. We’ll see you in September! \n***** \nMembers only.
URL:https://ethical.nyc/events/program-coordinating-committee-meeting-2022-08-22/
LOCATION:NY
CATEGORIES:Program Coordinating Committee
ATTACH;FMTTYPE=image/jpeg:https://ethical.nyc/wp-content/uploads/2021/11/mosaic-1024x497.jpg
END:VEVENT
BEGIN:VEVENT
DTSTART;TZID=America/New_York:20220830T170000
DTEND;TZID=America/New_York:20220830T174500
DTSTAMP:20260419T153055
CREATED:20211220T220106Z
LAST-MODIFIED:20230622T183450Z
UID:10004109-1661878800-1661881500@ethical.nyc
SUMMARY:Midweek Meditation (Online)
DESCRIPTION:A midweek meditation for relaxing body and mind. Begins promptly at 5:00pm. Larry Hurst and Sondra Stein moderate. \nClick to join at start | Zoom ID 838 1778 1084 | Passcode 675527 \n\nYou can download Zoom at https://zoom.us/download\, although it’s not necessary to do ahead of time. Zoom is available for tablets and smartphones in both main app stores\, Apple and Google Android. Attendees don’t need to register for a Zoom account although it’s free and helpful. To join a meeting\, simply click the event’s invitation link above. \n(Photo by Nicollazzi Xiong)
URL:https://ethical.nyc/events/midweek-meditation-online/2022-08-30/
LOCATION:2 W 64th St\, New York\, NY\, 10023\, United States
CATEGORIES:Midweek Meditation
ATTACH;FMTTYPE=image/jpeg:https://ethical.nyc/wp-content/uploads/2021/12/meditation_pxl.jpg
END:VEVENT
BEGIN:VEVENT
DTSTART;TZID=America/New_York:20220831T100000
DTEND;TZID=America/New_York:20220831T120000
DTSTAMP:20260419T153055
CREATED:20220812T194856Z
LAST-MODIFIED:20220823T180610Z
UID:10005465-1661940000-1661947200@ethical.nyc
SUMMARY:Reclaim Our Vote Postcard Writing w/ Third Act NYC: Help Georgians Fight Voter Suppression
DESCRIPTION:Join Ethical NYC’s Ethical Action Committee and our friends at Third Act NYC on August 31 for an in-person postcard writing gathering. Postcard packets will also be available to take with you and complete at home if you prefer. \nReclaim Our Vote is back for the 2022 mid-term elections. So far\, our volunteers have blanketed Texas\, North Carolina\, Alabama\, South Carolina\, and Florida with postcards to help voters–especially minority voters–learn about\, and then beat\, voter suppression in their states. \nNext up: Georgia. \nPostcards from this event will be mailed to Georgia voters by early October\, ensuring they arrive before the midterm elections. \nPlease RSVP by August 26th to rov.nysec@gmail.com if you plan to attend. \nFighting voter suppression is more challenging than ever\, and directly engaging voters is absolutely crucial to protecting and expanding our democracy. Thank you for whatever help you can give! \nFor more information\, please read the guidelines for postcard writers\, and watch this short ROV training video:
URL:https://ethical.nyc/events/reclaim-our-vote-postcard-writing-w-third-act-nyc-help-georgians-fight-voter-suppression/
LOCATION:NY
CATEGORIES:Ethics in Action
ATTACH;FMTTYPE=image/jpeg:https://ethical.nyc/wp-content/uploads/2022/05/rovcards.jpeg
END:VEVENT
BEGIN:VEVENT
DTSTART;TZID=America/New_York:20220901T120000
DTEND;TZID=America/New_York:20220901T133000
DTSTAMP:20260419T153055
CREATED:20220526T191819Z
LAST-MODIFIED:20220830T210917Z
UID:10005338-1662033600-1662039000@ethical.nyc
SUMMARY:Leader’s Roundtable: Taxing the Wealthy (Hybrid)
DESCRIPTION:Bring your lunch and join Leader Dr. Nori Rost and members for an engaging round-table discussion on the issues of the day and recommended readings. \nTaxing the Wealthy: What’s the best way to go? Is it ethical to find legal loopholes to avoid paying taxes? Thanks to Sandi Sacks for this idea and this article: \nThe Great Inheritors: How Three Families Shielded Their Fortunes From Taxes for Generations — ProPublica. \nFor further reading\, see https://www.cnn.com/2021/06/08/politics/what-matters-income-taxes/index.html \nClick to join at start time | Zoom ID 861 1417 5760 | Passcode 347145 \nCOVID-19 NOTICE: Only fully-vaccinated Society members are invited to attend in-person. All others are invited to join us via Zoom. We hope to open up to the public again as soon as possible. \n\nYou can download Zoom at https://zoom.us/download\, although it’s not necessary to do ahead of time. Zoom is available for tablets and smartphones in both main app stores\, Apple and Google Android. Attendees don’t need to register for a Zoom account although it’s free and helpful. To join a meeting\, simply click the event’s invitation link above.
URL:https://ethical.nyc/events/leaders-roundtable-hybrid/
LOCATION:Adler Study (514)\, 2 W 64th St.\, New York\, NY\, 10023\, United States
ATTACH;FMTTYPE=image/jpeg:https://ethical.nyc/wp-content/uploads/2021/12/roundtable-nori-sm.jpg
END:VEVENT
END:VCALENDAR