BEGIN:VCALENDAR
VERSION:2.0
PRODID:-//The New York Society for Ethical Culture - ECPv6.15.18//NONSGML v1.0//EN
CALSCALE:GREGORIAN
METHOD:PUBLISH
X-WR-CALNAME:The New York Society for Ethical Culture
X-ORIGINAL-URL:https://ethical.nyc
X-WR-CALDESC:Events for The New York Society for Ethical Culture
REFRESH-INTERVAL;VALUE=DURATION:PT1H
X-Robots-Tag:noindex
X-PUBLISHED-TTL:PT1H
BEGIN:VTIMEZONE
TZID:America/New_York
BEGIN:DAYLIGHT
TZOFFSETFROM:-0500
TZOFFSETTO:-0400
TZNAME:EDT
DTSTART:20220313T070000
END:DAYLIGHT
BEGIN:STANDARD
TZOFFSETFROM:-0400
TZOFFSETTO:-0500
TZNAME:EST
DTSTART:20221106T060000
END:STANDARD
BEGIN:DAYLIGHT
TZOFFSETFROM:-0500
TZOFFSETTO:-0400
TZNAME:EDT
DTSTART:20230312T070000
END:DAYLIGHT
BEGIN:STANDARD
TZOFFSETFROM:-0400
TZOFFSETTO:-0500
TZNAME:EST
DTSTART:20231105T060000
END:STANDARD
BEGIN:DAYLIGHT
TZOFFSETFROM:-0500
TZOFFSETTO:-0400
TZNAME:EDT
DTSTART:20240310T070000
END:DAYLIGHT
BEGIN:STANDARD
TZOFFSETFROM:-0400
TZOFFSETTO:-0500
TZNAME:EST
DTSTART:20241103T060000
END:STANDARD
END:VTIMEZONE
BEGIN:VEVENT
DTSTART;TZID=America/New_York:20230416T110000
DTEND;TZID=America/New_York:20230416T121500
DTSTAMP:20260423T132850
CREATED:20220615T183918Z
LAST-MODIFIED:20230409T142426Z
UID:10005380-1681642800-1681647300@ethical.nyc
SUMMARY:Richard Koral: Spring As a New Beginning
DESCRIPTION:In-person and online! \nLeader Dr. Richard Koral will explore the richness of the eternal regeneration of Spring. \nNotice: Only fully-vaccinated individuals are invited to attend in-person at this time. Proof of vaccination\, photo ID\, and mask are required. \nWatch Online: Click to join at start | ID 863 0430 0961 | Passcode 609424\nTo join by phone (audio only)\, dial (929) 205-6099 and enter the Zoom ID above. \nMonthly Collection: Our Children’s Trust \n\nSunday Platform is our most important and long-standing community event. These gatherings educate\, stimulate personal growth\, inspire reflection and action\, and strengthen our community. Sunday meetings begin with music\, followed by greetings and a talk given by a Society Leader\, member\, or guest.  Platforms cover a variety of topics that reflect current events\, pressing social issues\, and Humanist philosophy. Each Sunday meeting is followed by a luncheon and social hour. \nTo watch previous Sunday Platforms\, visit our Videos page and YouTube channel.
URL:https://ethical.nyc/events/sunday-platform-8-2022-12-04-2023-04-16/
LOCATION:Ceremonial Hall (4th Floor)\, 2 W 64th St\, New York\, NY\, 10023\, United States
CATEGORIES:Sunday Platform
ATTACH;FMTTYPE=image/jpeg:https://ethical.nyc/wp-content/uploads/2022/06/koral_2023apr.jpg
END:VEVENT
BEGIN:VEVENT
DTSTART;TZID=America/New_York:20230416T110000
DTEND;TZID=America/New_York:20230416T123000
DTSTAMP:20260423T132850
CREATED:20221103T212243Z
LAST-MODIFIED:20230402T154335Z
UID:10005525-1681642800-1681648200@ethical.nyc
SUMMARY:Young Ethical Explorers: Seeding Earth Day Growth
DESCRIPTION:Join us for this Earth Day gathering! \nNewcomers are always welcome! To join\, please RSVP to Youth Programs Director Audrey Kindred at youngethicalexplorers@gmail.com. For more information about our youth and family programming\, please visit www.ethical.nyc/youth. \n\nYoung Ethical Explorers is our Humanist Sunday school\, designed for youngsters from ages 4 to 13\, and takes place concurrent with our Sunday Platform meetings. Sessions raise issues of personal identity and integrity\, appreciation and respect for others\, and knowledge of religions\, philosophies\, and social concerns. Topics are explored in an age-appropriate way through discussion\, storytelling\, dramatization\, music\, art\, games\, and field trips. \nRSVP is essential to guarantee your place and for planning purposes. If you are enrolled for the season or are members of Ethical NYC your spot is guaranteed. To RSVP as a guest\, become a member\, or enroll in season\, please contact Audrey at YoungEthicalExplorers@gmail.com. Newcomers and visitors are always welcome!
URL:https://ethical.nyc/events/young-ethical-explorers-2-2023-02-12-2023-04-16/
LOCATION:Adler Study (514)\, 2 W 64th St.\, New York\, NY\, 10023\, United States
CATEGORIES:Youth and Families
ATTACH;FMTTYPE=image/jpeg:https://ethical.nyc/wp-content/uploads/2020/12/yee-roof.jpeg
END:VEVENT
BEGIN:VEVENT
DTSTART;TZID=America/New_York:20230416T133000
DTEND;TZID=America/New_York:20230416T150000
DTSTAMP:20260423T132850
CREATED:20230331T160128Z
LAST-MODIFIED:20230331T160128Z
UID:10005625-1681651800-1681657200@ethical.nyc
SUMMARY:Activities Fair
DESCRIPTION:Details TBA!
URL:https://ethical.nyc/events/activities-fair/
LOCATION:Ceremonial Hall (4th Floor)\, 2 W 64th St\, New York\, NY\, 10023\, United States
ATTACH;FMTTYPE=image/jpeg:https://ethical.nyc/wp-content/uploads/2021/11/mosaic-1024x497.jpg
END:VEVENT
BEGIN:VEVENT
DTSTART;TZID=America/New_York:20230417T110000
DTEND;TZID=America/New_York:20230417T120000
DTSTAMP:20260423T132850
CREATED:20220615T184826Z
LAST-MODIFIED:20230417T123655Z
UID:10004359-1681729200-1681732800@ethical.nyc
SUMMARY:Cancelled - Say Yes to Science w/ Dr. Frank Corigliano
DESCRIPTION:Notice: This week’s session has been cancelled. Join us next week! \n***** \nThanks to vaccines and other medical innovation\, COVID-19 is now endemic. \nOn 1st and 3rd Mondays at 11am\, clinical psychologist Frank Corigliano will continue to address your concerns about managing day-to-day during this trying time. \nOn 2nd and 4th Mondays at 5pm\, retired oncologist Carol Portlock will discuss new and intriguing science in multiple areas\, including some relevant to COVID. \nClick to join at start | Zoom ID 838 1778 1084 | Passcode 675527 \n\nYou can download Zoom at https://zoom.us/download\, although it’s not necessary to do ahead of time. Zoom is available for tablets and smartphones in both main app stores\, Apple and Google Android. Attendees don’t need to register for a Zoom account although it’s free and helpful. To join a meeting\, simply click the event’s invitation link above.
URL:https://ethical.nyc/events/share-and-learn-topics-in-medicine-mental-health-science-and-ethics-2022-12-05-2022-12-12-2023-01-02-2023-04-17/
LOCATION:2 W 64th St\, New York\, NY\, 10023\, United States
CATEGORIES:Share and Learn
ATTACH;FMTTYPE=image/jpeg:https://ethical.nyc/wp-content/uploads/2021/11/mosaic-1024x497.jpg
END:VEVENT
BEGIN:VEVENT
DTSTART;TZID=America/New_York:20230418T110000
DTEND;TZID=America/New_York:20230418T120000
DTSTAMP:20260423T132850
CREATED:20220914T143121Z
LAST-MODIFIED:20230417T125259Z
UID:10005501-1681815600-1681819200@ethical.nyc
SUMMARY:Ethics in the News: Political Priorities? (Online)
DESCRIPTION:Join in the lively give-and-take on compelling issues and current events and bring your own ideas. Member Joe Fashing moderates. \nSuggested Readings: \nSavage Capitalism: From Climate Change to Bank Failures to War by David Barsamian and Noam Chomsky  – TomDispatch \nClick to join at start | Zoom ID 838 1778 1084 | Passcode 675527\nTo join by phone (audio only)\, dial (929) 205-6099 and enter the Zoom ID above.
URL:https://ethical.nyc/events/ethics-in-the-news-7-2023-04-18/
LOCATION:2 W 64th St\, New York\, NY\, 10023\, United States
CATEGORIES:Ethics in the News
ATTACH;FMTTYPE=image/jpeg:https://ethical.nyc/wp-content/uploads/2021/11/mosaic-1024x497.jpg
END:VEVENT
BEGIN:VEVENT
DTSTART;TZID=America/New_York:20230418T120000
DTEND;TZID=America/New_York:20230418T140000
DTSTAMP:20260423T132850
CREATED:20230413T144118Z
LAST-MODIFIED:20230413T144149Z
UID:10004669-1681819200-1681826400@ethical.nyc
SUMMARY:Lunch with the League of Women Voters: 'Civics Education: The Building Blocks of Democracy'
DESCRIPTION:Civics education has been languishing for years. A recent Annenberg Public Policy survey found that only 26 percent of Americans can name all three branches of government. How does New York City ensure the next generation learns about the role and importance of government in their lives. Our speakers will discuss some recent actions that NYC is taking to reintroduce civics education and engagement.\n\nSpeakers: \nJenna Ryall\, Director of Civics for All at the New York City Department of Education \nJenna Ryall co-designed the Civics for All initiative\, a comprehensive K–12 civic education program available to all NYCDOE schools. Ms. Ryall holds a Bachelor of Arts degree in History from Fordham University and a Master’s degree and Post-Master’s Certificate from Stony Brook University. \nSanda Balaban\, Co-Founder/Director\, YVote and Next Generation Politics \nSanda Balaban has held leadership roles in education and youth development for over 25 years. Her experience includes the New York City Department of Education\, education philanthropy at the Ford Foundation and the Goldman Sachs Foundation as well as nonprofits She is a magna cum laude graduate of Swarthmore College and Harvard Graduate School of Education. \nClick here to purchase tickets on Eventbrite! \n$20/pre registration\, $25/at door\nProof of vaccination required. Lunch and Beverages included.
URL:https://ethical.nyc/events/lunch-with-the-league-of-women-voters-civics-education-the-building-blocks-of-democracy/
LOCATION:Ceremonial Hall (4th Floor)\, 2 W 64th St\, New York\, NY\, 10023\, United States
CATEGORIES:League of Women Voters
ATTACH;FMTTYPE=image/jpeg:https://ethical.nyc/wp-content/uploads/2023/04/league_2023apr.jpeg
END:VEVENT
BEGIN:VEVENT
DTSTART;TZID=America/New_York:20230418T170000
DTEND;TZID=America/New_York:20230418T174500
DTSTAMP:20260423T132850
CREATED:20211220T220106Z
LAST-MODIFIED:20230622T183450Z
UID:10004142-1681837200-1681839900@ethical.nyc
SUMMARY:Midweek Meditation (Online)
DESCRIPTION:A midweek meditation for relaxing body and mind. Begins promptly at 5:00pm. Larry Hurst and Sondra Stein moderate. \nClick to join at start | Zoom ID 838 1778 1084 | Passcode 675527 \n\nYou can download Zoom at https://zoom.us/download\, although it’s not necessary to do ahead of time. Zoom is available for tablets and smartphones in both main app stores\, Apple and Google Android. Attendees don’t need to register for a Zoom account although it’s free and helpful. To join a meeting\, simply click the event’s invitation link above. \n(Photo by Nicollazzi Xiong)
URL:https://ethical.nyc/events/midweek-meditation-online/2023-04-18/
LOCATION:2 W 64th St\, New York\, NY\, 10023\, United States
CATEGORIES:Midweek Meditation
ATTACH;FMTTYPE=image/jpeg:https://ethical.nyc/wp-content/uploads/2021/12/meditation_pxl.jpg
END:VEVENT
BEGIN:VEVENT
DTSTART;TZID=America/New_York:20230418T190000
DTEND;TZID=America/New_York:20230418T200000
DTSTAMP:20260423T132850
CREATED:20211222T215553Z
LAST-MODIFIED:20230417T125304Z
UID:10005479-1681844400-1681848000@ethical.nyc
SUMMARY:Camaraderie and Conversation with Leader Joe Chuman: 'On Aging: Taking Measure of a Life Well Lived' (Online)
DESCRIPTION:Leader Dr. Joe Chuman leads this monthly discussion group focusing on contemporary issues and occasionally classical writings relating to Ethical Culture and Humanism. We will primarily make use of articles from journals of opinion and book chapters when relevant. Rather than taking a merely journalistic approach\, the discussions will aim to illuminate the philosophical concepts and values which underlie the issues being discussed. 3rd Tuesdays. \nSuggested reading: \nOn Aging: Taking Measure of a Life Well Lived by Edward Hoagland – The American Scholar \nClick here to join at start time | Zoom ID 853 3773 6864 | Passcode 708211\n \n\nYou can download Zoom at https://zoom.us/download\, although it’s not necessary to do ahead of time. Zoom is available for tablets and smartphones in both main app stores\, Apple and Google Android. Attendees don’t need to register for a Zoom account although it’s free and helpful. To join a meeting\, simply click the event’s invitation link above.
URL:https://ethical.nyc/events/camaraderie-and-good-conversation-with-leader-joe-chuman-online-2022-06-21-2023-04-18/
LOCATION:2 W 64th St\, New York\, NY\, 10023\, United States
ATTACH;FMTTYPE=image/jpeg:https://ethical.nyc/wp-content/uploads/2019/05/joechuman2-e1635222778648.jpeg
END:VEVENT
BEGIN:VEVENT
DTSTART;TZID=America/New_York:20230419T190000
DTEND;TZID=America/New_York:20230419T200000
DTSTAMP:20260423T132850
CREATED:20230117T202713Z
LAST-MODIFIED:20230419T131835Z
UID:10004629-1681930800-1681934400@ethical.nyc
SUMMARY:Ethics Unplugged: Mick Metal on the History of Tattooing and Body Marking
DESCRIPTION:In-person and online! Join Society Leaders Nori Rost and Jé Hooper for Ethics Unplugged\, an exciting reimagining of Ethical Culture\, every Wednesday at 7:00pm. Come early for wine and refreshments! \nTonight we will be joined by guest speaker Mick Metal. Mick began in 2003 as a body piecer at Stiehl’s Body Modification and came to work at Shotsie’s Tattoo? in 2004 and went through his apprenticeship. Mick was Shotsie Gorman’s last apprentice. He left to buy a tattoo shop in Guttenberg\, NJ and then sold it to open Revolution Tattoo Co. in Pearl River\, NY. In 2014 he and a few other tattooists fought against unjust ink laws that were put into law with out NY tattoo artists knowledge and ultimately had the laws reacted and rewritten and approved by then Governor Cuomo. As an advocate for tattooing he is as of 2021 a Board Member of the Alliance of Professional Tattooists and continues to fight for the rights of tattoo artists everywhere. Mick is available Wednesdays through Saturdays. \nApril Theme: Stories Our Bodies Tell \nThis month we will be exploring the stories our bodies tell through choice and chance. For many of us tattoos are an important way to tell the stories of our lives. For some\, scars derived from accidents or surgeries have equally profound stories to share. Join us as we explore these mediums of life. \nGet a tattoo or piercing at Ethical! We’ll be joined by partner artists at our Thursday\, April 27 Unplug Yourself session who will discuss and practice their art. \nWatch Online! Click to Join at Start | Zoom ID 864 8703 7420 \nFree and open to the public!\nCOVID-19 Notice: Masks are optional but strongly encouraged.
URL:https://ethical.nyc/events/ethics-unplugged-2023-02-08-2023-03-01-2023-04-05-2023-04-19/
LOCATION:Adler Hall\, 2 W 64th St\, New York\, NY\, 10023\, United States
ATTACH;FMTTYPE=image/jpeg:https://ethical.nyc/wp-content/uploads/2023/01/metal_unplugged_2.jpg
END:VEVENT
BEGIN:VEVENT
DTSTART;TZID=America/New_York:20230419T190000
DTEND;TZID=America/New_York:20230419T210000
DTSTAMP:20260423T132850
CREATED:20220615T192252Z
LAST-MODIFIED:20230419T131216Z
UID:10005444-1681930800-1681938000@ethical.nyc
SUMMARY:Cancelled -- Great Literature Discussion: 'Traveller of the Century' by Andrés Neuman (Online)
DESCRIPTION:Notice: This week’s GLD has been cancelled. Join us in May! \n***** \nLiterary works will be discussed based on what can be found in the text in order to enrich each other’s interpretation of the novel/novella. All are welcome to join and any edition or translation of the book under discussion can be used. Read the work in advance and be prepared to discuss the aspects of interest to you by referring to specific related text and reading it to the group. Moderated by Ethical NYC member Gunther Tielemans. 1st and 3rd Wednesdays. \nFor access information\, please contact Gunther. \n(Photo by Clem Onojeghuo)
URL:https://ethical.nyc/events/great-literature-discussion-2-2023-04-19/
LOCATION:2 W 64th St\, New York\, NY\, 10023\, United States
CATEGORIES:Great Literature Discussions
ATTACH;FMTTYPE=image/jpeg:https://ethical.nyc/wp-content/uploads/2022/06/greatlit_2023b.jpg
END:VEVENT
BEGIN:VEVENT
DTSTART;TZID=America/New_York:20230420T120000
DTEND;TZID=America/New_York:20230420T133000
DTSTAMP:20260423T132850
CREATED:20230130T145329Z
LAST-MODIFIED:20230417T130151Z
UID:10005607-1681992000-1681997400@ethical.nyc
SUMMARY:Leader’s Lunchtime Roundtable: Will Work (From Home) (Hybrid)
DESCRIPTION:Bring your lunch and join Leader Dr. Nori Rost and members for an engaging round-table discussion on the issues of the day and recommended readings. \nThis week: During the pandemic\, many businesses shifted to working from home as a necessity. Now that the pandemic is “over\,” employers are asking their employees to return to the office. The problem is that workers don’t want to. What should we do? Should working from home continue? Does work actually get done? This is another topic suggested by Elinore. I welcome suggestions for LRT topics. \nReport: As US Economy Grapples with Nearly 11 Million Unfilled Jobs\, Immigration Reform is Critical (abc27.com) \n5 reasons employees don’t want to return to the office | Envoy \nOpinion | Meta. Salesforce. Silicon Valley Bank. Is Working from Home Really Working? – The New York Times (nytimes.com) \nFree and open to the public!\nCOVID-19 NOTICE: Masks are optional but strongly encouraged. \nClick to join at start time | Zoom ID 861 1417 5760 | Passcode 347145
URL:https://ethical.nyc/events/leaders-lunchtime-roundtable-hybrid-2023-04-06-2023-04-20/
LOCATION:Adler Study (514)\, 2 W 64th St.\, New York\, NY\, 10023\, United States
ATTACH;FMTTYPE=image/jpeg:https://ethical.nyc/wp-content/uploads/2021/12/roundtable-nori-sm.jpg
END:VEVENT
BEGIN:VEVENT
DTSTART;TZID=America/New_York:20230420T190000
DTEND;TZID=America/New_York:20230420T200000
DTSTAMP:20260423T132850
CREATED:20220807T023323Z
LAST-MODIFIED:20230412T195530Z
UID:10005476-1682017200-1682020800@ethical.nyc
SUMMARY:Share and Learn with Susan Sussman: Capturing Awe (Online)
DESCRIPTION:Join us to learn about a panoply of creative activities brought to you by members\, friends\, relatives\, and neighbors. Q&A follows! \nThis month we’re joined by artist Susan Sussman. \nSusan Sussman is a painter who lives and works in New York City. Her subject has been the vast space\, large forms and intense colors of the American West. She studied painting at the New York Studio School after years of work in film production and education. Her work is in private collections\, and she shows at the Prince Street Gallery in Chelsea. Visit her online at susansussmanart.com. \nClick to join at start | Zoom ID 884 1105 5819 | Passcode 140176\nTo join by phone (audio only)\, dial (929) 205-6099 and enter the Zoom ID above.
URL:https://ethical.nyc/events/share-and-learn-arts-hobbies-and-handiwork-2023-04-20/
LOCATION:2 W 64th St\, New York\, NY\, 10023\, United States
CATEGORIES:Share and Learn
ATTACH;FMTTYPE=image/jpeg:https://ethical.nyc/wp-content/uploads/2022/08/sussman_2023apr.jpg
END:VEVENT
END:VCALENDAR