BEGIN:VCALENDAR
VERSION:2.0
PRODID:-//The New York Society for Ethical Culture - ECPv6.15.18//NONSGML v1.0//EN
CALSCALE:GREGORIAN
METHOD:PUBLISH
X-WR-CALNAME:The New York Society for Ethical Culture
X-ORIGINAL-URL:https://ethical.nyc
X-WR-CALDESC:Events for The New York Society for Ethical Culture
REFRESH-INTERVAL;VALUE=DURATION:PT1H
X-Robots-Tag:noindex
X-PUBLISHED-TTL:PT1H
BEGIN:VTIMEZONE
TZID:America/New_York
BEGIN:DAYLIGHT
TZOFFSETFROM:-0500
TZOFFSETTO:-0400
TZNAME:EDT
DTSTART:20220313T070000
END:DAYLIGHT
BEGIN:STANDARD
TZOFFSETFROM:-0400
TZOFFSETTO:-0500
TZNAME:EST
DTSTART:20221106T060000
END:STANDARD
BEGIN:DAYLIGHT
TZOFFSETFROM:-0500
TZOFFSETTO:-0400
TZNAME:EDT
DTSTART:20230312T070000
END:DAYLIGHT
BEGIN:STANDARD
TZOFFSETFROM:-0400
TZOFFSETTO:-0500
TZNAME:EST
DTSTART:20231105T060000
END:STANDARD
BEGIN:DAYLIGHT
TZOFFSETFROM:-0500
TZOFFSETTO:-0400
TZNAME:EDT
DTSTART:20240310T070000
END:DAYLIGHT
BEGIN:STANDARD
TZOFFSETFROM:-0400
TZOFFSETTO:-0500
TZNAME:EST
DTSTART:20241103T060000
END:STANDARD
END:VTIMEZONE
BEGIN:VEVENT
DTSTART;TZID=America/New_York:20230909T160000
DTEND;TZID=America/New_York:20230910T130000
DTSTAMP:20260426T001015
CREATED:20230901T160431Z
LAST-MODIFIED:20230901T193258Z
UID:10005676-1694275200-1694350800@ethical.nyc
SUMMARY:Young Ethical Explorers Rooftop Sleepover
DESCRIPTION:Let’s start the season with a Saturday night rooftop family sleep-over for families from the metro-area (Quick! before we get too much homework!). \nNewcomers are always welcome! To join\, please RSVP to Youth Programs Director Audrey Kindred at youngethicalexplorers@gmail.com. For more information about our youth and family programming\, please visit www.ethical.nyc/youth. \n\nYoung Ethical Explorers is our Humanist Sunday school\, designed for youngsters from ages 4 to 13\, and takes place concurrent with our Sunday Platform meetings. Sessions raise issues of personal identity and integrity\, appreciation and respect for others\, and knowledge of religions\, philosophies\, and social concerns. Topics are explored in an age-appropriate way through discussion\, storytelling\, dramatization\, music\, art\, games\, and field trips. \nRSVP is essential to guarantee your place and for planning purposes. If you are enrolled for the season or are members of Ethical NYC your spot is guaranteed. To RSVP as a guest\, become a member\, or enroll in season\, please contact Audrey at YoungEthicalExplorers@gmail.com. Newcomers and visitors are always welcome!
URL:https://ethical.nyc/events/young-ethical-explorers-rooftop-sleepover/
LOCATION:New York Society for Ethical Culture\, 2 W 64th St.\, New York\, 10023\, United States
CATEGORIES:Youth and Families
ATTACH;FMTTYPE=image/jpeg:https://ethical.nyc/wp-content/uploads/2020/12/yee-roof.jpeg
END:VEVENT
BEGIN:VEVENT
DTSTART;TZID=America/New_York:20230910T103000
DTEND;TZID=America/New_York:20230910T123000
DTSTAMP:20260426T001015
CREATED:20221103T212243Z
LAST-MODIFIED:20230901T170831Z
UID:10005535-1694341800-1694349000@ethical.nyc
SUMMARY:Young Ethical Explorers: The Treasure Called Peace
DESCRIPTION:Join us for a creative and dialogic workshop about what peace means to us\, personally\, interactively\, and globally. \nMonthly theme: Sweet and Sustainable September \nToday’s schedule: \n10:30-11am – All-ages morning peace play on the rooftop playground\n11am – The treasure called peace\n12:30 – Community Lunch and YEE family meeting\n1:30-2:30 All ages peace play on the rooftop playground\, with cooperative parent oversight \nNewcomers are always welcome! To join\, please RSVP to Youth Programs Director Audrey Kindred at youngethicalexplorers@gmail.com. For more information about our youth and family programming\, please visit www.ethical.nyc/youth. \n\nYoung Ethical Explorers is our Humanist Sunday school\, designed for youngsters from ages 4 to 13\, and takes place concurrent with our Sunday Platform meetings. Sessions raise issues of personal identity and integrity\, appreciation and respect for others\, and knowledge of religions\, philosophies\, and social concerns. Topics are explored in an age-appropriate way through discussion\, storytelling\, dramatization\, music\, art\, games\, and field trips. \nRSVP is essential to guarantee your place and for planning purposes. If you are enrolled for the season or are members of Ethical NYC your spot is guaranteed. To RSVP as a guest\, become a member\, or enroll in season\, please contact Audrey at YoungEthicalExplorers@gmail.com. Newcomers and visitors are always welcome!
URL:https://ethical.nyc/events/young-ethical-explorers-2-2023-02-12-2023-09-10/
LOCATION:Adler Study (514)\, 2 W 64th St.\, New York\, NY\, 10023\, United States
CATEGORIES:Youth and Families
ATTACH;FMTTYPE=image/jpeg:https://ethical.nyc/wp-content/uploads/2020/12/yee-roof.jpeg
END:VEVENT
BEGIN:VEVENT
DTSTART;TZID=America/New_York:20230910T110000
DTEND;TZID=America/New_York:20230910T123000
DTSTAMP:20260426T001015
CREATED:20221107T214855Z
LAST-MODIFIED:20230905T150344Z
UID:10005542-1694343600-1694349000@ethical.nyc
SUMMARY:Nori Rost: Living Response-Ably in Community
DESCRIPTION:In-person and online! \nOn this Sunday\, as we welcome the folx who have become members over the past few years\, Dr. Rost will examine what means to be a part of a community. What does it mean to belong? What are the gifts? What are the sacrifices? How do we know when to step up our involvement in our community and how do we know it’s time to step back? How do we\, as a community\, honor the gifts and time of our members? This Platform will be followed with a lunch cookout on the rooftop deck and an opportunity to hear from our newer members. \nWatch Online: Click to join at start | ID 863 0430 0961 | Passcode 609424\nTo join by phone (audio only)\, dial (929) 205-6099 and enter the Zoom ID above. \nMonthly Collection: Maui Strong Fund \nCOVID-19 Notice: Vaccination is required. Masks are optional but encouraged. \n\nSunday Platform is our most important and long-standing community event. These gatherings educate\, stimulate personal growth\, inspire reflection and action\, and strengthen our community. Sunday meetings begin with music\, followed by greetings and a talk given by a Society Leader\, member\, or guest.  Platforms cover a variety of topics that reflect current events\, pressing social issues\, and Humanist philosophy. Each Sunday meeting is followed by a luncheon and social hour. \nTo watch previous Sunday Platforms\, visit our Videos page and YouTube channel.
URL:https://ethical.nyc/events/sunday-platform-9-2023-08-06-2023-09-10/
LOCATION:Ceremonial Hall (4th Floor)\, 2 W 64th St\, New York\, NY\, 10023\, United States
CATEGORIES:Sunday Platform
ATTACH;FMTTYPE=image/jpeg:https://ethical.nyc/wp-content/uploads/2022/11/rost_2023sep.jpg
END:VEVENT
BEGIN:VEVENT
DTSTART;TZID=America/New_York:20230910T123000
DTEND;TZID=America/New_York:20230910T140000
DTSTAMP:20260426T001015
CREATED:20230904T132049Z
LAST-MODIFIED:20230906T142509Z
UID:10005689-1694349000-1694354400@ethical.nyc
SUMMARY:New Member/Welcome Back Luncheon
DESCRIPTION:At this first post-Platform lunch of our fall season\, meet our newest members and welcome everyone back from their summer vacations! \nNotice: Do to weather considerations\, this catered lunch will no longer be held on the roof.
URL:https://ethical.nyc/events/new-member-luncheon-welcome-back-rooftop-cookout/
LOCATION:Ceremonial Hall (4th Floor)\, 2 W 64th St\, New York\, NY\, 10023\, United States
ATTACH;FMTTYPE=image/jpeg:https://ethical.nyc/wp-content/uploads/2021/11/mosaic-1024x497.jpg
END:VEVENT
BEGIN:VEVENT
DTSTART;TZID=America/New_York:20230911T140000
DTEND;TZID=America/New_York:20230911T150000
DTSTAMP:20260426T001015
CREATED:20230710T180124Z
LAST-MODIFIED:20230907T150831Z
UID:10005656-1694440800-1694444400@ethical.nyc
SUMMARY:Practical Ethics: 'Careers: Opportunity or Trap?' (Hybrid)
DESCRIPTION:In-person and online! \nIn this program we’ll explore the ethics of living by reading a short story that highlights an ethical dilemma. The stories are generally available\, and they can also be obtained from the Society approximately two weeks before the session upon request to mdetermann@nysec.org or rkoral@nysec.org. \nThese two stories highlight the dilemma when career draws you away from your authentic self. Can you be both yourself and your career? \nCharlie L. Russell\, “Quietus”\nThomas J. Cottle\, “The Mechanical Man” \nFacilitated by Leader Richard Koral. 2nd Mondays at 2:00pm\, in Room 514 and online. \nClick to join at start | Zoom ID 838 1778 1084 | Passcode 675527 \nCOVID-19 Notice: Vaccination is required to attend in-person. Masks are optional but strongly encouraged.
URL:https://ethical.nyc/events/practical-ethics-careers-opportunity-or-trap-online/
LOCATION:Adler Study (514)\, 2 W 64th St.\, New York\, NY\, 10023\, United States
ATTACH;FMTTYPE=image/jpeg:https://ethical.nyc/wp-content/uploads/2023/07/practical_2023.jpg
END:VEVENT
BEGIN:VEVENT
DTSTART;TZID=America/New_York:20230911T170000
DTEND;TZID=America/New_York:20230911T180000
DTSTAMP:20260426T001015
CREATED:20230628T211422Z
LAST-MODIFIED:20230907T144552Z
UID:10004710-1694451600-1694455200@ethical.nyc
SUMMARY:Say Yes to Science with Dr. Carol Portlock (Online)
DESCRIPTION:Thanks to vaccines and other medical innovation\, COVID-19 is now endemic. \nOn 1st and 3rd Mondays at 11am\, clinical psychologist Frank Corigliano will continue to address your concerns about managing day-to-day during this trying time. \nOn 2nd and 4th Mondays at 5pm\, retired oncologist Carol Portlock will discuss new and intriguing science in multiple areas\, including some relevant to COVID. \nThis week’s suggested readings: \nLong Covid and blood tests indicating risk of clotting\nhttps://www.theguardian.com/society/2023/aug/31/uk-scientists-find-link-between-proteins-related-to-blood-clots-and-long-covid\nhttps://www.nature.com/articles/s41591-023-02525-y \nPTSD improved with personal/directed writing\nhttps://www.nytimes.com/2023/08/23/health/ptsd-writing-therapy.html \nNew uses of semaglutide agents for diabetes\, including heart failure and addiction\nhttps://www.theguardian.com/society/2023/aug/25/weight-loss-drug-semaglutide-reverses-heart-failure-symptoms-study\nhttps://www.npr.org/sections/health-shots/2023/08/28/1194526119/ozempic-wegovy-drinking-alcohol-cravings-semaglutide \nThe history of HIV prevention and the global distribution of new agents at risk\nhttps://www.nytimes.com/2023/09/01/opinion/pepfar-abortion-republicans.html\nhttps://www.nytimes.com/2023/08/22/health/hiv-prep-truvada-descovy.html \nModel synthetic human embryos without Egg or Sperm have now been accomplished\nhttps://www.bbc.com/news/health-66715669\nhttps://www.nature.com/articles/s41586-023-06604-5 \n  \nClick to join at start | Zoom ID 838 1778 1084 | Passcode 675527
URL:https://ethical.nyc/events/say-yes-to-science-cp-2023-08-14-2023-09-11/
LOCATION:NY
CATEGORIES:Share and Learn
ATTACH;FMTTYPE=image/jpeg:https://ethical.nyc/wp-content/uploads/2021/12/share-learn.jpeg
END:VEVENT
BEGIN:VEVENT
DTSTART;TZID=America/New_York:20230912T190000
DTEND;TZID=America/New_York:20230912T203000
DTSTAMP:20260426T001015
CREATED:20230808T193337Z
LAST-MODIFIED:20230929T151902Z
UID:10005664-1694545200-1694550600@ethical.nyc
SUMMARY:Climate\, Politics\, and Corporate Power: A Conversation with Steven Donziger
DESCRIPTION:FREE! Hear human rights attorney Steven Donziger discuss his fight for justice at the intersection of climate\, politics\, and corporate power. \nDonations encouraged to benefit the Donziger-Amazon Defense Fund. $500 donors receive preferred seating and access to a pre-show reception with Steven\, Michael\, Ayisha\, and Marty. \nJoin us in conversation with noted human rights attorney Steven Donziger about being targeted with the nation’s first corporate prosecution after helping Amazon communities win a historic $10 billion pollution case against Chevron. Steven is a leading thinker operating at the intersection of climate\, law\, and corporate power. He is also the first US attorney to be jailed by a corporation in retaliation for his human rights work. \nSteven will be joined by actor\, writer\, director\, and activist Michael Imperioli (The Sopranos and White Lotus)\, climate justice advocate and one of Time Magazine’s 2023 Women of the Year Ayisha Siddiqa\, and the legendary civil rights attorney Marty Garbus. Marty has represented Steven for years as Chevron attacked him with 60 law firms\, and he formerly represented Nelson Mandela and Vaclav Havel\, among others. \nFREE! Donations encouraged to support the Donziger-Amazon Defense Fund.\nClick Here to RSVP! \nMore About Steven \nAfter helping Amazon communities win a historic $9.5 billion pollution judgment against Chevron\, the company retaliated and prosecuted him for contempt of court in New York after he refused to turn his computer and confidential case file over to his adversary counsel. The federal prosecutor rejected the charges\, which were filed by a pro-corporate judge with financial ties to the company. \nThe judge appointed a Chevron law firm to prosecute Steven in the name of the US government. \nThe private Chevron prosecutor immediately ordered Steven locked up at home with a 24/7 monitoring device on his ankle\, while his trial was delayed for over two years. He ended up spending 993 days in detention and in prison for a misdemeanor offense with a maximum sentence of 180 days; the judge denied him a jury. \nHe is still the only person ever in the US locked up in retaliation for his human rights work. Chevron used 60 law firms and 2\,000 lawyers to attack Steven. He now enjoys the support of 68 Nobel Laureates and more than 150 bar associations and civil society groups around the world and is considered a leading global spokesperson on the issues of human rights\, climate justice\, Indigenous rights\, and the law. \nLearn more about Steven at FreeDonziger.com. Follow him on Twitter at @SDonziger and on Instagram at @stevendonziger.
URL:https://ethical.nyc/events/a-conversation-with-steven-donziger/
LOCATION:Adler Hall\, 2 W 64th St\, New York\, NY\, 10023\, United States
ATTACH;FMTTYPE=image/jpeg:https://ethical.nyc/wp-content/uploads/2023/08/donziger_eb_v3.jpeg
END:VEVENT
BEGIN:VEVENT
DTSTART;TZID=America/New_York:20230914T080000
DTEND;TZID=America/New_York:20230914T150000
DTSTAMP:20260426T001015
CREATED:20230901T161507Z
LAST-MODIFIED:20230901T161507Z
UID:10005677-1694678400-1694703600@ethical.nyc
SUMMARY:International Peace Day: Young Ethical Explorers United Nations Field Trip
DESCRIPTION:A field trip to the United Nations for International Peace Day! \nNote: Middle and high school students are supported to take an excused absence from school for this event. \nNewcomers are always welcome! To join\, please RSVP to Youth Programs Director Audrey Kindred at youngethicalexplorers@gmail.com. For more information about our youth and family programming\, please visit www.ethical.nyc/youth. \n\nYoung Ethical Explorers is our Humanist Sunday school\, designed for youngsters from ages 4 to 13\, and takes place concurrent with our Sunday Platform meetings. Sessions raise issues of personal identity and integrity\, appreciation and respect for others\, and knowledge of religions\, philosophies\, and social concerns. Topics are explored in an age-appropriate way through discussion\, storytelling\, dramatization\, music\, art\, games\, and field trips. \nRSVP is essential to guarantee your place and for planning purposes. If you are enrolled for the season or are members of Ethical NYC your spot is guaranteed. To RSVP as a guest\, become a member\, or enroll in season\, please contact Audrey at YoungEthicalExplorers@gmail.com. Newcomers and visitors are always welcome!
URL:https://ethical.nyc/events/international-peace-day-young-ethical-explorers-united-nations-field-trip/
LOCATION:NY
CATEGORIES:Youth and Families
ATTACH;FMTTYPE=image/png:https://ethical.nyc/wp-content/uploads/2023/09/actionsforpeace.png
END:VEVENT
BEGIN:VEVENT
DTSTART;TZID=America/New_York:20230914T170000
DTEND;TZID=America/New_York:20230914T180000
DTSTAMP:20260426T001015
CREATED:20230629T140955Z
LAST-MODIFIED:20230905T131134Z
UID:10004700-1694710800-1694714400@ethical.nyc
SUMMARY:Colloquy: 'Slow Down' (Online)
DESCRIPTION:Share your reflections on the topic based on quotes\, parables\, poems\, etc. presented by the moderator. There are no right or wrong answers\, just your individual response shared in a contemplative atmosphere. Watch Ethical Culture Leader Arthur Dobrin discuss the intent and meaning behind Colloquy\, which he developed over 25 years ago. \nTopic: ‘Slow Down’ \nHost: Elinore Kaplan \nClick to join at start | Zoom ID 838 1778 1084 | Passcode 675527
URL:https://ethical.nyc/events/colloquy-online-5-2023-09-14/
LOCATION:NY
CATEGORIES:Colloquy
ATTACH;FMTTYPE=image/jpeg:https://ethical.nyc/wp-content/uploads/2021/11/mosaic-1024x497.jpg
END:VEVENT
BEGIN:VEVENT
DTSTART;TZID=America/New_York:20230914T190000
DTEND;TZID=America/New_York:20230914T200000
DTSTAMP:20260426T001015
CREATED:20230712T143643Z
LAST-MODIFIED:20230907T212312Z
UID:10005660-1694718000-1694721600@ethical.nyc
SUMMARY:"Where Broadway Meets the Blues" - Share and Learn with Singer/Songwriter Cliff Eberhardt (Online)
DESCRIPTION:Join us to learn about a panoply of creative activities brought to you by members\, friends\, relatives\, and neighbors. Q&A follows! This month we’re joined by folk singer/songwriter Cliff Eberhardt. \nSinger/songwriter Cliff Eberhardt is well known for his epic first album in the 90s on Windham Hill Records. “The Long Road” features a title cut duet with the late folk icon Richie Havens. Cliff’s songwriting is informed by everyone from Irving Berlin to the Beatles and Hemingway. His singular writing style also earned him a publishing deal with famed Cherry Lane Publishing in NYC. Eberhardt went on to produce 9 more albums on Shanachie and Red House Records to critical success as well as accumulating multiple song cuts by other notable artists like Richie Havens\, Shawn Colvin\, Buffy St. Marie\, Erasure\, Russ Taff and Cry Cry Cry (Dar Williams\, Richard Shindell & Lucy Kaplansky). \nHis latest projects are “Shrew Songs” – written and performed in the 2012 Folger Theatre’s award-winning production of “The Taming of the Shrew” and “The Heal” (2019) performed at the Getty Villa in L.A. His new album “Knew Things” (2021) landed at #4 on the FAI Folk Radio charts. He also works consistently as a songwriting teacher\, producer and arranger helping songwriters and other creatives edit and refine their work to only what is essential – creating space\, drama and elegance. \nClick to join at start | Zoom ID 884 1105 5819 | Passcode 140176\nTo join by phone (audio only)\, dial (929) 205-6099 and enter the Zoom ID above. \nWatch Cliff’s April performance at the famous Caffè Lena in Saratoga Springs:
URL:https://ethical.nyc/events/share-and-learn-with-cliff-eberhardt-online/
LOCATION:NY
CATEGORIES:Share and Learn
ATTACH;FMTTYPE=image/jpeg:https://ethical.nyc/wp-content/uploads/2023/07/eberhardt2.jpeg
END:VEVENT
END:VCALENDAR