BEGIN:VCALENDAR
VERSION:2.0
PRODID:-//The New York Society for Ethical Culture - ECPv6.15.18//NONSGML v1.0//EN
CALSCALE:GREGORIAN
METHOD:PUBLISH
X-ORIGINAL-URL:https://ethical.nyc
X-WR-CALDESC:Events for The New York Society for Ethical Culture
REFRESH-INTERVAL;VALUE=DURATION:PT1H
X-Robots-Tag:noindex
X-PUBLISHED-TTL:PT1H
BEGIN:VTIMEZONE
TZID:America/New_York
BEGIN:DAYLIGHT
TZOFFSETFROM:-0500
TZOFFSETTO:-0400
TZNAME:EDT
DTSTART:20220313T070000
END:DAYLIGHT
BEGIN:STANDARD
TZOFFSETFROM:-0400
TZOFFSETTO:-0500
TZNAME:EST
DTSTART:20221106T060000
END:STANDARD
BEGIN:DAYLIGHT
TZOFFSETFROM:-0500
TZOFFSETTO:-0400
TZNAME:EDT
DTSTART:20230312T070000
END:DAYLIGHT
BEGIN:STANDARD
TZOFFSETFROM:-0400
TZOFFSETTO:-0500
TZNAME:EST
DTSTART:20231105T060000
END:STANDARD
BEGIN:DAYLIGHT
TZOFFSETFROM:-0500
TZOFFSETTO:-0400
TZNAME:EDT
DTSTART:20240310T070000
END:DAYLIGHT
BEGIN:STANDARD
TZOFFSETFROM:-0400
TZOFFSETTO:-0500
TZNAME:EST
DTSTART:20241103T060000
END:STANDARD
END:VTIMEZONE
BEGIN:VEVENT
DTSTART;TZID=America/New_York:20230924T110000
DTEND;TZID=America/New_York:20230924T123000
DTSTAMP:20260423T230959
CREATED:20221103T212243Z
LAST-MODIFIED:20230901T170852Z
UID:10005537-1695553200-1695558600@ethical.nyc
SUMMARY:Young Ethical Explorers: Gandhi Day
DESCRIPTION:Join us to honor the gifts of non-violence passed to us by Dr. Arun Gandhi\, the late grandson of Mahatma Gandhi. (Gandhi Day is Oct. 2).. \nMonthly theme: Sweet and Sustainable September \n10:30-11am: All-ages morning peace play on the rooftop playground\n11am: Gandhi Day Celebration\n12:30: Community Lunch & Conversation\n1:30-2:30: All ages Peace Play on the rooftop\, with cooperative parent oversight \nNewcomers are always welcome! To join\, please RSVP to Youth Programs Director Audrey Kindred at youngethicalexplorers@gmail.com. For more information about our youth and family programming\, please visit www.ethical.nyc/youth. \n\nYoung Ethical Explorers is our Humanist Sunday school\, designed for youngsters from ages 4 to 13\, and takes place concurrent with our Sunday Platform meetings. Sessions raise issues of personal identity and integrity\, appreciation and respect for others\, and knowledge of religions\, philosophies\, and social concerns. Topics are explored in an age-appropriate way through discussion\, storytelling\, dramatization\, music\, art\, games\, and field trips. \nRSVP is essential to guarantee your place and for planning purposes. If you are enrolled for the season or are members of Ethical NYC your spot is guaranteed. To RSVP as a guest\, become a member\, or enroll in season\, please contact Audrey at YoungEthicalExplorers@gmail.com. Newcomers and visitors are always welcome!
URL:https://ethical.nyc/events/young-ethical-explorers-2-2023-02-12-2023-09-24/
LOCATION:Adler Study (514)\, 2 W 64th St.\, New York\, NY\, 10023\, United States
CATEGORIES:Youth and Families
ATTACH;FMTTYPE=image/jpeg:https://ethical.nyc/wp-content/uploads/2022/07/Arun-Gandhi.jpeg
END:VEVENT
BEGIN:VEVENT
DTSTART;TZID=America/New_York:20230924T110000
DTEND;TZID=America/New_York:20230924T123000
DTSTAMP:20260423T230959
CREATED:20221107T214855Z
LAST-MODIFIED:20230916T184126Z
UID:10005544-1695553200-1695558600@ethical.nyc
SUMMARY:Nori Rost: It’s a Bird! It’s a Plane! It’s--Life Lessons from the Marvel Cinematic Universe
DESCRIPTION:In-person and online! \nNo\, it’s not Superman\, In this service\, Dr. Rost will explore the lives and antics of superheroes from the Marvel Cinematic Universe. With over 30 movies released in the MCU franchise\, and more to come\, recently some actors and directors have criticized the Marvel Cinematic Universe as having taken over Hollywood and dismissing the movies as adolescent tripe. However\, Dr. Rost will show that there are rich life lessons to be derived in the MCU to teach us mere mortals about how to live ethical\, fulfilling lives. \nWatch Online: Click to join at start | ID 863 0430 0961 | Passcode 609424\nTo join by phone (audio only)\, dial (929) 205-6099 and enter the Zoom ID above. \nMonthly Collection: Maui Strong Fund \nCOVID-19 Notice: Vaccination is required. Masks are optional but encouraged. \n\nSunday Platform is our most important and long-standing community event. These gatherings educate\, stimulate personal growth\, inspire reflection and action\, and strengthen our community. Sunday meetings begin with music\, followed by greetings and a talk given by a Society Leader\, member\, or guest.  Platforms cover a variety of topics that reflect current events\, pressing social issues\, and Humanist philosophy. Each Sunday meeting is followed by a luncheon and social hour. \nTo watch previous Sunday Platforms\, visit our Videos page and YouTube channel.
URL:https://ethical.nyc/events/sunday-platform-9-2023-08-06-2023-09-24/
LOCATION:Ceremonial Hall (4th Floor)\, 2 W 64th St\, New York\, NY\, 10023\, United States
CATEGORIES:Sunday Platform
ATTACH;FMTTYPE=image/jpeg:https://ethical.nyc/wp-content/uploads/2021/12/nori-rost-small.jpg
END:VEVENT
BEGIN:VEVENT
DTSTART;TZID=America/New_York:20230925T170000
DTEND;TZID=America/New_York:20230925T180000
DTSTAMP:20260423T230959
CREATED:20230628T211422Z
LAST-MODIFIED:20230922T232215Z
UID:10004712-1695661200-1695664800@ethical.nyc
SUMMARY:Say Yes to Science with Dr. Carol Portlock (Online)
DESCRIPTION:Thanks to vaccines and other medical innovation\, COVID-19 is now endemic. \nOn 1st and 3rd Mondays at 11am\, clinical psychologist Frank Corigliano will continue to address your concerns about managing day-to-day during this trying time. \nOn 2nd and 4th Mondays at 5pm\, retired oncologist Carol Portlock will discuss new and intriguing science in multiple areas\, including some relevant to COVID. \nRecommended Readings: \n“Good news” in climate change: the end of the fossil fuel era\nhttps://www.theguardian.com/environment/2023/sep/12/beginning-of-the-end-of-fossil-fuel-era-approaching-says-iea \nSingapore is making successful efforts to combat global warming\nhttps://www.nytimes.com/interactive/2023/09/18/world/asia/singapore-heat.html \nChanges in Antarctica are significant for warming/melting\nhttps://www.bbc.com/news/science-environment-66724246 \nGeoengineering may be dangerous in the era of climate change\nhttps://www.theguardian.com/environment/2023/sep/14/experts-call-for-global-moratorium-on-efforts-to-geoengineer-climate \nThe missing step in creating Alzheimer’s Disease has been identified\nhttps://www.bbc.com/news/health-66816268 \nThe birth of a star\nhttps://www.npr.org/2023/09/16/1199995083/nasa-star-image-james-webb-telescope \nAnd chemistry scanning suggests conditions for life 120 light years away\nhttps://www.bbc.com/news/science-environment-66786611 \nClick to join at start | Zoom ID 838 1778 1084 | Passcode 675527
URL:https://ethical.nyc/events/say-yes-to-science-cp-2023-08-14-2023-09-25/
LOCATION:NY
CATEGORIES:Share and Learn
ATTACH;FMTTYPE=image/jpeg:https://ethical.nyc/wp-content/uploads/2021/12/share-learn.jpeg
END:VEVENT
BEGIN:VEVENT
DTSTART;TZID=America/New_York:20230926T180000
DTEND;TZID=America/New_York:20230926T200000
DTSTAMP:20260423T230959
CREATED:20230710T195406Z
LAST-MODIFIED:20230926T134859Z
UID:10005658-1695751200-1695758400@ethical.nyc
SUMMARY:POSTPONED - Aspects of Aging: I'm 90\, Now What?
DESCRIPTION:Notice: This week’s session has been postponed to Thursday\, October 19. \nJoin us for this new three-part series led by geriatric care expert (and Society President!) Elizabeth Singer exploring how to plan for\, enjoy\, and flourish in one’s later years. \nCoffee and light fare at 6:00. Program begins at 6:30. \nThese sessions will explore the many issues commonly faced by seniors and the elderly\, including the personal\, medical\, legal\, and more. \n\nTuesday\, September 19: If Only I’d Known\n\n\nThursday\, October 19: I’m 90. Now What?\n\n\nThursday\, October 26: Don’t Go Blindly Into That Good Night\n\nAll sessions are free and refreshments will be served!
URL:https://ethical.nyc/events/aspects-of-aging-im-90-now-what/
LOCATION:Adler Study (514)\, 2 W 64th St.\, New York\, NY\, 10023\, United States
ATTACH;FMTTYPE=image/jpeg:https://ethical.nyc/wp-content/uploads/2023/07/road_pxl.jpeg
END:VEVENT
BEGIN:VEVENT
DTSTART;TZID=America/New_York:20230929T190000
DTEND;TZID=America/New_York:20230929T210000
DTSTAMP:20260423T230959
CREATED:20230831T212110Z
LAST-MODIFIED:20230922T211345Z
UID:10005671-1696014000-1696021200@ethical.nyc
SUMMARY:Ethics and the Theater Presents: HEISENBERG by Simon Stephens
DESCRIPTION:Our long-running staged reading and talkback series continues on September 29 and October 1 with two performances of Simon Stephens’s Heisenberg: \nIn a crowded London train station\, Georgie spots Alex\, a man much older than her\, and plants a kiss on his neck. This encounter thrusts these strangers\, who are so utterly dissimilar\, into a life-affirming mating dance. Heisenberg brings to blazingly theatrical life the alternatives that could shape our lives at every moment. \nAfter the performance\, we’ll host a lively discussion of the ethical issues raised by the play. \nPerformed by Laurie Schroeder Callen and Charles E. Gerber Directed by Tom Herman \nSuggested Donation: Members $10; Non-Members $15 \nPurchase tickets on Eventbrite here! \nCOVID-19 Notice: Vaccination is required to attend. Masks are optional but strongly encouraged.
URL:https://ethical.nyc/events/ethics-and-the-theater-presents-heisenberg-by-simon-stephens/
LOCATION:Ceremonial Hall (4th Floor)\, 2 W 64th St\, New York\, NY\, 10023\, United States
CATEGORIES:Theater
ATTACH;FMTTYPE=image/jpeg:https://ethical.nyc/wp-content/uploads/2023/08/Peach-Simple-Theater-Music-Event-Poster-1920-×-1080-px-17-×-11-in-1920-×-1080-px.jpg
END:VEVENT
END:VCALENDAR