BEGIN:VCALENDAR
VERSION:2.0
PRODID:-//The New York Society for Ethical Culture - ECPv6.15.18//NONSGML v1.0//EN
CALSCALE:GREGORIAN
METHOD:PUBLISH
X-ORIGINAL-URL:https://ethical.nyc
X-WR-CALDESC:Events for The New York Society for Ethical Culture
REFRESH-INTERVAL;VALUE=DURATION:PT1H
X-Robots-Tag:noindex
X-PUBLISHED-TTL:PT1H
BEGIN:VTIMEZONE
TZID:America/New_York
BEGIN:DAYLIGHT
TZOFFSETFROM:-0500
TZOFFSETTO:-0400
TZNAME:EDT
DTSTART:20230312T070000
END:DAYLIGHT
BEGIN:STANDARD
TZOFFSETFROM:-0400
TZOFFSETTO:-0500
TZNAME:EST
DTSTART:20231105T060000
END:STANDARD
BEGIN:DAYLIGHT
TZOFFSETFROM:-0500
TZOFFSETTO:-0400
TZNAME:EDT
DTSTART:20240310T070000
END:DAYLIGHT
BEGIN:STANDARD
TZOFFSETFROM:-0400
TZOFFSETTO:-0500
TZNAME:EST
DTSTART:20241103T060000
END:STANDARD
BEGIN:DAYLIGHT
TZOFFSETFROM:-0500
TZOFFSETTO:-0400
TZNAME:EDT
DTSTART:20250309T070000
END:DAYLIGHT
BEGIN:STANDARD
TZOFFSETFROM:-0400
TZOFFSETTO:-0500
TZNAME:EST
DTSTART:20251102T060000
END:STANDARD
END:VTIMEZONE
BEGIN:VEVENT
DTSTART;TZID=America/New_York:20240114T103000
DTEND;TZID=America/New_York:20240114T123000
DTSTAMP:20260425T214723
CREATED:20231213T195121Z
LAST-MODIFIED:20231213T195121Z
UID:10005725-1705228200-1705235400@ethical.nyc
SUMMARY:Young Ethical Explorers
DESCRIPTION:Details TBA! \nNewcomers are always welcome! To join\, please RSVP to Youth Programs Director Audrey Kindred at ethicalfamilies@nysec.org. For more information about our youth and family programming\, please visit ethical.nyc/youth. \nAbout Young Ethical Explorers\nYEE is our Humanist Sunday school\, designed for youngsters from ages 4 to 13\, and takes place concurrent with our Sunday Platform meetings. Sessions raise issues of personal identity and integrity\, appreciation and respect for others\, and knowledge of religions\, philosophies\, and social concerns. Topics are explored in an age-appropriate way through discussion\, storytelling\, dramatization\, music\, art\, games\, and field trips. \nRSVP is essential to guarantee your place and for planning purposes. If you are enrolled for the season or are members of Ethical NYC your spot is guaranteed. To RSVP as a guest\, become a member\, or enroll in season\, please contact Audrey at ethicalfamilies@nysec.org. Newcomers and visitors are always welcome!
URL:https://ethical.nyc/events/young-ethical-explorers-8/
LOCATION:Adler Study (514)\, 2 W 64th St.\, New York\, NY\, 10023\, United States
CATEGORIES:Youth and Families
ATTACH;FMTTYPE=image/jpeg:https://ethical.nyc/wp-content/uploads/2020/12/yee-roof.jpeg
END:VEVENT
BEGIN:VEVENT
DTSTART;TZID=America/New_York:20240114T110000
DTEND;TZID=America/New_York:20240114T123000
DTSTAMP:20260425T214723
CREATED:20231213T192252Z
LAST-MODIFIED:20240108T033637Z
UID:10005720-1705230000-1705235400@ethical.nyc
SUMMARY:Sunday Platform with C.K. Allen: Letter From a Birmingham Jail
DESCRIPTION:Free and open to the public\, in-person and online! \nJoin us for a special Sunday Platform presented by our Ethics and the Theater team. This week we’ll feature a dramatic reading of Dr. Martin Luther King Jr.’s Letter from a Birmingham Jail by actor C.K. Allen\, directed by Tai Thompson. \nIn this open letter written on April 16\, 1963\, Dr. Martin Luther King Jr. argues that people have a moral responsibility to break unjust laws and to take direct action rather than waiting potentially forever for justice to come through the courts. King writes: “Injustice anywhere is a threat to justice everywhere.” King’s imprisonment was during The Birmingham campaign which included coordinated marches and sit-ins against racism and racial segregation in Birmingham\, Alabama. The nonviolent campaign was coordinated by the Alabama Christian Movement for Human Rights (ACMHR) and King’s Southern Christian Leadership Conference (SCLC). It began on April 3. On April 10\, Circuit Judge W. A. Jenkins Jr. issued a blanket injunction against “parading\, demonstrating\, boycotting\, trespassing\, and picketing.” Leaders of the campaign announced they would disobey the ruling. On April 12\, King was arrested with SCLC activist Ralph Abernathy\, ACMHR\, and SCLC official Fred Shuttlesworth. The letter\, widely published\, became an important text for the American Civil Rights Movement. It’s time to listen to King’s words once more. \nWatch Online: Click to join at start | ID 863 0430 0961 | Passcode 609424\nTo join by phone (audio only)\, dial (929) 205-6099 and enter the Zoom ID above. \nAbout C.K. Allen\nLearn more about C.K. at his website\, cka118.com. \nMonthly Collection\nUplifting Afghan Girls \nAbout Sunday Platform\nSunday Platform is our most important and long-standing community event. These gatherings educate\, stimulate personal growth\, inspire reflection and action\, and strengthen our community. Sunday meetings begin with music\, followed by greetings and a talk given by a Society Leader\, member\, or guest.  Platforms cover a variety of topics that reflect current events\, pressing social issues\, and Humanist philosophy. Each Sunday meeting is followed by a luncheon and social hour. \nTo watch previous Sunday Platforms\, visit our Videos page and YouTube channel.
URL:https://ethical.nyc/events/sunday-platform-10-2024-01-14/
LOCATION:Ceremonial Hall (4th Floor)\, 2 W 64th St\, New York\, NY\, 10023\, United States
CATEGORIES:Sunday Platform,Theater
ATTACH;FMTTYPE=image/jpeg:https://ethical.nyc/wp-content/uploads/2023/12/allen_birmingham_2024jan.jpg
END:VEVENT
BEGIN:VEVENT
DTSTART;TZID=America/New_York:20240114T133000
DTEND;TZID=America/New_York:20240114T143000
DTSTAMP:20260425T214723
CREATED:20230828T002234Z
LAST-MODIFIED:20240110T194606Z
UID:10004727-1705239000-1705242600@ethical.nyc
SUMMARY:Cancelled - Ethics in the News (Hybrid)
DESCRIPTION:Notice: This month’s session has been cancelled. We’ll see you in February! \n*** \nIn-Person and online! \nJoin in the lively give-and-take on compelling issues and current events and bring your own ideas. Member Joe Fashing moderates. \nTopic and suggested readings TBA.
URL:https://ethical.nyc/events/ethics-in-the-news-hybrid-2024-01-14/
LOCATION:Adler Study (514)\, 2 W 64th St.\, New York\, NY\, 10023\, United States
CATEGORIES:Ethics in the News
ATTACH;FMTTYPE=image/jpeg:https://ethical.nyc/wp-content/uploads/2023/08/newspaper_stack.jpg
END:VEVENT
BEGIN:VEVENT
DTSTART;TZID=America/New_York:20240115T130000
DTEND;TZID=America/New_York:20240115T170000
DTSTAMP:20260425T214723
CREATED:20240104T075650Z
LAST-MODIFIED:20240112T210335Z
UID:10005760-1705323600-1705338000@ethical.nyc
SUMMARY:Free Family Event: 'Justice January' Dr. Martin Luther King Jr. Day Festival
DESCRIPTION:FREE Family Event January 15! \nJoin us to celebrate the inspirational and unfinished legacy of Dr. Martin Luther King Jr. with a day of creativity\, friendship building\, performance\, and good deeds to bring out the best in one another! \nFor questions\, please contact Youth and Families Director Audrey Kindred at akindred@nysec.org. \nRSVP Required – Register on Eventbrite Here! \nFeaturing\n\nSocial justice writing workshops with Writopia Lab\, for ages 10-12 and 13-17 (please email Audrey Kindred to reserve a seat in a workshop)\nAmnesty International’s Write for Rights Campaign\, an opportunity to learn about and support dissidents and activists who are being punished for writing or speaking out for justice\n‘Drum Majors for Justice’ workshop for Ages workshop for children under 10\nA participatory dance experience with Simba Yangala and Kamutshima Dance Troupe\nAll-day arts and crafts to create a community Peace Mural\nSongs of liberation sing-a-long with DuPree and Barry Kornhauser\nPizza\, snacks\, and refreshments\n\nRSVP Required – Register on Eventbrite Here!
URL:https://ethical.nyc/events/mlkday2024/
LOCATION:Ceremonial Hall (4th Floor)\, 2 W 64th St\, New York\, NY\, 10023\, United States
CATEGORIES:Youth and Families
ATTACH;FMTTYPE=image/jpeg:https://ethical.nyc/wp-content/uploads/2024/01/mlkday2024_web_v2.jpg
END:VEVENT
BEGIN:VEVENT
DTSTART;TZID=America/New_York:20240116T120000
DTEND;TZID=America/New_York:20240116T140000
DTSTAMP:20260425T214723
CREATED:20240110T201113Z
LAST-MODIFIED:20240110T201422Z
UID:10005764-1705406400-1705413600@ethical.nyc
SUMMARY:Lunch with the League of Women Voters NYC: What to Know About NYC's New Congestion Pricing Law
DESCRIPTION:New York will become the first city in the nation to implement congestion pricing. Under the new law\, cars\, buses\, motorcycles and trucks traveling below 60th Street will be charged a fee. The fee will depend on the size and purpose of the vehicle. \nHow much will it cost? Are there any exceptions? How much does the MTA expect to make from this legislation? Stephen Nessen\, transportation reporter for WNYC and WNPR will discuss the rules and expectations of this new law. \nClick Here to Purchase Tickets on Eventbrite! \nStephen Nessen is the transportation reporter for the WNYC Newsroom\, WNPR\, and the Gothamist Newsletter.  Since 2008 he has reported on everything\, from Occupy Wall Street\, the rebuilding of the World Trade Center site\, Hurricane Sandy\, to Trump’s campaign for president. \nLunch and beverages provided \nTickets: $20 in advance\, $25 at the door \nAbout the League of Women Voters NYC\nVisit the League of Women Voters in the City of New York at lwvnyc.org.
URL:https://ethical.nyc/events/lunch-with-the-league-of-women-voters-nyc/
LOCATION:Ceremonial Hall (4th Floor)\, 2 W 64th St\, New York\, NY\, 10023\, United States
CATEGORIES:League of Women Voters
ATTACH;FMTTYPE=image/jpeg:https://ethical.nyc/wp-content/uploads/2024/01/lwvnyc_2024jan.jpeg
END:VEVENT
BEGIN:VEVENT
DTSTART;TZID=America/New_York:20240116T190000
DTEND;TZID=America/New_York:20240116T200000
DTSTAMP:20260425T214723
CREATED:20240116T160053Z
LAST-MODIFIED:20240116T160053Z
UID:10005776-1705431600-1705435200@ethical.nyc
SUMMARY:Camaraderie and Good Conversation with Leader Joe Chuman: Reflecting on Evil
DESCRIPTION:Leader Dr. Joe Chuman leads this monthly discussion group focusing on contemporary issues and occasionally classical writings relating to Ethical Culture and Humanism. We will primarily make use of articles from journals of opinion and book chapters when relevant. Rather than taking a merely journalistic approach\, the discussions will aim to illuminate the philosophical concepts and values which underlie the issues being discussed. 3rd Tuesdays. \nSuggested Readings\nReflecting on Evil by Joe Chuman – Beyond Appearances \nClick here to join at start time | Zoom ID 853 3773 6864 | Passcode 708211
URL:https://ethical.nyc/events/camaraderie-and-good-conversation-with-leader-joe-chuman-reflecting-on-evil/
LOCATION:NY
ATTACH;FMTTYPE=image/jpeg:https://ethical.nyc/wp-content/uploads/2023/12/chuman_2024_lg.jpg
END:VEVENT
BEGIN:VEVENT
DTSTART;TZID=America/New_York:20240117T190000
DTEND;TZID=America/New_York:20240117T200000
DTSTAMP:20260425T214723
CREATED:20230825T193437Z
LAST-MODIFIED:20240117T225511Z
UID:10004720-1705518000-1705521600@ethical.nyc
SUMMARY:Pathways to Ethical Culture: Living Ethical Culture (Online)
DESCRIPTION:Ethical Culture is a humanist community that esteems ethics as its core precept\, human worth and dignity as its central value\, and community\, sustainability and freedom as its principal goals.  Where did Ethical Culture come from?  What does it say to us today regarding the human condition? What is its unique contribution for our lives and our future? \nJoin us for an in-depth exploration of the philosophy\, history and social action of the Ethical Culture Movement. It is a must for all new members and long-established members alike\, as well as anyone curious about Ethical Culture and seeking to learn more. \nPathways is facilitated by the Society’s Leaders\, Dr. Joseph Chuman and Dr. Richard Koral\, and meets for one hour on the 3rd Wednesday of each month\, September through January: \n\nSeptember 20: Philosophical precursors to Ethical Culture; the world that Felix Adler’s ideas grew out of.\nOctober 18: Adler’s Philosophical Dilemma and his response\nNovember 15: Adler’s mature philosophy and the new Naturalism of John Dewey.\nDecember 20: The history of the New York Society and its lore.\nJanuary 17: Living Ethical Culture: Ethical Culture in our lives and practices\, plus notable members and friends over the years.\n\nJoin Online\nClick to join at start | Zoom ID 846 0805 9789 | Passcode 660475
URL:https://ethical.nyc/events/pathways-to-ethical-culture-2024-01-17/
LOCATION:NY
ATTACH;FMTTYPE=image/jpeg:https://ethical.nyc/wp-content/uploads/2023/08/pathways_2024jan.jpg
END:VEVENT
BEGIN:VEVENT
DTSTART;TZID=America/New_York:20240117T190000
DTEND;TZID=America/New_York:20240117T210000
DTSTAMP:20260425T214723
CREATED:20231221T193151Z
LAST-MODIFIED:20231221T193151Z
UID:10005746-1705518000-1705525200@ethical.nyc
SUMMARY:Great Literature Discussion: The Sellout by Paul Beatty (Online)
DESCRIPTION:Join our twice-monthly online discussions exploring great works together. All are welcome to join and any edition or translation of the book under discussion can be used. See the full list of upcoming books here. \nModerated by Ethical NYC member Gunther Tielemans. 1st and 3rd Wednesdays. \nTo join the discussion\, please contact Gunther.
URL:https://ethical.nyc/events/great-literature-discussion-the-sellout-by-paul-beatty-online/
LOCATION:NY
CATEGORIES:Great Literature Discussions
ATTACH;FMTTYPE=image/jpeg:https://ethical.nyc/wp-content/uploads/2023/01/greatlit_2023_sm.jpg
END:VEVENT
BEGIN:VEVENT
DTSTART;TZID=America/New_York:20240118T123000
DTEND;TZID=America/New_York:20240118T134500
DTSTAMP:20260425T214723
CREATED:20231213T185557Z
LAST-MODIFIED:20240130T144409Z
UID:10005718-1705581000-1705585500@ethical.nyc
SUMMARY:Let's Talk About It: Strategies to Address Homelessness and Help the Unhoused (Online)
DESCRIPTION:Notice: Due to icy conditions\, this session will be held online only via Zoom. \nJoin these congenial roundtable sessions where moderators focus on thought-provoking subjects. Explore the recommended readings and come prepared to discuss–and you’re welcome to bring your lunch! Free and open to the public every 3rd Thursday (normally in-person only). \nThis month\, Society Member Carol Portlock leads a discussion on how to most effectively address homelessness and help the unhoused\, informed by the recommended readings below. \n\nThe Old New Way to Provide Cheap Housing – Opinion – The New York Times\n\n\nNew York City Aims to Build Affordable Housing in Wealthier Neighborhoods – The New York Times\n\n\nEffectiveness of Permanent Supportive Housing and Income Assistance Interventions for Homeless Individuals in High-Income Countries: A Systematic Review – Public Health – The Lancet\n\n\nStudy Details: Silicon Valley Guaranteed Income Project – NIH National Library of Medicine\n\nJoin Online\nClick to join at start | Zoom ID 835 7732 4417 | Passcode 341001
URL:https://ethical.nyc/events/lets-talk-about-it/
LOCATION:NY
ATTACH;FMTTYPE=image/jpeg:https://ethical.nyc/wp-content/uploads/2023/12/letstalkaboutit.jpg
END:VEVENT
END:VCALENDAR