BEGIN:VCALENDAR
VERSION:2.0
PRODID:-//The New York Society for Ethical Culture - ECPv6.15.18//NONSGML v1.0//EN
CALSCALE:GREGORIAN
METHOD:PUBLISH
X-WR-CALNAME:The New York Society for Ethical Culture
X-ORIGINAL-URL:https://ethical.nyc
X-WR-CALDESC:Events for The New York Society for Ethical Culture
REFRESH-INTERVAL;VALUE=DURATION:PT1H
X-Robots-Tag:noindex
X-PUBLISHED-TTL:PT1H
BEGIN:VTIMEZONE
TZID:America/New_York
BEGIN:DAYLIGHT
TZOFFSETFROM:-0500
TZOFFSETTO:-0400
TZNAME:EDT
DTSTART:20230312T070000
END:DAYLIGHT
BEGIN:STANDARD
TZOFFSETFROM:-0400
TZOFFSETTO:-0500
TZNAME:EST
DTSTART:20231105T060000
END:STANDARD
BEGIN:DAYLIGHT
TZOFFSETFROM:-0500
TZOFFSETTO:-0400
TZNAME:EDT
DTSTART:20240310T070000
END:DAYLIGHT
BEGIN:STANDARD
TZOFFSETFROM:-0400
TZOFFSETTO:-0500
TZNAME:EST
DTSTART:20241103T060000
END:STANDARD
BEGIN:DAYLIGHT
TZOFFSETFROM:-0500
TZOFFSETTO:-0400
TZNAME:EDT
DTSTART:20250309T070000
END:DAYLIGHT
BEGIN:STANDARD
TZOFFSETFROM:-0400
TZOFFSETTO:-0500
TZNAME:EST
DTSTART:20251102T060000
END:STANDARD
END:VTIMEZONE
BEGIN:VEVENT
DTSTART;TZID=America/New_York:20240310T110000
DTEND;TZID=America/New_York:20240310T121500
DTSTAMP:20260421T085917
CREATED:20240302T221819Z
LAST-MODIFIED:20240304T002704Z
UID:10006485-1710068400-1710072900@ethical.nyc
SUMMARY:Sunday Platform with Carolyn Parker: Desperately Seeking Ethical Culture
DESCRIPTION:Free and open to the public\, in-person and online! \nThe Bibliography of Ethical Culture: 1876-2026 began as a means to learn more about the history of thought in the Movement to enhance my own Ethical growth. My goal now is to make what I have discovered accessible to everyone in our Movement as well as to like-hearted members of the public in anticipation of the 150th anniversary of the founding of Ethical Culture. Let’s talk about all you ever wanted to know about bibliographies\, plus the care and feeding of archives\, the problem(s) of online libraries\, and what the Wayback Machine tells us. \nAbout Carolyn Parker\nDr. Carolyn A. Parker is an Ethical Culturist\, coming late to the community but long holding the beliefs and values that led her to the Ethical Society of Austin and (now) the New York Society for Ethical Culture. She is an activist\, with experience in advocacy at local\, state\, and national levels. Her education gave her a background in the liberal arts and social sciences\, supporting her work in teaching\, writing\, and organizational management with an international perspective. Dr. Parker is currently the ESOA representative to the AEU Board and Secretary of the National Ethical Service.  She writes two blogs:  Happy(Ethical)Human and Biblioblog for Ethical Culture. \nWatch Online\nClick to join at start time | ID 863 0430 0961 | Passcode 609424\nTo join by phone (audio only)\, dial (929) 205-6099 and enter the Zoom ID above. \nMonthly Collection\nNot on My Watch \nAbout Sunday Platform\nSunday Platform is our most important and long-standing community event. These gatherings educate\, stimulate personal growth\, inspire reflection and action\, and strengthen our community. Sunday meetings begin with music\, followed by greetings and a talk given by a Society Leader\, member\, or guest.  Platforms cover a variety of topics that reflect current events\, pressing social issues\, and Humanist philosophy. Each Sunday meeting is followed by a luncheon and social hour. \nTo watch previous Sunday Platforms\, visit our Videos page and YouTube channel.
URL:https://ethical.nyc/events/sunday-platform-with-carolyn-parker-desperately-seeking-ethical-culture/
LOCATION:Ceremonial Hall (4th Floor)\, 2 W 64th St\, New York\, NY\, 10023\, United States
CATEGORIES:Sunday Platform
ATTACH;FMTTYPE=image/jpeg:https://ethical.nyc/wp-content/uploads/2024/03/c_parker.jpg
END:VEVENT
BEGIN:VEVENT
DTSTART;TZID=America/New_York:20240310T133000
DTEND;TZID=America/New_York:20240310T143000
DTSTAMP:20260421T085917
CREATED:20240310T023034Z
LAST-MODIFIED:20240310T023034Z
UID:10006612-1710077400-1710081000@ethical.nyc
SUMMARY:Cancelled - Ethics in the News (Hybrid)
DESCRIPTION:Notice: This week’s session has been cancelled \n— \nFree and open to the public\, in-Person and online! \nJoin in the lively give-and-take on compelling issues and current events and bring your own ideas. Member Joe Fashing moderates. \nTopic and Suggested Readings\nTBA
URL:https://ethical.nyc/events/cancelled-ethics-in-the-news-hybrid/
LOCATION:Adler Study (514)\, 2 W 64th St.\, New York\, NY\, 10023\, United States
CATEGORIES:Ethics in the News
ATTACH;FMTTYPE=image/jpeg:https://ethical.nyc/wp-content/uploads/2023/08/newspaper_stack.jpg
END:VEVENT
BEGIN:VEVENT
DTSTART;TZID=America/New_York:20240311T140000
DTEND;TZID=America/New_York:20240311T150000
DTSTAMP:20260421T085917
CREATED:20240305T230027Z
LAST-MODIFIED:20240308T211956Z
UID:10006490-1710165600-1710169200@ethical.nyc
SUMMARY:Practical Ethics: 'The Ties That Bind: What Duties Do We Owe and To Whom?'
DESCRIPTION:Free in-person and online! \nIn this program we’ll explore the ethics of living by reading a short story that highlights an ethical dilemma. The stories are generally available\, and they can also be obtained from the Society approximately two weeks before the session upon request to mdetermann@nysec.org or rkoral@nysec.org. \nThe story we’ll be discussing is: \n\n“Freedom From Want” by Joan Silber\n\nFacilitated by Leader Richard Koral. 2nd Mondays at 2:00pm. \nJoin Online\nClick to join at start | Zoom ID 838 1778 1084 | Passcode 675527
URL:https://ethical.nyc/events/practical-ethics-the-ties-that-bind-what-duties-do-we-owe-and-to-whom/
LOCATION:Adler Study (514)\, 2 W 64th St.\, New York\, NY\, 10023\, United States
CATEGORIES:Practical Ethics
ATTACH;FMTTYPE=image/jpeg:https://ethical.nyc/wp-content/uploads/2023/07/practical_2023.jpg
END:VEVENT
BEGIN:VEVENT
DTSTART;TZID=America/New_York:20240311T170000
DTEND;TZID=America/New_York:20240311T180000
DTSTAMP:20260421T085917
CREATED:20240117T162926Z
LAST-MODIFIED:20240312T193919Z
UID:10005783-1710176400-1710180000@ethical.nyc
SUMMARY:Say Yes to Science with Dr. Carol Portlock
DESCRIPTION:Every 2nd and 4th Monday at 5:00pm retired oncologist and Society Member Dr. Carol Portlock reviews new and intriguing science in multiple fields\, including those relevant to COVID and beyond. \nFree and open to the public! \nNEW: These sessions are recorded\, with the video available for 30 days following each session. For access\, please contact Communications Manager Ed Beck at ebeck@nysec.org. \nSuggested Readings\nLong-COVID ‘brain fog’ may be due to leaky blood-brain barrier\, study finds\nhttps://www.theguardian.com/society/2024/feb/22/long-covid-brain-fog-may-be-due-to-leaky-blood-brain-barrier-study \nBrains Are Not Required When It Comes to Thinking and Solving Problems–Simple Cells Can Do It\nhttps://www.scientificamerican.com/article/brains-are-not-required-when-it-comes-to-thinking-and-solving-problems-simple-cells-can-do-it/ \nMicroplastics found in every human placenta tested in study\nhttps://www.theguardian.com/environment/2024/feb/27/microplastics-found-every-human-placenta-tested-study-health-impact \nMicroplastics are A Big Problem\, a New Film Warns\nhttps://www.nytimes.com/2024/03/09/health/microplastics-sxsw-health-plastic-people.html \nScientists grow “mini-organs” from cells shed by fetuses in womb\nhttps://www.theguardian.com/science/2024/mar/04/scientists-grow-mini-organs-from-cells-shed-by-foetuses-in-womb \n\nThe world’s oldest forest discovered near Albany NY\n\nhttps://www.bbc.com/travel/article/20240229-the-surprising-us-region-thats-home-to-the-worlds-oldest-forestsBlack hole challenging physics and understanding the size of the universe https://www.npr.org/2024/02/20/1232653636/massive-black-hole-discovery-quasar\nJoin Online\nClick to join at start | Zoom ID 840 9262 7426 | Passcode 745338 \n(Photo by Edward Jenner)
URL:https://ethical.nyc/events/say-yes-to-science-with-dr-carol-portlock-3/
CATEGORIES:Say Yes to Science
ATTACH;FMTTYPE=image/jpeg:https://ethical.nyc/wp-content/uploads/2023/12/syts2.jpg
END:VEVENT
BEGIN:VEVENT
DTSTART;TZID=America/New_York:20240312T120000
DTEND;TZID=America/New_York:20240312T140000
DTSTAMP:20260421T085917
CREATED:20240227T214107Z
LAST-MODIFIED:20240227T214126Z
UID:10006482-1710244800-1710252000@ethical.nyc
SUMMARY:Lunch with the League: The Evolving Role of Women in Politics
DESCRIPTION:Join the League of Women Voters NYC\, Council Member Gale Brewer\, and Ruth Messinger as we discuss the changing role of women in politics. \nTickets\n$20 Advance • $25 at the door\nClick here to purchase tickets on Eventbrite \nAbout the League of Women Voters NYC\nVisit the League of Women Voters in the City of New York at lwvnyc.org.
URL:https://ethical.nyc/events/lunch-with-the-league-the-evolving-role-of-women-in-politics/
LOCATION:Ceremonial Hall (4th Floor)\, 2 W 64th St\, New York\, NY\, 10023\, United States
CATEGORIES:League of Women Voters
ATTACH;FMTTYPE=image/jpeg:https://ethical.nyc/wp-content/uploads/2024/02/lwvlunch_2024mar.jpeg
END:VEVENT
BEGIN:VEVENT
DTSTART;TZID=America/New_York:20240312T170000
DTEND;TZID=America/New_York:20240312T174500
DTSTAMP:20260421T085917
CREATED:20231213T202716Z
LAST-MODIFIED:20240419T183927Z
UID:10005795-1710262800-1710265500@ethical.nyc
SUMMARY:Midweek Meditation (Online)
DESCRIPTION:A midweek meditation for relaxing body and mind. Begins promptly at 5:00pm. Larry Hurst and Sondra Stein moderate. \nNew Participants: Please join 10 minutes early to introduce yourself\, otherwise you will not be allowed to enter. The meeting waiting room will close 5 minutes after the session begins\, with exceptions made only for regular attendees. \nJoin Online\nClick to join at start | Zoom ID 865 0709 1351 | Passcode 134918 \n(Photo by Nicollazzi Xiong)
URL:https://ethical.nyc/events/midweek-meditation/2024-03-12/
LOCATION:Online
CATEGORIES:Midweek Meditation
ATTACH;FMTTYPE=image/jpeg:https://ethical.nyc/wp-content/uploads/2023/06/meditation_sm.jpg
END:VEVENT
BEGIN:VEVENT
DTSTART;TZID=America/New_York:20240313T190000
DTEND;TZID=America/New_York:20240313T200000
DTSTAMP:20260421T085917
CREATED:20240210T070813Z
LAST-MODIFIED:20240313T153409Z
UID:10006471-1710356400-1710360000@ethical.nyc
SUMMARY:Speaking of Science with Kristin Taylor: 'Plastics in Focus: Balancing Innovation with Environmental Responsibility' (Online)
DESCRIPTION:Join us for a talk by Kristin Taylor\, Director and Origination Lead at Closed Loop Partners\, a New York-based investment firm focused on building the circular economy. Q&A follows! \nAbout Kristin Taylor\nKristin has a master’s degree in Plastics Engineering and over 25 years of experience in plastics and packaging. She spent nearly a decade with ExxonMobil where she worked with packaging teams at many of the major brands including Proctor & Gamble\, Unilever\, Colgate and Frito Lay. She also spent time in Global Business Development for SABIC and Huntsman Corporation before running her own plastics start-up focused on developing biodegradable films for packaging\, agriculture and industrial applications. Kristin joined Closed Loop Partners in 2022 where she manages Origination for the firm’s catalytic capital vertical\, the Closed Loop Infrastructure Group. Kristin lends her extensive technical and plastics industry expertise to advise on deal flow across the firm and acts as the company’s representative at the Association of Plastics Recyclers (APR) and The Recycling Partnership’s Films & Flexibles and Polypropylene Coalitions. \nJoin Online\nClick to join at start | Zoom ID 889 8668 1869 | Passcode 518208\nTo join by phone (audio only)\, dial (929) 205-6099 and enter the Zoom ID above.
URL:https://ethical.nyc/events/speaking-of-science-with-kristin-taylor-of-closed-loop-partners-online/
LOCATION:Online
CATEGORIES:Speaking of Science
ATTACH;FMTTYPE=image/jpeg:https://ethical.nyc/wp-content/uploads/2024/02/science_2024mar.jpg
END:VEVENT
BEGIN:VEVENT
DTSTART;TZID=America/New_York:20240315T193000
DTEND;TZID=America/New_York:20240315T223000
DTSTAMP:20260421T085917
CREATED:20230920T162551Z
LAST-MODIFIED:20240313T201355Z
UID:10005694-1710531000-1710541800@ethical.nyc
SUMMARY:CANCELLED - Metropolitan Entertainment Presents: Dervish
DESCRIPTION:Notice: Due to unforeseen circumstances this concert has been cancelled. \n*** \nThis concert is presented and managed by Metropolitan Entertainment.
URL:https://ethical.nyc/events/concert-metropolitan-entertainment-presents-dervish/
LOCATION:Adler Hall\, 2 W 64th St\, New York\, NY\, 10023\, United States
CATEGORIES:Concert
ATTACH;FMTTYPE=image/jpeg:https://ethical.nyc/wp-content/uploads/2023/09/dervish_2024march.jpeg
END:VEVENT
BEGIN:VEVENT
DTSTART;TZID=America/New_York:20240316T180000
DTEND;TZID=America/New_York:20240316T193000
DTSTAMP:20260421T085917
CREATED:20240117T155358Z
LAST-MODIFIED:20240315T203555Z
UID:10005778-1710612000-1710617400@ethical.nyc
SUMMARY:Piano Concert: Raj Bhimani
DESCRIPTION:Join us for a special performance by pianist Raj Bhimani! \nProgram\n\nGermaine Tailleferre: Overture and Three Movements from the opera Il était un Petit Navire\nMaurice Ravel: Sonatine\nFrédéric Chopin: 24 Preludes\, Op. 28\n\nTickets\n$20 Students\, Seniors\, and Society Members • $25 Public • $30 at The Door \nClick Here to Purchase Tickets on Eventbrite! \nAbout Raj Bhimani\nPianist Raj Bhimani’s concerts are “virtuosic\, heartfelt and eloquent\,” writes New York Times critic Michael Kimmelman. Time Out NY noted him as being a “gifted and highly expressive pianist.” Performing regularly across North America and Europe\, he also makes frequent appearances in India\, where the nationally distributed newspaper The Hindu wrote\, “Raj Bhimani is a very sensitive piano player\, with a predilection for lyrical melody accompanied with rhythmic gracefulness.” In New York\, where he resides\, he appears often at The Library for the Performing Arts at Lincoln Center as well as at other venues. \nMr. Bhimani is a champion of new music and has developed a particular expertise in French piano literature. During his time studying in Paris he had the opportunity to meet composer Henri Dutilleux\, who declared him “a great artist who plays with sensitivity and intelligence.” In 2016\, to mark what would have been the composer’s 100th birthday\, Mr. Bhimani gave several performances of his works\, including the Preludes\, which Mr. Bhimani learned from handwritten manuscripts given to him by the composer before these works were published. \nAnother prominent French composer\, Thérèse Brenet\, has written several works especially for Mr. Bhimani. Two of Ms. Brenet’s compositions for Mr. Bhimani can be heard on a CD entitled “To the West Wind\,” on the Delatour label. A disc containing Schubert’s B-flat Sonata and Moments Musicaux was issued by Delatour in the same year. Two more works Ms. Brenet wrote for Mr. Bhimani were issued in 2014 on a disc entitled “Le Visionnaire\,” released by Musik Fabrik\, which has also released recordings of late solo works by Brahms as well as another disk dedicated to solo works by Ravel. All these recordings are available worldwide on numerous platforms. A recording dedicated to late sonatas of Schubert is in preparation\, and Mr. Bhimani is honored to be the first pianist invited to record previously-unpublished works by composer Germaine Tailleferre. This will be a multi-disk project. \nIn addition to solo recitals\, Mr. Bhimani also performs with Syrinx : XXII\, a group formed with musicians from Portugal. The trio performs regularly in the US\, Portugal\, and India\, and has premiered works written especially for them by composers in Portugal and Germany. \nFrequently sought after as a teacher and pedagogue\, Mr. Bhimani is known for guiding students from their first encounters with a piano up to concert level performances. His students have earned numerous prizes and have been heard in performance at Carnegie Hall\, Alice Tully Hall at Lincoln Center\, and other esteemed venues in New York and across the United States. He writes articles on teaching and performance for Serenade Magazine\, is a frequent judge and lecturer on piano pedagogy\, and has served on the board of The Leschetizky Association\, an organization committed to upholding the great pedagogue’s ideals of beautiful tone production and musical integrity. Mr. Bhimani is grateful to his own teachers: John Steele Ritter\, Peter Hewitt\, Nicole Henriot-Schweitzer\, Claude Frank\, and Seymour Bernstein. \nFollow Mr. Bhimani’s activities at his website\, RajBhimani.com\, like his page on Facebook\, follow him on Instagram\, or subscribe to his channel on YouTube. \n(Photo by Jiyang Chen)
URL:https://ethical.nyc/events/piano-concert-raj-bhimani/
LOCATION:Adler Hall\, 2 W 64th St\, New York\, NY\, 10023\, United States
CATEGORIES:Concert
ATTACH;FMTTYPE=image/jpeg:https://ethical.nyc/wp-content/uploads/2024/01/bhimani.jpg
END:VEVENT
END:VCALENDAR