BEGIN:VCALENDAR
VERSION:2.0
PRODID:-//The New York Society for Ethical Culture - ECPv6.15.18//NONSGML v1.0//EN
CALSCALE:GREGORIAN
METHOD:PUBLISH
X-WR-CALNAME:The New York Society for Ethical Culture
X-ORIGINAL-URL:https://ethical.nyc
X-WR-CALDESC:Events for The New York Society for Ethical Culture
REFRESH-INTERVAL;VALUE=DURATION:PT1H
X-Robots-Tag:noindex
X-PUBLISHED-TTL:PT1H
BEGIN:VTIMEZONE
TZID:America/New_York
BEGIN:DAYLIGHT
TZOFFSETFROM:-0500
TZOFFSETTO:-0400
TZNAME:EDT
DTSTART:20230312T070000
END:DAYLIGHT
BEGIN:STANDARD
TZOFFSETFROM:-0400
TZOFFSETTO:-0500
TZNAME:EST
DTSTART:20231105T060000
END:STANDARD
BEGIN:DAYLIGHT
TZOFFSETFROM:-0500
TZOFFSETTO:-0400
TZNAME:EDT
DTSTART:20240310T070000
END:DAYLIGHT
BEGIN:STANDARD
TZOFFSETFROM:-0400
TZOFFSETTO:-0500
TZNAME:EST
DTSTART:20241103T060000
END:STANDARD
BEGIN:DAYLIGHT
TZOFFSETFROM:-0500
TZOFFSETTO:-0400
TZNAME:EDT
DTSTART:20250309T070000
END:DAYLIGHT
BEGIN:STANDARD
TZOFFSETFROM:-0400
TZOFFSETTO:-0500
TZNAME:EST
DTSTART:20251102T060000
END:STANDARD
END:VTIMEZONE
BEGIN:VEVENT
DTSTART;TZID=America/New_York:20240317T113000
DTEND;TZID=America/New_York:20240317T121500
DTSTAMP:20260423T072607
CREATED:20240302T222141Z
LAST-MODIFIED:20240311T051344Z
UID:10006486-1710675000-1710677700@ethical.nyc
SUMMARY:Sunday Platform with Joe Chuman and Leonard Grob: The Israel-Hamas War and the Day After
DESCRIPTION:Free and open to the public\, in-person and online! \nI had an unusual opportunity last month to travel Israel to get sense of Israeli society in person and on the ground. I met with representatives of civil society to hear from them their response to their government\, the devastating war in Gaza\, and the efforts at mutual support in light of the massacre of October 7th. \nIn my presentation of March 17th I want to share what I saw and learned as well as relate the context for these very disturbing events. \nI will be joined by Professor Leonard Grob. Professor Grob is a Holocaust scholar. His research has led to a life long commitment to fostering peace between Israelis and Palestinians. He has done much work on site in the Middle East. In more recent decades\, Dr. Grob has served as president\, and now vice-president\, of Partners for a Progressive Israel\, which has become a significant actor in attempting to bring an end to the conflict. Our discussion will include thoughts on plans for long range peace after the current violence comes to an end. \nI hope you can join me for an important discussion. \nWatch Online\nClick to join at start time | ID 863 0430 0961 | Passcode 609424\nTo join by phone (audio only)\, dial (929) 205-6099 and enter the Zoom ID above. \nMonthly Collection\nTBA \nAbout Sunday Platform\nSunday Platform is our most important and long-standing community event. These gatherings educate\, stimulate personal growth\, inspire reflection and action\, and strengthen our community. Sunday meetings begin with music\, followed by greetings and a talk given by a Society Leader\, member\, or guest.  Platforms cover a variety of topics that reflect current events\, pressing social issues\, and Humanist philosophy. Each Sunday meeting is followed by a luncheon and social hour. \nTo watch previous Sunday Platforms\, visit our Videos page and YouTube channel.
URL:https://ethical.nyc/events/sunday-platform-with-joe-chuman-the-israel-hamas-war-and-the-day-after/
LOCATION:Ceremonial Hall (4th Floor)\, 2 W 64th St\, New York\, NY\, 10023\, United States
CATEGORIES:Sunday Platform
ATTACH;FMTTYPE=image/jpeg:https://ethical.nyc/wp-content/uploads/2024/03/chuman_grob_2024.jpg
END:VEVENT
BEGIN:VEVENT
DTSTART;TZID=America/New_York:20240317T150000
DTEND;TZID=America/New_York:20240317T170000
DTSTAMP:20260423T072607
CREATED:20231212T215812Z
LAST-MODIFIED:20250207T174041Z
UID:10005717-1710687600-1710694800@ethical.nyc
SUMMARY:Sold Out! - John McDonagh Presents: 'Off The Meter'
DESCRIPTION:“He’s an unfailingly affable raconteur… It’s all fascinating stuff.” –The New Yorker \n“An absorbing portrait of a city and society in continual flux\, as told by someone who has lived through it\, Off the Meter\, on the Record makes for an extremely satisfying journey.”  —The Epoch Times \n“Uproarious and moving” –TheaterScene \n“Hilarious…It’s hard to think of anyone who could do justice to the New York cabby’s life better than John McDonagh.” –Theatre’s Leiter Side \n“It’s a gem!” –Curtain Up \n“Had Mark Twain driven a yellow cab instead of a riverboat\, his stories might’ve been like those of populist raconteur John McDonagh.” —Woman Around Town \nJoin us for a special performance of Off The Meter with playwright and actor John McDonagh! \nA comedic glimpse into 40 years behind the wheel of a New York City yellow taxi\, Off The Meter is a pithy social commentary from New York’s most recognizable cab driver about life spent behind the wheel. \nJohn McDonagh\, veteran radio host\, has condensed thirty-plus years of activism\, reality show antics and observation into a love song to the city that never sleeps. \nFrom the plight of the NYC homeless to the crazy demands of Upper East Side matrons\, McDonagh brings the audience from laughter to tears and back again faster than the apparition of umbrella dealers on a rainy day. Throw in his tales of brushes with the rich and famous\, and you have Irish storytelling at its best. Learn more at offthemeter.net. \n \nTickets\nSold Out! \nAbout John McDonagh: Playwright\, Cab Driver\, Comic and Political Activist\nOff The Meter represents the culmination of a forty year career of driving a yellow cab while trying to make a difference in the world. He is currently producer and host of Radio Free Eireann and Talk Mac\, We and Thee with Malachy McCourt and Corey Kilgannon\, weekly radio shows heard on Pacifica station WBAI\, New York.  John began his career as a NYC Yellow cab driver after serving in the U.S. Army in Germany during the Vietnam War. He has been writing and performing at Caroline’s\, the Comic Strip\, the Huntington Cinema Arts Center\, NY Society for Ethical Culture\, the Puffin Room SOHO\, and Rocky Sullivan’s pub among others.  John is an active member of Irish American Writers and Artists.   As a political activist\, John was a monitor in the Nicaraguan elections in 1990\, organized “Cabbies Against Bush” campaign in NYC during the 2004 republican convention\, was editor of the Irish People newspaper\, hosted an Irish radio show in Perth\, Australia\, works with Veterans for peace\, and is the go-to voice of Irish American activism.  John was featured in the BBC program Steven Fry in America.
URL:https://ethical.nyc/events/off-the-meter-with-john-mcdonagh/
LOCATION:Ceremonial Hall (4th Floor)\, 2 W 64th St\, New York\, NY\, 10023\, United States
CATEGORIES:Theater
ATTACH;FMTTYPE=image/jpeg:https://ethical.nyc/wp-content/uploads/2023/12/offthemeter_2024mar.jpg
END:VEVENT
BEGIN:VEVENT
DTSTART;TZID=America/New_York:20240318T110000
DTEND;TZID=America/New_York:20240318T120000
DTSTAMP:20260423T072608
CREATED:20231213T201152Z
LAST-MODIFIED:20240304T001236Z
UID:10004808-1710759600-1710763200@ethical.nyc
SUMMARY:Mindful Mondays with Dr. Frank Corigliano: Exploring Psychology\, Science\, and Ethics (Online)
DESCRIPTION:Join Society Member and Clinical Psychologist Dr. Frank J. Corigliano on the first and third Monday of every month for a 45-minute online session exploring participant-driven topics in psychology and science from an ethical perspective. This program is open to everyone\, and we welcome you to join us for a thought-provoking discussion! \nJoin Online\nClick to join at start | Zoom ID 838 1778 1084 | Passcode 675527 \n(Photo by Edward Jenner)
URL:https://ethical.nyc/events/say-yes-to-science-with-dr-frank-corigliano-online-2024-03-18/
LOCATION:NY
CATEGORIES:Say Yes to Science
ATTACH;FMTTYPE=image/jpeg:https://ethical.nyc/wp-content/uploads/2023/12/syts2.jpg
END:VEVENT
BEGIN:VEVENT
DTSTART;TZID=America/New_York:20240319T170000
DTEND;TZID=America/New_York:20240319T174500
DTSTAMP:20260423T072608
CREATED:20231213T202716Z
LAST-MODIFIED:20240419T183927Z
UID:10005796-1710867600-1710870300@ethical.nyc
SUMMARY:Midweek Meditation (Online)
DESCRIPTION:A midweek meditation for relaxing body and mind. Begins promptly at 5:00pm. Larry Hurst and Sondra Stein moderate. \nNew Participants: Please join 10 minutes early to introduce yourself\, otherwise you will not be allowed to enter. The meeting waiting room will close 5 minutes after the session begins\, with exceptions made only for regular attendees. \nJoin Online\nClick to join at start | Zoom ID 865 0709 1351 | Passcode 134918 \n(Photo by Nicollazzi Xiong)
URL:https://ethical.nyc/events/midweek-meditation/2024-03-19/
LOCATION:Online
CATEGORIES:Midweek Meditation
ATTACH;FMTTYPE=image/jpeg:https://ethical.nyc/wp-content/uploads/2023/06/meditation_sm.jpg
END:VEVENT
BEGIN:VEVENT
DTSTART;TZID=America/New_York:20240319T190000
DTEND;TZID=America/New_York:20240319T200000
DTSTAMP:20260423T072608
CREATED:20240318T140109Z
LAST-MODIFIED:20240318T140109Z
UID:10006614-1710874800-1710878400@ethical.nyc
SUMMARY:Camaraderie and Conversation with Leader Joe Chuman: The Biden Candidacy
DESCRIPTION:Leader Dr. Joe Chuman leads this monthly discussion group focusing on contemporary issues and occasionally classical writings relating to Ethical Culture and Humanism. We will primarily make use of articles from journals of opinion and book chapters when relevant. Rather than taking a merely journalistic approach\, the discussions will aim to illuminate the philosophical concepts and values which underlie the issues being discussed. 3rd Tuesdays. \nSuggested Readings\nBiden is Still the Democrats Best Bet for November – The Atlantic \nJoin Online\nClick here to join at start time | Zoom ID 853 3773 6864 | Passcode 708211
URL:https://ethical.nyc/events/camaraderie-and-conversation-with-leader-joe-chuman-the-biden-candidacy/
LOCATION:Online
ATTACH;FMTTYPE=image/jpeg:https://ethical.nyc/wp-content/uploads/2023/12/chuman_2024_lg.jpg
END:VEVENT
BEGIN:VEVENT
DTSTART;TZID=America/New_York:20240320T090000
DTEND;TZID=America/New_York:20240320T140000
DTSTAMP:20260423T072608
CREATED:20240228T190209Z
LAST-MODIFIED:20240228T195259Z
UID:10006483-1710925200-1710943200@ethical.nyc
SUMMARY:Gandhi-King Season for Nonviolence 2024
DESCRIPTION:FREE and Open to the Public — All are encouraged to attend! \nFeaturing iconic historic civil rights movement keynote speakers and engaging student/youth and intergenerational presentations including spoken word\, singing\, dancing\, plus interactive United Nations Flags of The World Ceremony\, and more! \nLearn more at gandhikingsfn.com \nRSVP\nClick here to RSVP on Eventbrite
URL:https://ethical.nyc/events/gandhi-king-season-for-nonviolence-2/
LOCATION:Adler Hall\, 2 W 64th St\, New York\, NY\, 10023\, United States
ATTACH;FMTTYPE=image/jpeg:https://ethical.nyc/wp-content/uploads/2021/03/Gandhi-King.jpg
END:VEVENT
BEGIN:VEVENT
DTSTART;TZID=America/New_York:20240320T190000
DTEND;TZID=America/New_York:20240320T210000
DTSTAMP:20260423T072608
CREATED:20231221T210430Z
LAST-MODIFIED:20231221T210430Z
UID:10005750-1710961200-1710968400@ethical.nyc
SUMMARY:Great Literature Discussion: Malpertuis by Jean Ray (Online)
DESCRIPTION:Join our twice-monthly online discussions exploring great works together. All are welcome to join and any edition or translation of the book under discussion can be used. See the full list of upcoming books here. \nModerated by Ethical NYC member Gunther Tielemans. 1st and 3rd Wednesdays. \nTo join the discussion\, please contact Gunther.
URL:https://ethical.nyc/events/great-literature-discussion-malpertuis-by-jean-ray-online/
LOCATION:NY
CATEGORIES:Great Literature Discussions
ATTACH;FMTTYPE=image/jpeg:https://ethical.nyc/wp-content/uploads/2023/01/greatlit_2023_sm.jpg
END:VEVENT
BEGIN:VEVENT
DTSTART;TZID=America/New_York:20240321T123000
DTEND;TZID=America/New_York:20240321T134500
DTSTAMP:20260423T072608
CREATED:20240306T221515Z
LAST-MODIFIED:20240306T221754Z
UID:10006611-1711024200-1711028700@ethical.nyc
SUMMARY:Let's Talk About It: What’s a College Education for Nowadays? (Hybrid)
DESCRIPTION:Free and open to the public every 3rd Thursday! In-person attendance is strongly encouraged\, but you can also join via Zoom. \nJoin these congenial sessions where moderators focus on thought-provoking subjects. You’ll always have access to the readings in advance so you can be prepared to come and discuss them. And you’re welcome to bring your lunch! \nOur March moderator is Elinore Kaplan. \nRecommended Readings\nWhy Free Speech Matters — College Is All About Curiosity. And That Requires Free Speech. – The New York Times \nThe Moral Deficiencies of a Liberal Education – The New York Times \nThe Decline of Liberal Arts and Humanities: Students discuss higher education and their choice of major. – The Wall Street Journal \nCan Humanities Survive the Budget Cuts? – The New York Times \nJoin Online\nClick to join at start | Zoom ID 835 7732 4417 | Passcode 341001
URL:https://ethical.nyc/events/lets-talk-about-it-whats-a-college-education-for-nowadays-hybrid/
LOCATION:Adler Study (514)\, 2 W 64th St.\, New York\, NY\, 10023\, United States
ATTACH;FMTTYPE=image/jpeg:https://ethical.nyc/wp-content/uploads/2023/12/letstalkaboutit.jpg
END:VEVENT
BEGIN:VEVENT
DTSTART;TZID=America/New_York:20240321T170000
DTEND;TZID=America/New_York:20240321T180000
DTSTAMP:20260423T072608
CREATED:20240126T185117Z
LAST-MODIFIED:20240126T185126Z
UID:10006402-1711040400-1711044000@ethical.nyc
SUMMARY:Storytelling Circle (Online)
DESCRIPTION:Free and open to the public online! \nOne of the oldest traditions around the world is storytelling — folk tales\, fairy tales\, historic tales\, family tales. Bring whatever story you choose. We’ll gather ’round the virtual campfire and listen. Our talented storytelling expert Doris Hart moderates. \nRead about Storytelling Circle in Time Magazine! \nJoin Online\nClick to join at start time | Zoom ID 885 4488 0162 | Passcode 089856
URL:https://ethical.nyc/events/storytelling-circle-2/2024-03-21/
LOCATION:Online
CATEGORIES:Storytelling Circle
ATTACH;FMTTYPE=image/jpeg:https://ethical.nyc/wp-content/uploads/2019/09/campfire.jpg
END:VEVENT
BEGIN:VEVENT
DTSTART;TZID=America/New_York:20240322T190000
DTEND;TZID=America/New_York:20240322T210000
DTSTAMP:20260423T072608
CREATED:20240122T055016Z
LAST-MODIFIED:20240126T201421Z
UID:10004871-1711134000-1711141200@ethical.nyc
SUMMARY:Humanist Happy Hour
DESCRIPTION:Our Humanist Happy Hour is back! Every month we’re hosting evening gatherings with drinks\, snacks\, and great conversation. \nLooking for Humanist community? Passionate about social justice? Curious about Humanism and the Society? Stop by and say hello–we hope to see you there! \nBOYB (no liquor). Snack potluck. Donations warmly encouraged to support this program: Give online here. \n \nGetting Here\nTransit: \n1: 66 St-Lincoln CenterA\, B\, C\, D\, 1: 59 St-Columbus CircleM10: Central Park W/W 64 StM10\, M20: Central Park W/W 63 StM66: W 65 St/Central Park WM5\, M7\, M104: Broadway/W 63 St \nLocation is subject to change for special events. Check website calendars and Meetup pages for various groups for updates and changes. \nThe default room is Ceremonial Hall on the 4th Floor\, subject to change depending on capacity or conflict with rentals. Check for any posted signs. \nWheelchair access: Use the ramp entrance for the Meeting House on West 64th St.\, not the Fieldston School. Press both doorbells if the door is locked. Elevator is directly inside. \nHumanist Happy Hour Partners\nOur friends at various Humanist groups are cross-posting this event. Some groups have after-parties. \nDrinking InquisitivelyCenter for Inquiry – NYC Branchhttps://cfi-nyc.org/https://www.meetup.com/cfinyc/ \nHumanist Happy HourThe City Congregation for Humanistic Judaismhttps://citycongregation.org/events-calendar/ \nLive DWAGotham Atheistshttps://gothamatheists.org/https://www.meetup.com/GothamAtheists/\nNYC Atheists In-Person Meetinghttps://nycatheists.org/calendar/https://www.meetup.com/nycatheists/ \nMulti-Group Happy Hour at Ethical CultureSecular Humanists Society of New Yorkhttps://www.shsny.org/events-calendarhttps://www.meetup.com/shsny-org/
URL:https://ethical.nyc/events/humanist-happy-hour-7/
LOCATION:Ceremonial Hall (4th Floor)\, 2 W 64th St\, New York\, NY\, 10023\, United States
CATEGORIES:Humanist Happy Hour
ATTACH;FMTTYPE=image/jpeg:https://ethical.nyc/wp-content/uploads/2024/01/hh4h_2024.jpg
END:VEVENT
BEGIN:VEVENT
DTSTART;TZID=America/New_York:20240323T140000
DTEND;TZID=America/New_York:20240323T160000
DTSTAMP:20260423T072608
CREATED:20240110T203510Z
LAST-MODIFIED:20240315T160305Z
UID:10004855-1711202400-1711209600@ethical.nyc
SUMMARY:Ethics and the Theater Presents: TRUE WEST by Sam Shepard
DESCRIPTION:Join us for a staged reading and talkback exploring the ethical issues raised by the play. Pre-show reception at 6:30pm! \nIn this American classic by Sam Shepard\, Austin is working on a script he has sold to producer Saul Kimmel\, when his brother Lee\, a demented petty thief\, drops in. Lee pitches his own idea for a movie to Kimmel\, who then wants Austin to junk his modern love story and write Lee’s trashy Western tale. \nStarring Todd Butera\, Chase Naylor\, Mark Hofmaier\, and Pat Debrovner \nDirected by David Adam Gill \nRSVP\nClick here to RSVP on Eventbrite
URL:https://ethical.nyc/events/ethics-and-the-theater-5/
LOCATION:Ceremonial Hall (4th Floor)\, 2 W 64th St\, New York\, NY\, 10023\, United States
CATEGORIES:Theater
ATTACH;FMTTYPE=image/jpeg:https://ethical.nyc/wp-content/uploads/2024/01/eitt_2024mar.jpg
END:VEVENT
BEGIN:VEVENT
DTSTART;TZID=America/New_York:20240323T190000
DTEND;TZID=America/New_York:20240323T210000
DTSTAMP:20260423T072608
CREATED:20240315T152007Z
LAST-MODIFIED:20240322T005207Z
UID:10006613-1711220400-1711227600@ethical.nyc
SUMMARY:Ethics and the Theater Encore: TRUE WEST by Sam Shepard
DESCRIPTION:Join us for a staged reading and talkback exploring the ethical issues raised by the play. Pre-show reception at 6:30pm! \nIn this American classic by Sam Shepard\, Austin is working on a script he has sold to producer Saul Kimmel\, when his brother Lee\, a demented petty thief\, drops in. Lee pitches his own idea for a movie to Kimmel\, who then wants Austin to junk his modern love story and write Lee’s trashy Western tale. \nStarring Todd Butera\, Chase Naylor\, Mark Hofmaier\, and Pat Debrovner \nDirected by David Adam Gill \nRSVP\nClick here to RSVP on Eventbrite
URL:https://ethical.nyc/events/ethics-and-the-theater-true-west/
LOCATION:Ceremonial Hall (4th Floor)\, 2 W 64th St\, New York\, NY\, 10023\, United States
CATEGORIES:Theater
ATTACH;FMTTYPE=image/jpeg:https://ethical.nyc/wp-content/uploads/2024/01/eitt_2024mar.jpg
END:VEVENT
END:VCALENDAR