BEGIN:VCALENDAR
VERSION:2.0
PRODID:-//The New York Society for Ethical Culture - ECPv6.15.18//NONSGML v1.0//EN
CALSCALE:GREGORIAN
METHOD:PUBLISH
X-WR-CALNAME:The New York Society for Ethical Culture
X-ORIGINAL-URL:https://ethical.nyc
X-WR-CALDESC:Events for The New York Society for Ethical Culture
REFRESH-INTERVAL;VALUE=DURATION:PT1H
X-Robots-Tag:noindex
X-PUBLISHED-TTL:PT1H
BEGIN:VTIMEZONE
TZID:America/New_York
BEGIN:DAYLIGHT
TZOFFSETFROM:-0500
TZOFFSETTO:-0400
TZNAME:EDT
DTSTART:20230312T070000
END:DAYLIGHT
BEGIN:STANDARD
TZOFFSETFROM:-0400
TZOFFSETTO:-0500
TZNAME:EST
DTSTART:20231105T060000
END:STANDARD
BEGIN:DAYLIGHT
TZOFFSETFROM:-0500
TZOFFSETTO:-0400
TZNAME:EDT
DTSTART:20240310T070000
END:DAYLIGHT
BEGIN:STANDARD
TZOFFSETFROM:-0400
TZOFFSETTO:-0500
TZNAME:EST
DTSTART:20241103T060000
END:STANDARD
BEGIN:DAYLIGHT
TZOFFSETFROM:-0500
TZOFFSETTO:-0400
TZNAME:EDT
DTSTART:20250309T070000
END:DAYLIGHT
BEGIN:STANDARD
TZOFFSETFROM:-0400
TZOFFSETTO:-0500
TZNAME:EST
DTSTART:20251102T060000
END:STANDARD
END:VTIMEZONE
BEGIN:VEVENT
DTSTART;TZID=America/New_York:20240331T110000
DTEND;TZID=America/New_York:20240331T121500
DTSTAMP:20260425T082721
CREATED:20240303T040509Z
LAST-MODIFIED:20240311T204306Z
UID:10006488-1711882800-1711887300@ethical.nyc
SUMMARY:American Ethical Union All-Societies Platform: Opening the Door for Democracy with YVote
DESCRIPTION:Free and open to the public online! \nYVote is creating a youth-led civic movement. We equip young people to channel their passions into positive action—at and beyond the ballot box. \nSanda Balaban\, co-founder of YVote\, and Audrey Kindred\, of the New York Society for Ethical Culture\, will present on how they collaborate to bring Voter and civic engagement activities to hundreds of youth in ongoing democracy reinforcing programs. They will show how other Ethical Societies can do similar civics / voter actions. \nThe program will include youth who will tell of their concerns and how YVote has prepared them for action and leadership. \nRSVP\nClick here to RSVP to join on Zoom \nAbout Sanda Balaban\nSanda Balaban is passionate about helping young people understand their individual and collective power\, at and beyond the ballot box. In response to the complex times we’re living in\, the vulnerability of democracy being demonstrated\, and the desire to support young people in being on the front lines of change\, she co-founded and directs cross-partisan youth civic engagement nonprofit YVote / Next Generation Politics\, aiming to equip leaders of tomorrow for their roles and responsibilities as citizens shaping a more just world. \nSanda has held leadership roles in education and youth development for over 25 years\, in the public sector at the New York City Department of Education\, in education philanthropy at the Ford Foundation and the Goldman Sachs Foundation\, and in nonprofits including Facing History and Ourselves\, the Boston Private Industry Council\, and The Teachers Network. \nSanda is proud to serve on the founding Board of Directors of Generation Vote and The Hope Reichbach Memorial Fund and on the National Reader Advisory Board for Chalkbeat. She is a magna cum laude graduate of Swarthmore College and Harvard Graduate School of Education. \nAbout Audrey Kindred\nAudrey Kindred is Director of Ethical Education for children\, youth & families at The New York Society For Ethical Culture.
URL:https://ethical.nyc/events/american-ethical-union-all-societies-platform-opening-the-door-for-democracy-with-yvote/
LOCATION:Online
CATEGORIES:Sunday Platform
ATTACH;FMTTYPE=image/png:https://ethical.nyc/wp-content/uploads/2024/03/yvote-change.png
END:VEVENT
BEGIN:VEVENT
DTSTART;TZID=America/New_York:20240401T110000
DTEND;TZID=America/New_York:20240401T120000
DTSTAMP:20260425T082721
CREATED:20231213T201152Z
LAST-MODIFIED:20240304T003034Z
UID:10004810-1711969200-1711972800@ethical.nyc
SUMMARY:Mindful Mondays with Dr. Frank Corigliano: Exploring Psychology\, Science\, and Ethics (Online)
DESCRIPTION:Join Society Member and Clinical Psychologist Dr. Frank J. Corigliano on the first and third Monday of every month for a 45-minute online session exploring participant-driven topics in psychology and science from an ethical perspective. This program is open to everyone\, and we welcome you to join us for a thought-provoking discussion! \nJoin Online\nClick to join at start | Zoom ID 838 1778 1084 | Passcode 675527 \n(Photo by Edward Jenner)
URL:https://ethical.nyc/events/say-yes-to-science-with-dr-frank-corigliano-online-2024-04-01/
LOCATION:NY
CATEGORIES:Share and Learn
ATTACH;FMTTYPE=image/jpeg:https://ethical.nyc/wp-content/uploads/2023/12/syts2.jpg
END:VEVENT
BEGIN:VEVENT
DTSTART;TZID=America/New_York:20240401T190000
DTEND;TZID=America/New_York:20240401T200000
DTSTAMP:20260425T082721
CREATED:20240205T201952Z
LAST-MODIFIED:20240722T212712Z
UID:10006739-1711998000-1712001600@ethical.nyc
SUMMARY:Getting to Know You (Online)
DESCRIPTION:Join us online! \nGet to know our Ethical Culture family in a comfortable\, casual way. Each session features a pair of members in a dialogue with one another\, each responding to a few questions she or he has submitted to the other to be asked. Except for one question about their experience at NYSEC\, the other questions can be about whatever they choose (growing up\, career\, interests\, travels… whatever). Following the dialog with one\, and then the other\, we — members only — can add our questions. 1st Mondays. \nNotice: This session is limited to Society Members. The session’s join link will be provided to Members via email. \nIf you’d like to be a dialogue partner at one of our programs\, Email editor Elinore Kaplan at Outlook at: ethicaloutlook@gmail.com
URL:https://ethical.nyc/events/getting-to-know-you-online-10/2024-04-01/
LOCATION:Online
CATEGORIES:Getting to Know You
ATTACH;FMTTYPE=image/jpeg:https://ethical.nyc/wp-content/uploads/2021/11/mosaic-1024x497.jpg
END:VEVENT
BEGIN:VEVENT
DTSTART;TZID=America/New_York:20240402T100000
DTEND;TZID=America/New_York:20240402T110000
DTSTAMP:20260425T082721
CREATED:20240130T144018Z
LAST-MODIFIED:20240130T144018Z
UID:10006436-1712052000-1712055600@ethical.nyc
SUMMARY:Poetry Circle (Online)
DESCRIPTION:Bring a favorite poem (or poems) to our monthly online poetry circle! \nRead it aloud\, and we’ll listen attentively together and discuss—a line\, a word\, an image\, or an overall feeling. You’re welcome to give us a couple of sentences about the poet\, too. Elinore Kaplan moderates. \nIf you wish to share a poem\, please send it to Elinore in advance so it can be shared on-screen with participants: ethicaloutlook@gmail.com. \nJoin Online\nClick to join at start | Zoom ID 838 1778 1084 | Passcode 675527 \n(Photo by Suzy Hazelwood)
URL:https://ethical.nyc/events/poetry-circle-online-3/2024-04-02/
LOCATION:Online
CATEGORIES:Poetry
ATTACH;FMTTYPE=image/jpeg:https://ethical.nyc/wp-content/uploads/2021/12/poetry_banner.jpg
END:VEVENT
BEGIN:VEVENT
DTSTART;TZID=America/New_York:20240402T170000
DTEND;TZID=America/New_York:20240402T174500
DTSTAMP:20260425T082721
CREATED:20231213T202716Z
LAST-MODIFIED:20240419T183927Z
UID:10005798-1712077200-1712079900@ethical.nyc
SUMMARY:Midweek Meditation (Online)
DESCRIPTION:A midweek meditation for relaxing body and mind. Begins promptly at 5:00pm. Larry Hurst and Sondra Stein moderate. \nNew Participants: Please join 10 minutes early to introduce yourself\, otherwise you will not be allowed to enter. The meeting waiting room will close 5 minutes after the session begins\, with exceptions made only for regular attendees. \nJoin Online\nClick to join at start | Zoom ID 865 0709 1351 | Passcode 134918 \n(Photo by Nicollazzi Xiong)
URL:https://ethical.nyc/events/midweek-meditation/2024-04-02/
LOCATION:Online
CATEGORIES:Midweek Meditation
ATTACH;FMTTYPE=image/jpeg:https://ethical.nyc/wp-content/uploads/2023/06/meditation_sm.jpg
END:VEVENT
BEGIN:VEVENT
DTSTART;TZID=America/New_York:20240403T190000
DTEND;TZID=America/New_York:20240403T210000
DTSTAMP:20260425T082721
CREATED:20231221T210534Z
LAST-MODIFIED:20231221T210534Z
UID:10005751-1712170800-1712178000@ethical.nyc
SUMMARY:Great Literature Discussion: Notes of a Crocodile by Qiu Miaojin (Online)
DESCRIPTION:Join our twice-monthly online discussions exploring great works together. All are welcome to join and any edition or translation of the book under discussion can be used. See the full list of upcoming books here. \nModerated by Ethical NYC member Gunther Tielemans. 1st and 3rd Wednesdays. \nTo join the discussion\, please contact Gunther.
URL:https://ethical.nyc/events/great-literature-discussion-notes-of-a-crocodile-by-qiu-miaojin-online/
LOCATION:NY
CATEGORIES:Great Literature Discussions
ATTACH;FMTTYPE=image/jpeg:https://ethical.nyc/wp-content/uploads/2023/01/greatlit_2023_sm.jpg
END:VEVENT
BEGIN:VEVENT
DTSTART;TZID=America/New_York:20240405T190000
DTEND;TZID=America/New_York:20240405T210000
DTSTAMP:20260425T082721
CREATED:20240126T201618Z
LAST-MODIFIED:20240905T133844Z
UID:10006416-1712343600-1712350800@ethical.nyc
SUMMARY:Humanist Happy Hour
DESCRIPTION:Stop by our twice-monthly gathering of NYC’s Humanist\, atheist\, agnostic\, and secularist groups featuring drinks\, snacks\, and great conversation. We hope to see you there! \nBYOB (no liquor). Snack potluck. Donations warmly encouraged to support this program: Give online here. \n \nGetting Here\nTransit: \n1: 66 St-Lincoln CenterA\, B\, C\, D\, 1: 59 St-Columbus CircleM10: Central Park W/W 64 StM10\, M20: Central Park W/W 63 StM66: W 65 St/Central Park WM5\, M7\, M104: Broadway/W 63 St \nLocation is subject to change for special events. Check website calendars and Meetup pages for various groups for updates and changes. \nThe default room is Ceremonial Hall on the 4th Floor\, subject to change depending on capacity or conflict with rentals. Check for any posted signs. \nWheelchair access: Use the ramp entrance for the Meeting House on West 64th St.\, not the Fieldston School. Press both doorbells if the door is locked. Elevator is directly inside. \nHumanist Happy Hour Partners\nOur friends at various Humanist groups are cross-posting this event. Some groups have after-parties. \nCenter for Inquiry – NYChttps://cfi-nyc.org/https://www.meetup.com/cfinyc/ \nThe City Congregation for Humanistic Judaismhttps://citycongregation.org/events-calendar/ \nGotham Atheistshttps://gothamatheists.org/https://www.meetup.com/GothamAtheists/\nNYC Atheistshttps://nycatheists.org/calendar/https://www.meetup.com/nycatheists/ \nSecular Humanist Society of New Yorkhttps://www.shsny.org/events-calendarhttps://www.meetup.com/shsny-org/
URL:https://ethical.nyc/events/humanist-happy-hour-8/2024-04-05/
LOCATION:Ceremonial Hall (4th Floor)\, 2 W 64th St\, New York\, NY\, 10023\, United States
CATEGORIES:Humanist Happy Hour
ATTACH;FMTTYPE=image/jpeg:https://ethical.nyc/wp-content/uploads/2024/01/hh4h_2024.jpg
END:VEVENT
BEGIN:VEVENT
DTSTART;TZID=America/New_York:20240406T100000
DTEND;TZID=America/New_York:20240406T123000
DTSTAMP:20260425T082721
CREATED:20240327T175522Z
LAST-MODIFIED:20240327T175522Z
UID:10006630-1712397600-1712406600@ethical.nyc
SUMMARY:Fight Voter Suppression: Reclaim Our Vote Postcard Writing Gathering
DESCRIPTION:We’re in this together to fight voter suppression in our Souther States! \nJoin us for another Reclaim Our Vote postcard writing event on Saturday\, April 6 from 10:00am-12:30pm in Ceremonial Hall at the New York Society for Ethical Culture\, 2 West 64th Street sponsored by the Social Service Board of NYSEC. \nWhether you want to just pick up a packet of Reclaim Our Vote postcards with the addresses\, script and instruction sheet or join others to write postcards together\, your voice and effort is needed to help fight voter suppression. \nIf you cannot make this event but wish to participate in writing postcards\, email rov.nysec@gmail.com to learn how to get involved.
URL:https://ethical.nyc/events/fight-voter-suppression-reclaim-our-vote-postcard-writing-gathering/
LOCATION:Ceremonial Hall (4th Floor)\, 2 W 64th St\, New York\, NY\, 10023\, United States
CATEGORIES:Ethics in Action
ATTACH;FMTTYPE=image/jpeg:https://ethical.nyc/wp-content/uploads/2024/02/rov_banner.jpeg
END:VEVENT
END:VCALENDAR