BEGIN:VCALENDAR
VERSION:2.0
PRODID:-//The New York Society for Ethical Culture - ECPv6.15.18//NONSGML v1.0//EN
CALSCALE:GREGORIAN
METHOD:PUBLISH
X-WR-CALNAME:The New York Society for Ethical Culture
X-ORIGINAL-URL:https://ethical.nyc
X-WR-CALDESC:Events for The New York Society for Ethical Culture
REFRESH-INTERVAL;VALUE=DURATION:PT1H
X-Robots-Tag:noindex
X-PUBLISHED-TTL:PT1H
BEGIN:VTIMEZONE
TZID:America/New_York
BEGIN:DAYLIGHT
TZOFFSETFROM:-0500
TZOFFSETTO:-0400
TZNAME:EDT
DTSTART:20230312T070000
END:DAYLIGHT
BEGIN:STANDARD
TZOFFSETFROM:-0400
TZOFFSETTO:-0500
TZNAME:EST
DTSTART:20231105T060000
END:STANDARD
BEGIN:DAYLIGHT
TZOFFSETFROM:-0500
TZOFFSETTO:-0400
TZNAME:EDT
DTSTART:20240310T070000
END:DAYLIGHT
BEGIN:STANDARD
TZOFFSETFROM:-0400
TZOFFSETTO:-0500
TZNAME:EST
DTSTART:20241103T060000
END:STANDARD
BEGIN:DAYLIGHT
TZOFFSETFROM:-0500
TZOFFSETTO:-0400
TZNAME:EDT
DTSTART:20250309T070000
END:DAYLIGHT
BEGIN:STANDARD
TZOFFSETFROM:-0400
TZOFFSETTO:-0500
TZNAME:EST
DTSTART:20251102T060000
END:STANDARD
END:VTIMEZONE
BEGIN:VEVENT
DTSTART;TZID=America/New_York:20240616T110000
DTEND;TZID=America/New_York:20240616T121500
DTSTAMP:20260420T172430
CREATED:20240525T040202Z
LAST-MODIFIED:20240610T060402Z
UID:10006697-1718535600-1718540100@ethical.nyc
SUMMARY:Society Annual Meeting and Activities Fair (Members Only)
DESCRIPTION:In-person and online! \nMembers only. A link to the meeting and online ballot will be provided directly to Society Members.
URL:https://ethical.nyc/events/annual-meeting-and-activities-fair-members-only/
LOCATION:Ceremonial Hall (4th Floor)\, 2 W 64th St\, New York\, NY\, 10023\, United States
CATEGORIES:Sunday Platform
ATTACH;FMTTYPE=image/jpeg:https://ethical.nyc/wp-content/uploads/2021/09/newbldg_sm-red.jpg
END:VEVENT
BEGIN:VEVENT
DTSTART;TZID=America/New_York:20240616T140000
DTEND;TZID=America/New_York:20240616T170000
DTSTAMP:20260420T172430
CREATED:20240522T023747Z
LAST-MODIFIED:20240605T194613Z
UID:10006684-1718546400-1718557200@ethical.nyc
SUMMARY:LumiSense: Journée de l'Enfant Africain & Father's Day All-Ages Dance Celebration
DESCRIPTION:Hosted by the Society’s Young Ethical Explorers\, join us for this free all-ages dance performance in historic Adler Hall in honor of Journée de l’Enfant Africain\, the International Day of the African Child\, and Father’s Day. Free pizza after! \nFeaturing our friend Simba Yangala\, JungleDom Network\, and Kamutshima Dance Troupe. \nJoin us at 2:00pm for a social hour with the performers and facepainting on our roof! \nPerformance at 3:00pm \nCreators and Performers\nSimba Sandra Yangala • Seika Afiya Hana • Elika Hirano • Alec Lichtenberg • Mark Hana • Natasha Lee Vega Colón • Maria Sosa • Juan David Viveros\nRSVP\nRSVP here on Eventbrite
URL:https://ethical.nyc/events/lumisense-a-dance-performance-for-all-ages-with-simba-yangala-jungledom-network-the-kamutshima-dance-troupe/
LOCATION:Adler Hall\, 2 W 64th St\, New York\, NY\, 10023\, United States
CATEGORIES:Youth and Families
ATTACH;FMTTYPE=image/jpeg:https://ethical.nyc/wp-content/uploads/2024/05/lumisense_j5.jpg
END:VEVENT
BEGIN:VEVENT
DTSTART;TZID=America/New_York:20240617T110000
DTEND;TZID=America/New_York:20240617T114500
DTSTAMP:20260420T172430
CREATED:20231213T201152Z
LAST-MODIFIED:20240603T142034Z
UID:10004814-1718622000-1718624700@ethical.nyc
SUMMARY:Mindful Mondays with Dr. Frank Corigliano: Exploring Psychology\, Science\, and Ethics (Online)
DESCRIPTION:Join Society Member and Clinical Psychologist Dr. Frank J. Corigliano on the first and third Monday of every month for a 45-minute online session exploring participant-driven topics in psychology and science from an ethical perspective. This program is open to everyone\, and we welcome you to join us for a thought-provoking discussion! \nJoin Online\nClick to join at start | Zoom ID 838 1778 1084 | Passcode 675527 \n(Photo by Edward Jenner)
URL:https://ethical.nyc/events/say-yes-to-science-with-dr-frank-corigliano-online-2024-06-17/
CATEGORIES:Share and Learn
ATTACH;FMTTYPE=image/jpeg:https://ethical.nyc/wp-content/uploads/2023/12/psych_sm.jpg
END:VEVENT
BEGIN:VEVENT
DTSTART;TZID=America/New_York:20240618T170000
DTEND;TZID=America/New_York:20240618T174500
DTSTAMP:20260420T172430
CREATED:20231213T202716Z
LAST-MODIFIED:20240419T183927Z
UID:10005809-1718730000-1718732700@ethical.nyc
SUMMARY:Midweek Meditation (Online)
DESCRIPTION:A midweek meditation for relaxing body and mind. Begins promptly at 5:00pm. Larry Hurst and Sondra Stein moderate. \nNew Participants: Please join 10 minutes early to introduce yourself\, otherwise you will not be allowed to enter. The meeting waiting room will close 5 minutes after the session begins\, with exceptions made only for regular attendees. \nJoin Online\nClick to join at start | Zoom ID 865 0709 1351 | Passcode 134918 \n(Photo by Nicollazzi Xiong)
URL:https://ethical.nyc/events/midweek-meditation/2024-06-18/
LOCATION:Online
CATEGORIES:Midweek Meditation
ATTACH;FMTTYPE=image/jpeg:https://ethical.nyc/wp-content/uploads/2023/06/meditation_sm.jpg
END:VEVENT
BEGIN:VEVENT
DTSTART;TZID=America/New_York:20240618T190000
DTEND;TZID=America/New_York:20240618T200000
DTSTAMP:20260420T172430
CREATED:20240618T145229Z
LAST-MODIFIED:20240618T145229Z
UID:10006715-1718737200-1718740800@ethical.nyc
SUMMARY:Camaraderie and Conversation with Leader Joe Chuman: Let's Talk About Trump's Gibberish
DESCRIPTION:Leader Dr. Joe Chuman leads this monthly discussion group focusing on contemporary issues and occasionally classical writings relating to Ethical Culture and Humanism. We will primarily make use of articles from journals of opinion and book chapters when relevant. Rather than taking a merely journalistic approach\, the discussions will aim to illuminate the philosophical concepts and values which underlie the issues being discussed. 3rd Tuesdays. \nSuggested Readings\nLet’s Talk About Trump’s Gibberish – by Tom Nichols – The Atlantic \nJoin Online\nClick here to join at start time | Zoom ID 853 3773 6864 | Passcode 708211
URL:https://ethical.nyc/events/camaraderie-and-conversation-with-leader-joe-chuman-lets-talk-about-trumps-gibberish/
LOCATION:Online
ATTACH;FMTTYPE=image/jpeg:https://ethical.nyc/wp-content/uploads/2023/12/chuman_2024_lg.jpg
END:VEVENT
BEGIN:VEVENT
DTSTART;TZID=America/New_York:20240618T190000
DTEND;TZID=America/New_York:20240618T203000
DTSTAMP:20260420T172430
CREATED:20240524T204853Z
LAST-MODIFIED:20240524T204853Z
UID:10006688-1718737200-1718742600@ethical.nyc
SUMMARY:Data for Democracy: The Essential Role of Guttmacher Evidence in a Post-Roe World
DESCRIPTION:Free in-person and online! \nReproductive freedom and bodily autonomy\, which are core tenets of democracy\, are on the ballot as we witness proliferation of abortion bans\, attacks on contraception\, restrictions on gender-affirming care\, and ongoing attacks on facts and good science. \nJoin Guttmacher Institute experts\, their partners in the US and global reproductive rights movements\, and the New York Society for Ethical Culture for a dynamic discussion two years after the US Supreme Court overturned Roe v. Wade. \nSpeakers\n\nDestiny Lopez – Acting Co-CEO\, Guttmacher Institute\nKelly Baden – Vice President for Public Policy\, Guttmacher Institute\nCandace Gibson – Director of State Policy\, Guttmacher Institute\nJennifer Driver – Senior Director of Reproductive Rights\, State Innovation Exchange\nPaula Avila-Guillen – Executive Director\, Women’s Equality Center\n\nRSVP\nFREE! – Click here to RSVP to attend in-person or online via Zoom
URL:https://ethical.nyc/events/data-for-democracy-the-essential-role-of-guttmacher-evidence-in-a-post-roe-world/
LOCATION:Adler Hall\, 2 W 64th St\, New York\, NY\, 10023\, United States
ATTACH;FMTTYPE=image/jpeg:https://ethical.nyc/wp-content/uploads/2024/05/June-18-zoom-banner-1-scaled.jpg
END:VEVENT
BEGIN:VEVENT
DTSTART;VALUE=DATE:20240619
DTEND;VALUE=DATE:20240620
DTSTAMP:20260420T172430
CREATED:20240617T142937Z
LAST-MODIFIED:20240617T142937Z
UID:10006709-1718755200-1718841599@ethical.nyc
SUMMARY:Juneteenth - Society Closed
DESCRIPTION:The Society will be closed on Wednesday\, June 19 in honor of Juneteenth.
URL:https://ethical.nyc/events/juneteenth-society-closed/
ATTACH;FMTTYPE=image/jpeg:https://ethical.nyc/wp-content/uploads/2021/09/newbldg_sm-red.jpg
END:VEVENT
BEGIN:VEVENT
DTSTART;TZID=America/New_York:20240619T190000
DTEND;TZID=America/New_York:20240619T210000
DTSTAMP:20260420T172430
CREATED:20231221T211727Z
LAST-MODIFIED:20231221T211727Z
UID:10004824-1718823600-1718830800@ethical.nyc
SUMMARY:Great Literature Discussion: The White Shroud by Antanas Škėma (Online)
DESCRIPTION:Join our twice-monthly online discussions exploring great works together. All are welcome to join and any edition or translation of the book under discussion can be used. See the full list of upcoming books here. \nModerated by Ethical NYC member Gunther Tielemans. 1st and 3rd Wednesdays. \nTo join the discussion\, please contact Gunther.
URL:https://ethical.nyc/events/great-literature-discussion-the-white-shroud-by-antanas-skema-online/
CATEGORIES:Great Literature Discussions
ATTACH;FMTTYPE=image/jpeg:https://ethical.nyc/wp-content/uploads/2023/01/greatlit_2023_sm.jpg
END:VEVENT
BEGIN:VEVENT
DTSTART;TZID=America/New_York:20240620T170000
DTEND;TZID=America/New_York:20240620T180000
DTSTAMP:20260420T172430
CREATED:20240126T185117Z
LAST-MODIFIED:20240126T185126Z
UID:10006405-1718902800-1718906400@ethical.nyc
SUMMARY:Storytelling Circle (Online)
DESCRIPTION:Free and open to the public online! \nOne of the oldest traditions around the world is storytelling — folk tales\, fairy tales\, historic tales\, family tales. Bring whatever story you choose. We’ll gather ’round the virtual campfire and listen. Our talented storytelling expert Doris Hart moderates. \nRead about Storytelling Circle in Time Magazine! \nJoin Online\nClick to join at start time | Zoom ID 885 4488 0162 | Passcode 089856
URL:https://ethical.nyc/events/storytelling-circle-2/2024-06-20/
LOCATION:Online
CATEGORIES:Storytelling Circle
ATTACH;FMTTYPE=image/jpeg:https://ethical.nyc/wp-content/uploads/2019/09/campfire.jpg
END:VEVENT
BEGIN:VEVENT
DTSTART;TZID=America/New_York:20240622T100000
DTEND;TZID=America/New_York:20240622T123000
DTSTAMP:20260420T172430
CREATED:20240610T062817Z
LAST-MODIFIED:20240705T210524Z
UID:10006706-1719050400-1719059400@ethical.nyc
SUMMARY:Fight Voter Suppression and Protect Abortion in Florida: Reclaim Our Vote Postcard Writing Gathering
DESCRIPTION:We’re in this together to fight voter suppression in our southern states! \nJoin us for another Reclaim Our Vote postcard writing event sponsored by the Social Service Board of Ethical NYC. This session will focus on postcards being sent to Florida\, in particular to encourage them to vote to pass an amendment to guarantee access to abortion. \nDrinks and snacks provided! \nWhether you want to just pick up a packet of Reclaim Our Vote postcards with the addresses\, script and instruction sheet or join others to write postcards together\, your voice and effort is needed to help fight voter suppression. \nIf you cannot make this event but wish to participate in writing postcards\, email rov.nysec@gmail.com to learn how to get involved.
URL:https://ethical.nyc/events/fight-voter-suppression-reclaim-our-vote-postcard-writing-gathering-2/
LOCATION:Ceremonial Hall (4th Floor)\, 2 W 64th St\, New York\, NY\, 10023\, United States
CATEGORIES:Ethics in Action
ATTACH;FMTTYPE=image/jpeg:https://ethical.nyc/wp-content/uploads/2024/02/rov_banner.jpeg
END:VEVENT
END:VCALENDAR