BEGIN:VCALENDAR
VERSION:2.0
PRODID:-//The New York Society for Ethical Culture - ECPv6.15.18//NONSGML v1.0//EN
CALSCALE:GREGORIAN
METHOD:PUBLISH
X-WR-CALNAME:The New York Society for Ethical Culture
X-ORIGINAL-URL:https://ethical.nyc
X-WR-CALDESC:Events for The New York Society for Ethical Culture
REFRESH-INTERVAL;VALUE=DURATION:PT1H
X-Robots-Tag:noindex
X-PUBLISHED-TTL:PT1H
BEGIN:VTIMEZONE
TZID:America/New_York
BEGIN:DAYLIGHT
TZOFFSETFROM:-0500
TZOFFSETTO:-0400
TZNAME:EDT
DTSTART:20230312T070000
END:DAYLIGHT
BEGIN:STANDARD
TZOFFSETFROM:-0400
TZOFFSETTO:-0500
TZNAME:EST
DTSTART:20231105T060000
END:STANDARD
BEGIN:DAYLIGHT
TZOFFSETFROM:-0500
TZOFFSETTO:-0400
TZNAME:EDT
DTSTART:20240310T070000
END:DAYLIGHT
BEGIN:STANDARD
TZOFFSETFROM:-0400
TZOFFSETTO:-0500
TZNAME:EST
DTSTART:20241103T060000
END:STANDARD
BEGIN:DAYLIGHT
TZOFFSETFROM:-0500
TZOFFSETTO:-0400
TZNAME:EDT
DTSTART:20250309T070000
END:DAYLIGHT
BEGIN:STANDARD
TZOFFSETFROM:-0400
TZOFFSETTO:-0500
TZNAME:EST
DTSTART:20251102T060000
END:STANDARD
END:VTIMEZONE
BEGIN:VEVENT
DTSTART;TZID=America/New_York:20240818T110000
DTEND;TZID=America/New_York:20240818T121500
DTSTAMP:20260421T000235
CREATED:20240801T140646Z
LAST-MODIFIED:20240801T193822Z
UID:10006753-1723978800-1723983300@ethical.nyc
SUMMARY:Richard Koral: 'Why Can People be So Annoying? How to Elicit the Best From the Worst'
DESCRIPTION:Free and open to the public\, in-person and online! \nJoin us as Leader Dr. Richard Koral explores the more frustrating aspects of being social creatures\, and how we can strive to bring out the best in one another.\nWatch Online\nClick to join at start time | ID 863 0430 0961 | Passcode 609424\nTo join by phone (audio only)\, dial (929) 205-6099 and enter the Zoom ID above. \nAbout Richard Koral\nRichard Koral is Leader at the New York Society for Ethical Culture and the Ethical Humanist Society of Long Island. He attended The Humanist Institute and holds a Doctor of Ministry in Interfaith Pastoral Counseling as well as a J.D. degree. Richard is a long-time member of the Ethical Culture Society of Westchester and served as president of the American Ethical Union\, the national federation of Ethical Societies\, from 2012 to 2015. \nMonthly Collection\nProject Renewal \nAbout Sunday Platform\nSunday Platform is our most important and long-standing community event. These gatherings educate\, stimulate personal growth\, inspire reflection and action\, and strengthen our community. Sunday meetings begin with music\, followed by greetings and a talk given by a Society Leader\, member\, or guest.  Platforms cover a variety of topics that reflect current events\, pressing social issues\, and Humanist philosophy. Each Sunday meeting is followed by a luncheon and social hour. \nTo watch previous Sunday Platforms\, visit our Videos page and YouTube channel.
URL:https://ethical.nyc/events/sunday-platform-with-richard-koral-2/
LOCATION:Ceremonial Hall (4th Floor)\, 2 W 64th St\, New York\, NY\, 10023\, United States
CATEGORIES:Sunday Platform
ATTACH;FMTTYPE=image/jpeg:https://ethical.nyc/wp-content/uploads/2024/04/koral_2024apr.jpeg
END:VEVENT
BEGIN:VEVENT
DTSTART;TZID=America/New_York:20240819T170000
DTEND;TZID=America/New_York:20240819T180000
DTSTAMP:20260421T000235
CREATED:20240801T170708Z
LAST-MODIFIED:20240817T144422Z
UID:10006756-1724086800-1724090400@ethical.nyc
SUMMARY:Say Yes to Science with Dr. Carol Portlock (Online)
DESCRIPTION:Free and open to the public! \nNotice: In August\, Dr. Carol Portlock will host on the 1st and 3rd Mondays. \nEvery 2nd and 4th Monday at 5:00pm retired oncologist and Society Member Dr. Carol Portlock reviews new and intriguing science in multiple fields\, including those relevant to COVID and beyond. \nNEW: These sessions are recorded\, with the video available for 30 days following each session. For access\, please contact Communications Manager Ed Beck at ebeck@nysec.org. \nSuggested readings\nThe monetary value of childhood vaccines to the U S\nhttps://www.nytimes.com/2024/08/09/health/childhood-vaccines.html \nDetecting poliovirus in Gaza leads to vaccination effort\nhttps://www.bbc.com/news/articles/c5yd3g1vw79o \nDo cats experience grief?\nhttps://www.npr.org/2024/08/08/nx-s1-5066480/cats-grief-research \nStrategies to reduce or delay dementia\nhttps://www.theguardian.com/society/article/2024/jul/31/almost-half-of-dementia-cases-could-be-prevented-or-delayed-study-finds \nNYC Subway air pollution is significant\nhttps://www.theguardian.com/us-news/article/2024/aug/07/new-york-city-subway-hazardous-air \nCan geoengineering be utilized to control global warming?\nhttps://www.ucsusa.org/resources/what-solar-geoengineering\nhttps://www.nytimes.com/2024/08/01/climate/david-keith-solar-geoengineering.html \nJoin Online\nClick to join at start | Zoom ID 840 9262 7426 | Passcode 745338 \n(Photo by Edward Jenner)
URL:https://ethical.nyc/events/say-yes-to-science-with-dr-carol-portlock-online-4/
LOCATION:Online
CATEGORIES:Say Yes to Science
ATTACH;FMTTYPE=image/jpeg:https://ethical.nyc/wp-content/uploads/2024/06/science_2024_sm.jpg
END:VEVENT
BEGIN:VEVENT
DTSTART;TZID=America/New_York:20240820T170000
DTEND;TZID=America/New_York:20240820T174500
DTSTAMP:20260421T000235
CREATED:20231213T202716Z
LAST-MODIFIED:20240419T183927Z
UID:10005818-1724173200-1724175900@ethical.nyc
SUMMARY:Midweek Meditation (Online)
DESCRIPTION:A midweek meditation for relaxing body and mind. Begins promptly at 5:00pm. Larry Hurst and Sondra Stein moderate. \nNew Participants: Please join 10 minutes early to introduce yourself\, otherwise you will not be allowed to enter. The meeting waiting room will close 5 minutes after the session begins\, with exceptions made only for regular attendees. \nJoin Online\nClick to join at start | Zoom ID 865 0709 1351 | Passcode 134918 \n(Photo by Nicollazzi Xiong)
URL:https://ethical.nyc/events/midweek-meditation/2024-08-20/
LOCATION:Online
CATEGORIES:Midweek Meditation
ATTACH;FMTTYPE=image/jpeg:https://ethical.nyc/wp-content/uploads/2023/06/meditation_sm.jpg
END:VEVENT
BEGIN:VEVENT
DTSTART;TZID=America/New_York:20240821T190000
DTEND;TZID=America/New_York:20240821T210000
DTSTAMP:20260421T000235
CREATED:20231221T211918Z
LAST-MODIFIED:20231221T211918Z
UID:10004840-1724266800-1724274000@ethical.nyc
SUMMARY:Great Literature Discussion: The Blind Owl by Sadegh Hedayat (Online)
DESCRIPTION:Join our twice-monthly online discussions exploring great works together. All are welcome to join and any edition or translation of the book under discussion can be used. See the full list of upcoming books here. \nModerated by Ethical NYC member Gunther Tielemans. 1st and 3rd Wednesdays. \nTo join the discussion\, please contact Gunther.
URL:https://ethical.nyc/events/great-literature-discussion-the-blind-owl-by-sadegh-hedayat-online/
CATEGORIES:Great Literature Discussions
ATTACH;FMTTYPE=image/jpeg:https://ethical.nyc/wp-content/uploads/2023/01/greatlit_2023_sm.jpg
END:VEVENT
BEGIN:VEVENT
DTSTART;TZID=America/New_York:20240823T190000
DTEND;TZID=America/New_York:20240823T210000
DTSTAMP:20260421T000235
CREATED:20240126T201725Z
LAST-MODIFIED:20240126T201725Z
UID:10006429-1724439600-1724446800@ethical.nyc
SUMMARY:Humanist Happy Hour
DESCRIPTION:Our Humanist Happy Hour is back! Every month we’re hosting evening gatherings with drinks\, snacks\, and great conversation. \nLooking for Humanist community? Passionate about social justice? Curious about Humanism and the Society? Stop by and say hello–we hope to see you there! \nBOYB (no liquor). Snack potluck. Donations warmly encouraged to support this program: Give online here. \n \nGetting Here\nTransit: \n1: 66 St-Lincoln CenterA\, B\, C\, D\, 1: 59 St-Columbus CircleM10: Central Park W/W 64 StM10\, M20: Central Park W/W 63 StM66: W 65 St/Central Park WM5\, M7\, M104: Broadway/W 63 St \nLocation is subject to change for special events. Check website calendars and Meetup pages for various groups for updates and changes. \nThe default room is Ceremonial Hall on the 4th Floor\, subject to change depending on capacity or conflict with rentals. Check for any posted signs. \nWheelchair access: Use the ramp entrance for the Meeting House on West 64th St.\, not the Fieldston School. Press both doorbells if the door is locked. Elevator is directly inside. \nHumanist Happy Hour Partners\nOur friends at various Humanist groups are cross-posting this event. Some groups have after-parties. \nDrinking InquisitivelyCenter for Inquiry – NYC Branchhttps://cfi-nyc.org/https://www.meetup.com/cfinyc/ \nHumanist Happy HourThe City Congregation for Humanistic Judaismhttps://citycongregation.org/events-calendar/ \nLive DWAGotham Atheistshttps://gothamatheists.org/https://www.meetup.com/GothamAtheists/\nNYC Atheists In-Person Meetinghttps://nycatheists.org/calendar/https://www.meetup.com/nycatheists/ \nMulti-Group Happy Hour at Ethical CultureSecular Humanists Society of New Yorkhttps://www.shsny.org/events-calendarhttps://www.meetup.com/shsny-org/
URL:https://ethical.nyc/events/humanist-happy-hour-9/2024-08-23/
LOCATION:Ceremonial Hall (4th Floor)\, 2 W 64th St\, New York\, NY\, 10023\, United States
CATEGORIES:Humanist Happy Hour
ATTACH;FMTTYPE=image/jpeg:https://ethical.nyc/wp-content/uploads/2024/01/hh4h_2024.jpg
END:VEVENT
END:VCALENDAR